Workbook

Sheet Eotaxin
A1: 实验时间 | B1: 43362
A2: 操作人 | B2: 马霄、刘佳、蔡辉霞
A3: 实验方法：ELISA | B3: ELISA法
A4: 实验结果
A5: 人嗜酸性粒细胞趋化蛋白（Eotaxin）检测数据
A6: 公司编号 | B6: OD值
B7: 平行1 | C7: 平行2 | D7: 平行3 | E7: 平均值 | F7: 标准差 | G7: 浓度（pg/mL）
A8: M1801-01 | B8: 0.3018 | C8: 0.2294 | D8: 0.2503 | E8: =AVERAGE(B8:D8) -> 0.2605 | F8: =STDEV(B8:D8) -> 0.037262179 | G8: =5*(E8-0.0409)/0.0416 -> 26.394231
A9: M1801-02 | B9: 0.321 | C9: 0.3116 | D9: 0.3563 | E9: =AVERAGE(B9:D9) -> 0.32963333 | F9: =STDEV(B9:D9) -> 0.023567421 | G9: =5*(E9-0.0409)/0.0416 -> 34.703526
A10: M1801-03 | B10: 0.1641 | C10: 0.0899 | D10: 0.1147 | E10: =AVERAGE(B10:D10) -> 0.1229 | F10: =STDEV(B10:D10) -> 0.037773536 | G10: =5*(E10-0.0409)/0.0416 -> 9.8557692
A11: M1801-04 | B11: 0.1793 | C11: 0.1257 | D11: 0.1754 | E11: =AVERAGE(B11:D11) -> 0.16013333 | F11: =STDEV(B11:D11) -> 0.029883831 | G11: =5*(E11-0.0409)/0.0416 -> 14.330929
A12: M1801-05 | B12: 0.222 | C12: 0.2404 | D12: 0.2595 | E12: =AVERAGE(B12:D12) -> 0.24063333 | F12: =STDEV(B12:D12) -> 0.018751089 | G12: =5*(E12-0.0409)/0.0416 -> 24.00641
A13: M1801-06 | B13: 0.1713 | C13: 0.1464 | D13: 0.1539 | E13: =AVERAGE(B13:D13) -> 0.1572 | F13: =STDEV(B13:D13) -> 0.012773801 | G13: =5*(E13-0.0409)/0.0416 -> 13.978365
A14: M1801-07 | B14: 0.1545 | C14: 0.2355 | D14: 0.2509 | E14: =AVERAGE(B14:D14) -> 0.21363333 | F14: =STDEV(B14:D14) -> 0.051786613 | G14: =5*(E14-0.0409)/0.0416 -> 20.761218
A15: M1801-08 | B15: 0.7425 | C15: 0.6691 | D15: 0.747 | E15: =AVERAGE(B15:D15) -> 0.71953333 | F15: =STDEV(B15:D15) -> 0.043734464 | G15: =5*(E15-0.0409)/0.0416 -> 81.566506
A16: M1801-09 | B16: 0.1833 | C16: 0.1823 | D16: 0.1903 | E16: =AVERAGE(B16:D16) -> 0.1853 | F16: =STDEV(B16:D16) -> 0.0043588989 | G16: =5*(E16-0.0409)/0.0416 -> 17.355769
A17: M1801-10 | B17: 0.4685 | C17: 0.4681 | D17: 0.504 | E17: =AVERAGE(B17:D17) -> 0.4802 | F17: =STDEV(B17:D17) -> 0.020612375 | G17: =5*(E17-0.0409)/0.0416 -> 52.800481
A18: M1801-11 | B18: 2.5559 | C18: 2.3935 | D18: 2.5765 | E18: =AVERAGE(B18:D18) -> 2.5086333 | F18: =STDEV(B18:D18) -> 0.10023898 | G18: =5*(E18-0.0409)/0.0416 -> 296.60256
A19: M1801-12 | B19: 0.1976 | C19: 0.2078 | D19: 0.226 | E19: =AVERAGE(B19:D19) -> 0.21046667 | F19: =STDEV(B19:D19) -> 0.014386568 | G19: =5*(E19-0.0409)/0.0416 -> 20.380609
... A37: M1801-30 | B37: 0.0803 | C37: 0.0742 | D37: 0.1067 | E37: =AVERAGE(B37:D37) -> 0.087066667 | F37: =STDEV(B37:D37) -> 0.017274355 | G37: =5*(E37-0.0409)/0.0416 -> 5.5488782
A38: M1801-31 | B38: 0.2586 | C38: 0.1808 | D38: 0.3002 | E38: =AVERAGE(B38:D38) -> 0.24653333 | F38: =STDEV(B38:D38) -> 0.0606077 | G38: =5*(E38-0.0882)/0.0349 -> 22.683859
A39: M1801-32 | B39: 0.0794 | C39: 0.0445 | D39: 0.0572 | E39: =AVERAGE(B39:D39) -> 0.060366667 | F39: =STDEV(B39:D39) -> 0.017664182 | G39: =5*(E39-0.0882)/0.0349 -> -3.9875836
A40: M1801-33 | B40: 0.1319 | C40: 0.1443 | D40: 0.1774 | E40: =AVERAGE(B40:D40) -> 0.1512 | F40: =STDEV(B40:D40) -> 0.023521692 | G40: =5*(E40-0.0882)/0.0349 -> 9.025788
A41: M1801-34 | B41: 0.139 | C41: 0.0779 | D41: 0.1687 | E41: =AVERAGE(B41:D41) -> 0.12853333 | F41: =STDEV(B41:D41) -> 0.04629604 | G41: =5*(E41-0.0882)/0.0349 -> 5.7784145
A42: M1801-35 | B42: 0.0629 | C42: 0.0331 | D42: 0.0313 | E42: =AVERAGE(B42:D42) -> 0.042433333 | F42: =STDEV(B42:D42) -> 0.017747488 | G42: =5*(E42-0.0882)/0.0349 -> -6.556829
A43: M1801-36 | B43: 0.1044 | C43: 0.0928 | D43: 0.0917 | E43: =AVERAGE(B43:D43) -> 0.0963 | F43: =STDEV(B43:D43) -> 0.0070363343 | G43: =5*(E43-0.0882)/0.0349 -> 1.1604585
A44: M1801-37 | B44: 0.1587 | C44: 0.2061 | D44: 0.142 | E44: =AVERAGE(B44:D44) -> 0.16893333 | F44: =STDEV(B44:D44) -> 0.033252719 | G44: =5*(E44-0.0882)/0.0349 -> 11.56638
A45: M1801-38 | B45: 0.1915 | C45: 0.1477 | D45: 0.1587 | E45: =AVERAGE(B45:D45) -> 0.16596667 | F45: =STDEV(B45:D45) -> 0.022786253 | G45: =5*(E45-0.0882)/0.0349 -> 11.141356
A46: M1801-39 | B46: 0.1503 | C46: 0.2496 | D46: 0.1404 | E46: =AVERAGE(B46:D46) -> 0.1801 | F46: =STDEV(B46:D46) -> 0.06039197 | G46: =5*(E46-0.0882)/0.0349 -> 13.166189
A47: M1801-40 | B47: 0.1856 | C47: 0.1594 | D47: 0.2036 | E47: =AVERAGE(B47:D47) -> 0.18286667 | F47: =STDEV(B47:D47) -> 0.022226411 | G47: =5*(E47-0.0882)/0.0349 -> 13.56256
A48: M1801-41 | B48: 1.2713 | C48: 1.1213 | D48: 1.0831 | E48: =AVERAGE(B48:D48) -> 1.1585667 | F48: =STDEV(B48:D48) -> 0.099480718 | G48: =5*(E48-0.0882)/0.0349 -> 153.34766
A49: M1801-42 | B49: 0.0501 | C49: 0 | D49: 0.1217 | E49: =AVERAGE(B49:D49) -> 0.057266667 | F49: =STDEV(B49:D49) -> 0.061165704 | G49: =5*(E49-0.0882)/0.0349 -> -4.4317096
... A67: M1801-60 | B67: 2.2635 | C67: 2.4292 | D67: 2.3182 | E67: =AVERAGE(B67:D67) -> 2.3369667 | F67: =STDEV(B67:D67) -> 0.084429043 | G67: =5*(E67-0.0882)/0.0349 -> 322.17287
A68: M1801-61 | B68: 0.3513 | C68: 0.3011 | D68: 0.3164 | E68: =AVERAGE(B68:D68) -> 0.32293333 | F68: =STDEV(B68:D68) -> 0.025729814 | G68: =5*(E68-0.0403)/0.0474 -> 29.813643
A69: M1801-62 | B69: 0.1513 | C69: 0.1526 | D69: 0.1183 | E69: =AVERAGE(B69:D69) -> 0.14073333 | F69: =STDEV(B69:D69) -> 0.019438707 | G69: =5*(E69-0.0403)/0.0474 -> 10.594233
A70: M1801-63 | B70: 0.1348 | C70: 0.121 | D70: 0.136 | E70: =AVERAGE(B70:D70) -> 0.1306 | F70: =STDEV(B70:D70) -> 0.0083354664 | G70: =5*(E70-0.0403)/0.0474 -> 9.5253165
A71: M1801-64 | B71: 0.0806 | C71: 0.0577 | D71: 0.0981 | E71: =AVERAGE(B71:D71) -> 0.0788 | F71: =STDEV(B71:D71) -> 0.020260059 | G71: =5*(E71-0.0403)/0.0474 -> 4.0611814
A72: M1801-65 | B72: 0.0969 | C72: 0.1273 | D72: 0.0868 | E72: =AVERAGE(B72:D72) -> 0.10366667 | F72: =STDEV(B72:D72) -> 0.021080876 | G72: =5*(E72-0.0403)/0.0474 -> 6.6842475
A73: M1801-66 | B73: 0.1005 | C73: 0.0946 | D73: 0.0509 | E73: =AVERAGE(B73:D73) -> 0.082 | F73: =STDEV(B73:D73) -> 0.027094464 | G73: =5*(E73-0.0403)/0.0474 -> 4.3987342
A74: M1801-67 | B74: 0.149 | C74: 0.2166 | D74: 0.1478 | E74: =AVERAGE(B74:D74) -> 0.17113333 | F74: =STDEV(B74:D74) -> 0.039379859 | G74: =5*(E74-0.0403)/0.0474 -> 13.800985
...

Sheet  GM-CSF
A1: 实验时间 | B1: 43363
A2: 操作人 | B2: 马霄、刘佳、蔡辉霞
A3: 实验方法：ELISA | B3: ELISA法
A4: 实验结果
A5: 人粒细胞巨噬细胞集落刺激因子（GM-CSF）检测数据
A6: 公司编号 | B6: OD值
B7: 平行1 | C7: 平行2 | D7: 平行3 | E7: 平均值 | F7: 标准差 | G7: 浓度 | H7: y = 0.0031x + 0.0789 | I7: y = 0.0031x + 0.0789
A8: M1801-01 | B8: 0.4259 | C8: 0.3389 | D8: 0.4017 | E8: =AVERAGE(B8:D8) -> 0.38883333 | F8: =STDEV(B8:D8) -> 0.044904491 | G8: =5*(E8-0.0789)/0.0031 -> 499.89247 | H8: R² = 0.9899
A9: M1801-02 | B9: 0.4978 | C9: 0.4489 | D9: 0.4438 | E9: =AVERAGE(B9:D9) -> 0.4635 | F9: =STDEV(B9:D9) -> 0.029813923 | G9: =5*(E9-0.0789)/0.0031 -> 620.32258
A10: M1801-03 | B10: 0.1684 | C10: 0.1437 | D10: 0.1441 | E10: =AVERAGE(B10:D10) -> 0.15206667 | F10: =STDEV(B10:D10) -> 0.014146495 | G10: =5*(E10-0.0789)/0.0031 -> 118.01075
A11: M1801-04 | B11: 0.1627 | C11: 0.136 | D11: 0.1529 | E11: =AVERAGE(B11:D11) -> 0.15053333 | F11: =STDEV(B11:D11) -> 0.013506418 | G11: =5*(E11-0.0789)/0.0031 -> 115.53763
A12: M1801-05 | B12: 0.2794 | C12: 0.2802 | D12: 0.3038 | E12: =AVERAGE(B12:D12) -> 0.2878 | F12: =STDEV(B12:D12) -> 0.013862179 | G12: =5*(E12-0.0789)/0.0031 -> 336.93548
A13: M1801-06 | B13: 0.1458 | C13: 0.1274 | D13: 0.104 | E13: =AVERAGE(B13:D13) -> 0.12573333 | F13: =STDEV(B13:D13) -> 0.020949781 | G13: =5*(E13-0.0789)/0.0031 -> 75.537634
A14: M1801-07 | B14: 0.2667 | C14: 0.3406 | D14: 0.2675 | E14: =AVERAGE(B14:D14) -> 0.2916 | F14: =STDEV(B14:D14) -> 0.04243713 | G14: =5*(E14-0.0789)/0.0031 -> 343.06452
A15: M1801-08 | B15: 1.019 | C15: 0.9661 | D15: 0.9255 | E15: =AVERAGE(B15:D15) -> 0.9702 | F15: =STDEV(B15:D15) -> 0.046884646 | G15: =5*(E15-0.0789)/0.0031 -> 1437.5806
A16: M1801-09 | B16: 0.2145 | C16: 0.2278 | D16: 0.192 | E16: =AVERAGE(B16:D16) -> 0.21143333 | F16: =STDEV(B16:D16) -> 0.018095948 | G16: =5*(E16-0.0789)/0.0031 -> 213.76344
A17: M1801-10 | B17: 0.4962 | C17: 0.4835 | D17: 0.512 | E17: =AVERAGE(B17:D17) -> 0.49723333 | F17: =STDEV(B17:D17) -> 0.014278072 | G17: =5*(E17-0.0789)/0.0031 -> 674.73118
A18: M1801-11 | B18: 2.9269 | C18: 2.8392 | D18: 2.9565 | E18: =AVERAGE(B18:D18) -> 2.9075333 | F18: =STDEV(B18:D18) -> 0.061001011 | G18: =5*(E18-0.0789)/0.0031 -> 4562.3118
A19: M1801-12 | B19: 0.214 | C19: 0.1761 | D19: 0.2026 | E19: =AVERAGE(B19:D19) -> 0.19756667 | F19: =STDEV(B19:D19) -> 0.019444879 | G19: =5*(E19-0.0789)/0.0031 -> 191.39785
A20: M1801-13 | B20: 0.1042 | C20: 0.1535 | D20: 0.1272 | E20: =AVERAGE(B20:D20) -> 0.1283 | F20: =STDEV(B20:D20) -> 0.024668401 | G20: =5*(E20-0.0789)/0.0031 -> 79.677419
... A37: M1801-30 | B37: 0.0388 | C37: 0.0506 | D37: 0.033 | E37: =AVERAGE(B37:D37) -> 0.0408 | F37: =STDEV(B37:D37) -> 0.0089688349 | G37: =5*(E37-0.0789)/0.0031 -> -61.451613
A38: M1801-31 | B38: 0.3076 | C38: 0.2429 | D38: 0.2234 | E38: =AVERAGE(B38:D38) -> 0.25796667 | F38: =STDEV(B38:D38) -> 0.044075655 | G38: =5*(E38-0.0613)/0.0019 -> 517.54386 | I38: y = 0.0019x + 0.0613
A39: M1801-32 | B39: 0.0293 | C39: 0.0102 | D39: 0.0237 | E39: =AVERAGE(B39:D39) -> 0.021066667 | F39: =STDEV(B39:D39) -> 0.0098185199 | G39: =5*(E39-0.0613)/0.0019 -> -105.87719 | I39: R² = 0.989
A40: M1801-33 | B40: 0.1745 | C40: 0.1423 | D40: 0.1399 | E40: =AVERAGE(B40:D40) -> 0.15223333 | F40: =STDEV(B40:D40) -> 0.019320801 | G40: =5*(E40-0.0613)/0.0019 -> 239.29825
A41: M1801-34 | B41: 0.1174 | C41: 0.1095 | D41: 0.1115 | E41: =AVERAGE(B41:D41) -> 0.1128 | F41: =STDEV(B41:D41) -> 0.0041073106 | G41: =5*(E41-0.0613)/0.0019 -> 135.52632
A42: M1801-35 | B42: 0.0383 | C42: 0.0276 | D42: 0.0155 | E42: =AVERAGE(B42:D42) -> 0.027133333 | F42: =STDEV(B42:D42) -> 0.011407161 | G42: =5*(E42-0.0613)/0.0019 -> -89.912281
A43: M1801-36 | B43: 0.0752 | C43: 0.0811 | D43: 0.0557 | E43: =AVERAGE(B43:D43) -> 0.070666667 | F43: =STDEV(B43:D43) -> 0.013292981 | G43: =5*(E43-0.0613)/0.0019 -> 24.649123
A44: M1801-37 | B44: 0.1498 | C44: 0.2209 | D44: 0.1864 | E44: =AVERAGE(B44:D44) -> 0.1857 | F44: =STDEV(B44:D44) -> 0.035555168 | G44: =5*(E44-0.0613)/0.0019 -> 327.36842
A45: M1801-38 | B45: 0.2006 | C45: 0.1255 | D45: 0.1683 | E45: =AVERAGE(B45:D45) -> 0.1648 | F45: =STDEV(B45:D45) -> 0.037672138 | G45: =5*(E45-0.0613)/0.0019 -> 272.36842
A46: M1801-39 | B46: 0.1591 | C46: 0.1662 | D46: 0.1091 | E46: =AVERAGE(B46:D46) -> 0.1448 | F46: =STDEV(B46:D46) -> 0.031120251 | G46: =5*(E46-0.0613)/0.0019 -> 219.73684
A47: M1801-40 | B47: 0.0916 | C47: 0.0544 | D47: 0.0743 | E47: =AVERAGE(B47:D47) -> 0.073433333 | F47: =STDEV(B47:D47) -> 0.018615137 | G47: =5*(E47-0.0613)/0.0019 -> 31.929825
A48: M1801-41 | B48: 1.5505 | C48: 1.626 | D48: 1.5924 | E48: =AVERAGE(B48:D48) -> 1.5896333 | F48: =STDEV(B48:D48) -> 0.037825961 | G48: =5*(E48-0.0613)/0.0019 -> 4021.9298
A49: M1801-42 | B49: 0.0936 | C49: 0.0667 | D49: 0.0773 | E49: =AVERAGE(B49:D49) -> 0.0792 | F49: =STDEV(B49:D49) -> 0.013550277 | G49: =5*(E49-0.0613)/0.0019 -> 47.105263
A50: M1801-43 | B50: 0.0536 | C50: 0.1253 | D50: 0.047 | E50: =AVERAGE(B50:D50) -> 0.0753 | F50: =STDEV(B50:D50) -> 0.043426835 | G50: =5*(E50-0.0613)/0.0019 -> 36.842105
A51: M1801-44 | B51: 0.0712 | C51: 0.0524 | D51: 0.0791 | E51: =AVERAGE(B51:D51) -> 0.067566667 | F51: =STDEV(B51:D51) -> 0.013715806 | G51: =5*(E51-0.0613)/0.0019 -> 16.491228
... A66: M1801-59 | B66: 0 | C66: 0 | D66: 0 | E66: =AVERAGE(B66:D66) -> 0 | F66: =STDEV(B66:D66) -> 0 | G66: =5*(E66-0.0613)/0.0019 -> -161.31579
A67: M1801-60 | B67: 1.7167 | C67: 1.7 | D67: 1.6525 | E67: =AVERAGE(B67:D67) -> 1.6897333 | F67: =STDEV(B67:D67) -> 0.033308607 | G67: =5*(E67-0.047)/0.0027 -> 3042.0988 | J67: y = 0.0027x + 0.047
A68: M1801-61 | B68: 0.3325 | C68: 0.2795 | D68: 0.2672 | E68: =AVERAGE(B68:D68) -> 0.29306667 | F68: =STDEV(B68:D68) -> 0.034699616 | G68: =5*(E68-0.047)/0.0027 -> 455.67901 | J68: R² = 0.9946
A69: M1801-62 | B69: 0.1615 | C69: 0.1739 | D69: 0.2004 | E69: =AVERAGE(B69:D69) -> 0.1786 | F69: =STDEV(B69:D69) -> 0.019871336 | G69: =5*(E69-0.047)/0.0027 -> 243.7037
A70: M1801-63 | B70: 0.1364 | C70: 0.1193 | D70: 0.129 | E70: =AVERAGE(B70:D70) -> 0.12823333 | F70: =STDEV(B70:D70) -> 0.008575741 | G70: =5*(E70-0.047)/0.0027 -> 150.4321
...

Sheet GROα
A1: 实验时间 | B1: 43364
A2: 操作人 | B2: 马霄、刘佳、蔡辉霞
A3: 实验方法：ELISA | B3: ELISA法
A4: 实验结果
A5: 人生长调节致癌基因α；黑素瘤生长刺激因子（GROα；CXCL1）
A6: 公司编号 | B6: OD值
B7: 平行1 | C7: 平行2 | D7: 平行3 | E7: 平均值 | F7: 标准差 | G7: 浓度
A8: M1801-01 | B8: 0.1195 | C8: 0.1141 | D8: 0.1099 | E8: =AVERAGE(B8:D8) -> 0.1145 | F8: =STDEVA(B8:D8) -> 0.0048124838 | G8: =5*(E8-0.0081)/0.0056 -> 95
A9: M1801-02 | B9: 0.154 | C9: 0.1526 | D9: 0.1882 | E9: =AVERAGE(B9:D9) -> 0.16493333 | F9: =STDEVA(B9:D9) -> 0.02016168 | G9: =5*(E9-0.0081)/0.0056 -> 140.02976
A10: M1801-03 | B10: 0.0166 | C10: 0.0171 | D10: 0.018 | E10: =AVERAGE(B10:D10) -> 0.017233333 | F10: =STDEVA(B10:D10) -> 0.00070945989 | G10: =5*(E10-0.0081)/0.0056 -> 8.1547619
A11: M1801-04 | B11: 0.0021 | C11: 0.0144 | D11: 0.0073 | E11: =AVERAGE(B11:D11) -> 0.0079333333 | F11: =STDEVA(B11:D11) -> 0.0061744096 | G11: =5*(E11-0.0081)/0.0056 -> -0.14880952
A12: M1801-05 | B12: 0.0682 | C12: 0.0783 | D12: 0.0669 | E12: =AVERAGE(B12:D12) -> 0.071133333 | F12: =STDEVA(B12:D12) -> 0.0062404594 | G12: =5*(E12-0.0081)/0.0056 -> 56.279762
A13: M1801-06 | B13: 0.0103 | C13: 0 | D13: 0.0027 | E13: =AVERAGE(B13:D13) -> 0.0043333333 | F13: =STDEVA(B13:D13) -> 0.005340724 | G13: =5*(E13-0.0081)/0.0056 -> -3.3630952
A14: M1801-07 | B14: 0.0693 | C14: 0.0913 | D14: 0.0511 | E14: =AVERAGE(B14:D14) -> 0.070566667 | F14: =STDEVA(B14:D14) -> 0.020129911 | G14: =5*(E14-0.0081)/0.0056 -> 55.77381
A15: M1801-08 | B15: 0.362 | C15: 0.362 | D15: 0.3992 | E15: =AVERAGE(B15:D15) -> 0.3744 | F15: =STDEVA(B15:D15) -> 0.02147743 | G15: =5*(E15-0.0081)/0.0056 -> 327.05357
A16: M1801-09 | B16: 0.0005 | C16: 0.0208 | D16: 0.0036 | E16: =AVERAGE(B16:D16) -> 0.0083 | F16: =STDEVA(B16:D16) -> 0.010935721 | G16: =5*(E16-0.0081)/0.0056 -> 0.17857143
A17: M1801-10 | B17: 0.1378 | C17: 0.1237 | D17: 0.1168 | E17: =AVERAGE(B17:D17) -> 0.1261 | F17: =STDEVA(B17:D17) -> 0.010703738 | G17: =5*(E17-0.0081)/0.0056 -> 105.35714
A18: M1801-11 | B18: 1.9015 | C18: 1.9989 | D18: 1.8906 | E18: =AVERAGE(B18:D18) -> 1.9303333 | F18: =STDEVA(B18:D18) -> 0.059630054 | G18: =5*(E18-0.0081)/0.0056 -> 1716.2798
A19: M1801-12 | B19: 0.032 | C19: 0.0228 | D19: 0.0278 | E19: =AVERAGE(B19:D19) -> 0.027533333 | F19: =STDEVA(B19:D19) -> 0.0046057935 | G19: =5*(E19-0.0081)/0.0056 -> 17.35119
... A37: M1801-30 | B37: 0 | C37: 0 | D37: 0 | E37: =AVERAGE(B37:D37) -> 0 | F37: =STDEVA(B37:D37) -> 0 | G37: =5*(E37-0.0081)/0.0056 -> -7.2321429
A38: M1801-31 | B38: 0.251 | C38: 0.1921 | D38: 0.1939 | E38: =AVERAGE(B38:D38) -> 0.21233333 | F38: =STDEVA(B38:D38) -> 0.033498408 | G38: =5*(E38-0.0161)/0.0069 -> 142.19807
A39: M1801-32 | B39: 0.03 | C39: 0.0186 | D39: 0.0296 | E39: =AVERAGE(B39:D39) -> 0.026066667 | F39: =STDEVA(B39:D39) -> 0.0064694152 | G39: =5*(E39-0.0161)/0.0069 -> 7.2222222
A40: M1801-33 | B40: 0.0759 | C40: 0.0574 | D40: 0.0577 | E40: =AVERAGE(B40:D40) -> 0.063666667 | F40: =STDEVA(B40:D40) -> 0.010595439 | G40: =5*(E40-0.0161)/0.0069 -> 34.468599
A41: M1801-34 | B41: 0.0217 | C41: 0.0083 | D41: 0.0294 | E41: =AVERAGE(B41:D41) -> 0.0198 | F41: =STDEVA(B41:D41) -> 0.010677547 | G41: =5*(E41-0.0161)/0.0069 -> 2.6811594
A42: M1801-35 | B42: 0 | C42: 0 | D42: 0 | E42: =AVERAGE(B42:D42) -> 0 | F42: =STDEVA(B42:D42) -> 0 | G42: =5*(E42-0.0161)/0.0069 -> -11.666667
A43: M1801-36 | B43: 0.0105 | C43: 0 | D43: 0.016 | E43: =AVERAGE(B43:D43) -> 0.0088333333 | F43: =STDEVA(B43:D43) -> 0.0081291656 | G43: =5*(E43-0.0161)/0.0069 -> -5.2657005
A44: M1801-37 | B44: 0.076 | C44: 0.1415 | D44: 0.0769 | E44: =AVERAGE(B44:D44) -> 0.098133333 | F44: =STDEVA(B44:D44) -> 0.037559331 | G44: =5*(E44-0.0161)/0.0069 -> 59.444444
A45: M1801-38 | B45: 0.1263 | C45: 0.0691 | D45: 0.0936 | E45: =AVERAGE(B45:D45) -> 0.096333333 | F45: =STDEVA(B45:D45) -> 0.028697793 | G45: =5*(E45-0.0161)/0.0069 -> 58.140097
A46: M1801-39 | B46: 0.0935 | C46: 0.1411 | D46: 0.0622 | E46: =AVERAGE(B46:D46) -> 0.098933333 | F46: =STDEVA(B46:D46) -> 0.039729628 | G46: =5*(E46-0.0161)/0.0069 -> 60.024155
A47: M1801-40 | B47: 0.0618 | C47: 0.0197 | D47: 0.0612 | E47: =AVERAGE(B47:D47) -> 0.047566667 | F47: =STDEVA(B47:D47) -> 0.024135106 | G47: =5*(E47-0.0161)/0.0069 -> 22.801932
A48: M1801-41 | B48: 0.971 | C48: 0.9484 | D48: 0.9801 | E48: =AVERAGE(B48:D48) -> 0.9665 | F48: =STDEVA(B48:D48) -> 0.016322071 | G48: =5*(E48-0.0161)/0.0069 -> 688.69565
A49: M1801-42 | B49: 0.0101 | C49: 0 | D49: 0.0043 | E49: =AVERAGE(B49:D49) -> 0.0048 | F49: =STDEVA(B49:D49) -> 0.0050685304 | G49: =5*(E49-0.0161)/0.0069 -> -8.1884058
... A53: M1801-46 | B53: 0.0997 | C53: 0.0469 | D53: 0.0887 | E53: =AVERAGE(B53:D53) -> 0.078433333 | F53: =STDEVA(B53:D53) -> 0.027857016 | G53: =5*(E53-0.0161)/0.0069 -> 45.169082
A54: M1801-47 | C54: 1.7783 | D54: 1.8322 | E54: =AVERAGE(B54:D54) -> 1.80525 | F54: =STDEVA(B54:D54) -> 0.038113056 | G54: =5*(E54-0.0161)/0.0069 -> 1296.4855
A55: M1801-48 | B55: 0 | C55: 0 | D55: 0 | E55: =AVERAGE(B55:D55) -> 0 | F55: =STDEVA(B55:D55) -> 0 | G55: =5*(E55-0.0161)/0.0069 -> -11.666667
A56: M1801-49 | B56: 0 | C56: 0 | D56: 0 | E56: =AVERAGE(B56:D56) -> 0 | F56: =STDEVA(B56:D56) -> 0 | G56: =5*(E56-0.0161)/0.0069 -> -11.666667
A57: M1801-50 | B57: 0 | C57: 0 | D57: 0 | E57: =AVERAGE(B57:D57) -> 0 | F57: =STDEVA(B57:D57) -> 0 | G57: =5*(E57-0.0161)/0.0069 -> -11.666667
A58: M1801-51 | B58: 0 | C58: 0 | D58: 0 | E58: =AVERAGE(B58:D58) -> 0 | F58: =STDEVA(B58:D58) -> 0 | G58: =5*(E58-0.0161)/0.0069 -> -11.666667
A59: M1801-52 | B59: 0 | C59: 0 | D59: 0 | E59: =AVERAGE(B59:D59) -> 0 | F59: =STDEVA(B59:D59) -> 0 | G59: =5*(E59-0.0161)/0.0069 -> -11.666667
A60: M1801-53 | B60: 0.0478 | C60: 0.1003 | D60: 0.0812 | E60: =AVERAGE(B60:D60) -> 0.076433333 | F60: =STDEVA(B60:D60) -> 0.026572605 | G60: =5*(E60-0.0161)/0.0069 -> 43.719807
...

Sheet IFN-γ
A1: 实验时间 | B1: 43368
A2: 操作人 | B2: 马霄、刘佳、蔡辉霞
A3: 实验方法 | B3: ELISA法
A4: 实验结果
A5: 人γ干扰素IFN-γ
A6: 公司编号 | B6: OD值
B7: 平行1 | C7: 平行2 | D7: 平行3 | E7: 平均值 | F7: 浓度 | G7: 标准差
A8: M1801-01 | B8: 0.0965 | C8: 0.103 | D8: 0.0716 | E8: =AVERAGE(B8:D8) -> 0.090366667 | F8: =5*(E8+0.0389)/0.0012 -> 538.61111 | G8: =STDEV(B8:D8) -> 0.016574177
A9: M1801-02 | B9: 0.0791 | C9: 0.0849 | D9: 0.1038 | E9: =AVERAGE(B9:D9) -> 0.089266667 | F9: =5*(E9+0.0389)/0.0012 -> 534.02778 | G9: =STDEV(B9:D9) -> 0.012916011
A10: M1801-03 | B10: 0 | C10: 0 | D10: 0 | E10: =AVERAGE(B10:D10) -> 0 | F10: =5*(E10+0.0389)/0.0012 -> 162.08333 | G10: =STDEV(B10:D10) -> 0
A11: M1801-04 | B11: 0 | C11: 0 | D11: 0 | E11: =AVERAGE(B11:D11) -> 0 | F11: =5*(E11+0.0389)/0.0012 -> 162.08333 | G11: =STDEV(B11:D11) -> 0
A12: M1801-05 | B12: 0.0448 | C12: 0.0441 | D12: 0.0504 | E12: =AVERAGE(B12:D12) -> 0.046433333 | F12: =5*(E12+0.0389)/0.0012 -> 355.55556 | G12: =STDEV(B12:D12) -> 0.003453018
A13: M1801-06 | B13: 0 | C13: 0 | D13: 0 | E13: =AVERAGE(B13:D13) -> 0 | F13: =5*(E13+0.0389)/0.0012 -> 162.08333 | G13: =STDEV(B13:D13) -> 0
A14: M1801-07 | B14: 0.0411 | C14: 0.0615 | D14: 0.0297 | E14: =AVERAGE(B14:D14) -> 0.0441 | F14: =5*(E14+0.0389)/0.0012 -> 345.83333 | G14: =STDEV(B14:D14) -> 0.016110866
A15: M1801-08 | B15: 0.2924 | C15: 0.2388 | D15: 0.3146 | E15: =AVERAGE(B15:D15) -> 0.28193333 | F15: =5*(E15+0.0389)/0.0012 -> 1336.8056 | G15: =STDEV(B15:D15) -> 0.038968876
A16: M1801-09 | B16: 0 | C16: 0 | D16: 0 | E16: =AVERAGE(B16:D16) -> 0 | F16: =5*(E16+0.0389)/0.0012 -> 162.08333 | G16: =STDEV(B16:D16) -> 0
A17: M1801-10 | B17: 0.0851 | C17: 0.1191 | D17: 0.13 | E17: =AVERAGE(B17:D17) -> 0.1114 | F17: =5*(E17+0.0389)/0.0012 -> 626.25 | G17: =STDEV(B17:D17) -> 0.023419436
A18: M1801-11 | B18: 1.6187 | C18: 1.6462 | D18: 1.532 | E18: =AVERAGE(B18:D18) -> 1.5989667 | F18: =5*(E18+0.0389)/0.0012 -> 6824.4444 | G18: =STDEV(B18:D18) -> 0.059602545
A19: M1801-12 | B19: 0 | C19: 0 | D19: 0 | E19: =AVERAGE(B19:D19) -> 0 | F19: =5*(E19+0.0389)/0.0012 -> 162.08333 | G19: =STDEV(B19:D19) -> 0
... A37: M1801-30 | B37: 0 | C37: 0 | D37: 0 | E37: =AVERAGE(B37:D37) -> 0 | F37: =5*(E37+0.0389)/0.0012 -> 162.08333 | G37: =STDEV(B37:D37) -> 0
A38: M1801-31 | B38: 0.3338 | C38: 0.2809 | D38: 0.2947 | E38: =AVERAGE(B38:D38) -> 0.30313333 | F38: =5*(D38-0.0609)/0.0021 -> 556.66667 | G38: =STDEV(B38:D38) -> 0.027439813
A39: M1801-32 | B39: 0.0489 | C39: 0.0407 | D39: 0.0321 | E39: =AVERAGE(B39:D39) -> 0.040566667 | F39: =GROα!G39:G128+GROα!G39:G50+GROα!G39:G50+GROα!F39:G50+GROα!F39:G45+GROα!G39:G128+[2]Sheet2!$E$3 -> 28.901828 | G39: =STDEV(B39:D39) -> 0.0084007936
A40: M1801-33 | B40: 0.1738 | C40: 0.2282 | D40: 0.1851 | E40: =AVERAGE(B40:D40) -> 0.1957 | F40: =GROα!G40:G129+GROα!G40:G51+GROα!G40:G51+GROα!F40:G51+GROα!F40:G46+GROα!G40:G129+[2]Sheet2!$E$3 -> 137.89559 | G40: =STDEV(B40:D40) -> 0.028707316
A41: M1801-34 | B41: 0.1845 | C41: 0.134 | D41: 0.148 | E41: =AVERAGE(B41:D41) -> 0.1555 | F41: =GROα!G41:G130+GROα!G41:G52+GROα!G41:G52+GROα!F41:G52+GROα!F41:G47+GROα!G41:G130+[2]Sheet2!$E$3 -> 10.745993 | G41: =STDEV(B41:D41) -> 0.026072016
A42: M1801-35 | B42: 0.0541 | C42: 0.0865 | D42: 0.0737 | E42: =AVERAGE(B42:D42) -> 0.071433333 | F42: =GROα!G42:G131+GROα!G42:G53+GROα!G42:G53+GROα!F42:G53+GROα!F42:G48+GROα!G42:G131+[2]Sheet2!$E$3 -> -46.666667 | G42: =STDEV(B42:D42) -> 0.016318497
A43: M1801-36 | B43: 0.1174 | C43: 0.1252 | D43: 0.1455 | E43: =AVERAGE(B43:D43) -> 0.12936667 | F43: =GROα!G43:G132+GROα!G43:G54+GROα!G43:G54+GROα!F43:G54+GROα!F43:G49+GROα!G43:G132+[2]Sheet2!$E$3 -> -21.046544 | G43: =STDEV(B43:D43) -> 0.014505976
A44: M1801-37 | B44: 0.1857 | C44: 0.2601 | D44: 0.1932 | E44: =AVERAGE(B44:D44) -> 0.213 | F44: =GROα!G44:G133+GROα!G44:G55+GROα!G44:G55+GROα!F44:G55+GROα!F44:G50+GROα!G44:G133+[2]Sheet2!$E$3 -> 237.8529 | G44: =STDEV(B44:D44) -> 0.040961811
A45: M1801-38 | B45: 0.2316 | C45: 0.1818 | D45: 0.2185 | E45: =AVERAGE(B45:D45) -> 0.21063333 | F45: =GROα!G45:G134+GROα!G45:G56+GROα!G45:G56+GROα!F45:G56+GROα!F45:G51+GROα!G45:G134+[2]Sheet2!$E$3 -> 232.61778 | G45: =STDEV(B45:D45) -> 0.025815176
A46: M1801-39 | B46: 0.2059 | C46: 0.2113 | D46: 0.19 | E46: =AVERAGE(B46:D46) -> 0.2024 | F46: =GROα!G46:G135+GROα!G46:G57+GROα!G46:G57+GROα!F46:G57+GROα!F46:G52+GROα!G46:G135+[2]Sheet2!$E$3 -> 240.17608 | G46: =STDEV(B46:D46) -> 0.01107294
A47: M1801-40 | B47: 0.1602 | C47: 0.1482 | D47: 0.1283 | E47: =AVERAGE(B47:D47) -> 0.14556667 | F47: =GROα!G47:G136+GROα!G47:G58+GROα!G47:G58+GROα!F47:G58+GROα!F47:G53+GROα!G47:G136+[2]Sheet2!$E$3 -> 91.256 | G47: =STDEV(B47:D47) -> 0.016112211
A48: M1801-41 | B48: 1.3361 | C48: 1.3388 | D48: 1.5027 | E48: =AVERAGE(B48:D48) -> 1.3925333 | F48: =GROα!G48:G137+GROα!G48:G59+GROα!G48:G59+GROα!F48:G59+GROα!F48:G54+GROα!G48:G137+[2]Sheet2!$E$3 -> 2754.8153 | G48: =STDEV(B48:D48) -> 0.095416683
A49: M1801-42 | B49: 0.0836 | C49: 0.0704 | D49: 0.0564 | E49: =AVERAGE(B49:D49) -> 0.070133333 | F49: =GROα!G49:G138+GROα!G49:G60+GROα!G49:G60+GROα!F49:G60+GROα!F49:G55+GROα!G49:G138+[2]Sheet2!$E$3 -> -32.743486 | G49: =STDEV(B49:D49) -> 0.013601961
A50: M1801-43 | B50: 0.0719 | C50: 0.0583 | D50: 0.0538 | E50: =AVERAGE(B50:D50) -> 0.061333333 | F50: =GROα!G50:G139+GROα!G50:G61+GROα!G50:G61+GROα!F50:G61+GROα!F50:G56+GROα!G50:G139+[2]Sheet2!$E$3 -> -46.666667 | G50: =STDEV(B50:D50) -> 0.0094235521
... A66: M1801-59 | B66: 0 | C66: 0 | D66: 0 | E66: =AVERAGE(B66:D66) -> 0 | F66: =GROα!G66:G155+GROα!G66:G77+GROα!G66:G77+GROα!F66:G77+GROα!F66:G72+GROα!G66:G155+[2]Sheet2!$E$3 -> -46.666667 | G66: =STDEV(B66:D66) -> 0
A67: M1801-60 | B67: 1.8567 | C67: 2.0255 | E67: =AVERAGE(B67:D67) -> 1.9411 | F67: =GROα!G67:G156+GROα!G67:G78+GROα!G67:G78+GROα!F67:G78+GROα!F67:G73+GROα!G67:G156+[2]Sheet2!$E$3 -> 3001.3792 | G67: =STDEV(B67:D67) -> 0.11935962
A68: M1801-61 | B68: 0.2292 | C68: 0.2047 | D68: 0.1903 | E68: =AVERAGE(B68:D68) -> 0.20806667 | F68: =5*(D68-0.0696)/0.0015 -> 402.33333 | G68: =STDEV(B68:D68) -> 0.019667316
A69: M1801-62 | B69: 0.1018 | C69: 0.0787 | D69: 0.1151 | E69: =AVERAGE(B69:D69) -> 0.098533333 | F69: =5*(D69-0.0696)/0.0015 -> 151.66667 | G69: =STDEV(B69:D69) -> 0.018418559
A70: M1801-63 | B70: 0.1085 | C70: 0.1031 | D70: 0.0975 | E70: =AVERAGE(B70:D70) -> 0.10303333 | F70: =5*(D70-0.0696)/0.0015 -> 93 | G70: =STDEV(B70:D70) -> 0.005500303
A71: M1801-64 | B71: 0.0615 | C71: 0.0558 | D71: 0.0564 | E71: =AVERAGE(B71:D71) -> 0.0579 | F71: =5*(D71-0.0696)/0.0015 -> -44 | G71: =STDEV(B71:D71) -> 0.003132092
A72: M1801-65 | B72: 0.0752 | C72: 0.0742 | D72: 0.0698 | E72: =AVERAGE(B72:D72) -> 0.073066667 | F72: =5*(D72-0.0696)/0.0015 -> 0.66666667 | G72: =STDEV(B72:D72) -> 0.0028728615
...

Sheet IL-1B
A1: 实验时间 | B1: 43369
A2: 操作人 | B2: 马霄、刘佳、蔡辉霞
A3: 实验方法：ELISA | B3: ELISA法
A5: 人白细胞介素1β（IL-1β）
A6: 公司编号 | B6: OD值
B7: 平行1 | C7: 平行2 | D7: 平行3 | E7: 平均值 | F7: 标准差 | G7: 浓度
A8: M1801-01 | B8: 0.1248 | C8: 0.1546 | D8: 0.1435 | E8: =AVERAGE(B8:D8) -> 0.14096667 | F8: =STDEV(B8:D8) -> 0.015060655 | G8: =5*(E8-0.0433)/0.0137 -> 35.644769
A9: M1801-02 | B9: 0.2007 | C9: 0.1889 | D9: 0.2196 | E9: =AVERAGE(B9:D9) -> 0.20306667 | F9: =STDEV(B9:D9) -> 0.01548623 | G9: =5*(E9-0.0433)/0.0137 -> 58.309002
A10: M1801-03 | B10: 0.0428 | C10: 0.0159 | D10: 0.0215 | E10: =AVERAGE(B10:D10) -> 0.026733333 | F10: =STDEV(B10:D10) -> 0.014193073 | G10: =5*(E10-0.0433)/0.0137 -> -6.0462287
A11: M1801-04 | B11: 0.0234 | C11: 0.0229 | D11: 0.0178 | E11: =AVERAGE(B11:D11) -> 0.021366667 | F11: =STDEV(B11:D11) -> 0.0030989245 | G11: =5*(E11-0.0433)/0.0137 -> -8.0048662
A12: M1801-05 | B12: 0.122 | C12: 0.1038 | D12: 0.1055 | E12: =AVERAGE(B12:D12) -> 0.11043333 | F12: =STDEV(B12:D12) -> 0.010053026 | G12: =5*(E12-0.0433)/0.0137 -> 24.501217
A13: M1801-06 | B13: 0.0064 | C13: 0.0016 | D13: 0.0145 | E13: =AVERAGE(B13:D13) -> 0.0075 | F13: =STDEV(B13:D13) -> 0.0065199693 | G13: =5*(E13-0.0433)/0.0137 -> -13.065693
A14: M1801-07 | B14: 0.0985 | C14: 0.1334 | D14: 0.0625 | E14: =AVERAGE(B14:D14) -> 0.098133333 | F14: =STDEV(B14:D14) -> 0.035451422 | G14: =5*(E14-0.0433)/0.0137 -> 20.012165
A15: M1801-08 | B15: 0.3321 | C15: 0.2618 | D15: 0.3179 | E15: =AVERAGE(B15:D15) -> 0.30393333 | F15: =STDEV(B15:D15) -> 0.037172884 | G15: =5*(E15-0.0433)/0.0137 -> 95.121655
A16: M1801-09 | B16: 0.0373 | C16: 0.0545 | D16: 0.0167 | E16: =AVERAGE(B16:D16) -> 0.036166667 | F16: =STDEV(B16:D16) -> 0.018925468 | G16: =5*(E16-0.0433)/0.0137 -> -2.6034063
A17: M1801-10 | B17: 0.1386 | C17: 0.1144 | D17: 0.1383 | E17: =AVERAGE(B17:D17) -> 0.13043333 | F17: =STDEV(B17:D17) -> 0.013886084 | G17: =5*(E17-0.0433)/0.0137 -> 31.800487
A18: M1801-11 | B18: 1.9065 | D18: 1.8889 | E18: =AVERAGE(B18:D18) -> 1.8977 | F18: =STDEV(B18:D18) -> 0.012445079 | G18: =5*(E18-0.0433)/0.0137 -> 676.78832
A19: M1801-12 | B19: 0 | C19: 0 | D19: 0 | E19: =AVERAGE(B19:D19) -> 0 | F19: =STDEV(B19:D19) -> 0 | G19: =5*(E19-0.0433)/0.0137 -> -15.80292
A20: M1801-13 | B20: 0 | C20: 0 | D20: 0 | E20: =AVERAGE(B20:D20) -> 0 | F20: =STDEV(B20:D20) -> 0 | G20: =5*(E20-0.0433)/0.0137 -> -15.80292
A21: M1801-14 | B21: 0 | C21: 0 | D21: 0 | E21: =AVERAGE(B21:D21) -> 0 | F21: =STDEV(B21:D21) -> 0 | G21: =5*(E21-0.0433)/0.0137 -> -15.80292
A22: M1801-15 | B22: 0.0608 | C22: 0.1085 | D22: 0.0751 | E22: =AVERAGE(B22:D22) -> 0.081466667 | F22: =STDEV(B22:D22) -> 0.024479039 | G22: =5*(E22-0.0433)/0.0137 -> 13.92944
A23: M1801-16 | B23: 0.4259 | C23: 0.3314 | D23: 0.4499 | E23: =AVERAGE(B23:D23) -> 0.4024 | F23: =STDEV(B23:D23) -> 0.062647825 | G23: =5*(E23-0.0433)/0.0137 -> 131.05839
A24: M1801-17 | B24: 0.0294 | C24: 0.0457 | D24: 0.0149 | E24: =AVERAGE(B24:D24) -> 0.03 | F24: =STDEV(B24:D24) -> 0.015408764 | G24: =5*(E24-0.0433)/0.0137 -> -4.8540146
A25: M1801-18 | B25: 0.0306 | C25: 0.0038 | D25: 0.0298 | E25: =AVERAGE(B25:D25) -> 0.0214 | F25: =STDEV(B25:D25) -> 0.015247295 | G25: =5*(E25-0.0433)/0.0137 -> -7.9927007
A26: M1801-19 | B26: 0 | C26: 0 | D26: 0 | E26: =AVERAGE(B26:D26) -> 0 | F26: =STDEV(B26:D26) -> 0 | G26: =5*(E26-0.0433)/0.0137 -> -15.80292
A27: M1801-20 | B27: 0 | C27: 0 | D27: 0 | E27: =AVERAGE(B27:D27) -> 0 | F27: =STDEV(B27:D27) -> 0 | G27: =5*(E27-0.0433)/0.0137 -> -15.80292
A28: M1801-21 | B28: 0 | C28: 0 | D28: 0 | E28: =AVERAGE(B28:D28) -> 0 | F28: =STDEV(B28:D28) -> 0 | G28: =5*(E28-0.0433)/0.0137 -> -15.80292
A29: M1801-22 | B29: 0 | C29: 0 | D29: 0 | E29: =AVERAGE(B29:D29) -> 0 | F29: =STDEV(B29:D29) -> 0 | G29: =5*(E29-0.0433)/0.0137 -> -15.80292
A30: M1801-23 | B30: 0.0339 | C30: 0.0589 | D30: 0.0063 | E30: =AVERAGE(B30:D30) -> 0.033033333 | F30: =STDEV(B30:D30) -> 0.026310708 | G30: =5*(E30-0.0433)/0.0137 -> -3.7469586
... A37: M1801-30 | B37: 0 | C37: 0 | D37: 0 | E37: =AVERAGE(B37:D37) -> 0 | F37: =STDEV(B37:D37) -> 0 | G37: =5*(E37-0.0433)/0.0137 -> -15.80292
A38: M1801-31 | B38: 0.1012 | C38: 0.0823 | D38: 0.0676 | E38: =AVERAGE(B38:D38) -> 0.0837 | F38: =STDEV(B38:D38) -> 0.016843693 | G38: =5*(E38+0.0183)/0.0112 -> 45.535714
A39: M1801-32 | B39: 0 | C39: 0 | D39: 0 | E39: =AVERAGE(B39:D39) -> 0 | F39: =STDEV(B39:D39) -> 0 | G39: =5*(E39+0.0183)/0.0112 -> 8.1696429
A40: M1801-33 | B40: 0 | C40: 0 | D40: 0 | E40: =AVERAGE(B40:D40) -> 0 | F40: =STDEV(B40:D40) -> 0 | G40: =5*(E40+0.0183)/0.0112 -> 8.1696429
A41: M1801-34 | B41: 0 | C41: 0 | D41: 0 | E41: =AVERAGE(B41:D41) -> 0 | F41: =STDEV(B41:D41) -> 0 | G41: =5*(E41+0.0183)/0.0112 -> 8.1696429
A42: M1801-35 | B42: 0 | C42: 0 | D42: 0 | E42: =AVERAGE(B42:D42) -> 0 | F42: =STDEV(B42:D42) -> 0 | G42: =5*(E42+0.0183)/0.0112 -> 8.1696429
A43: M1801-36 | B43: 0 | C43: 0 | D43: 0 | E43: =AVERAGE(B43:D43) -> 0 | F43: =STDEV(B43:D43) -> 0 | G43: =5*(E43+0.0183)/0.0112 -> 8.1696429
A44: M1801-37 | B44: 0.0294 | C44: 0.0544 | D44: 0.0158 | E44: =AVERAGE(B44:D44) -> 0.0332 | F44: =STDEV(B44:D44) -> 0.01957856 | G44: =5*(E44+0.0183)/0.0112 -> 22.991071
A45: M1801-38 | B45: 0.0251 | C45: 0.0178 | D45: 0.0161 | E45: =AVERAGE(B45:D45) -> 0.019666667 | F45: =STDEV(B45:D45) -> 0.0047815618 | G45: =5*(E45+0.0183)/0.0112 -> 16.949405
A46: M1801-39 | B46: 0 | C46: 0 | D46: 0 | E46: =AVERAGE(B46:D46) -> 0 | F46: =STDEV(B46:D46) -> 0 | G46: =5*(E46+0.0183)/0.0112 -> 8.1696429
A47: M1801-40 | B47: 0 | C47: 0 | D47: 0 | E47: =AVERAGE(B47:D47) -> 0 | F47: =STDEV(B47:D47) -> 0 | G47: =5*(E47+0.0183)/0.0112 -> 8.1696429
...

Sheet IL-2
A1: 实验时间 | B1: 43370
A2: 操作人 | B2: 马霄、刘佳、蔡辉霞
A3: 实验方法：ELISA | B3: ELISA法
A4: 实验结果
A5: 人白细胞介素2（IL-2）
A6: 编号 | B6: OD值
B7: 平行1 | C7: 平行2 | D7: 平行3 | E7: 平均值 | F7: 标准差 | G7: 浓度(ng/mL) | H7: 浓度（pg/mL）
A8: M1801-01 | B8: 0.2814 | C8: 0.2672 | D8: 0.3044 | E8: =AVERAGE(B8:D8) -> 0.28433333 | F8: =STDEV(B8:D8) -> 0.018772675 | G8: =5*(E8-0.0525)/0.2064 -> 5.6161176 | H8: =G8*1000 -> 5616.1176
A9: M1801-02 | B9: 0.3416 | C9: 0.3207 | D9: 0.3326 | E9: =AVERAGE(B9:D9) -> 0.33163333 | F9: =STDEV(B9:D9) -> 0.010483479 | G9: =5*(E9-0.0525)/0.2064 -> 6.7619509 | H9: =G9*1000 -> 6761.9509
A10: M1801-03 | B10: 0.1639 | C10: 0.1912 | D10: 0.1843 | E10: =AVERAGE(B10:D10) -> 0.1798 | F10: =STDEV(B10:D10) -> 0.014195422 | G10: =5*(E10-0.0525)/0.2064 -> 3.0838178 | H10: =G10*1000 -> 3083.8178
A11: M1801-04 | B11: 0.173 | C11: 0.2533 | D11: 0.1782 | E11: =AVERAGE(B11:D11) -> 0.2015 | F11: =STDEV(B11:D11) -> 0.044935398 | G11: =5*(E11-0.0525)/0.2064 -> 3.6094961 | H11: =G11*1000 -> 3609.4961
A12: M1801-05 | B12: 0.2593 | C12: 0.2567 | D12: 0.2203 | E12: =AVERAGE(B12:D12) -> 0.24543333 | F12: =STDEV(B12:D12) -> 0.021804892 | G12: =5*(E12-0.0525)/0.2064 -> 4.6737726 | H12: =G12*1000 -> 4673.7726
A13: M1801-06 | B13: 0.1455 | C13: 0.1427 | D13: 0.1208 | E13: =AVERAGE(B13:D13) -> 0.13633333 | F13: =STDEV(B13:D13) -> 0.013524915 | G13: =5*(E13-0.0525)/0.2064 -> 2.0308463 | H13: =G13*1000 -> 2030.8463
A14: M1801-07 | B14: 0.2974 | C14: 0.3829 | D14: 0.3157 | E14: =AVERAGE(B14:D14) -> 0.332 | F14: =STDEV(B14:D14) -> 0.045020329 | G14: =5*(E14-0.0525)/0.2064 -> 6.7708333 | H14: =G14*1000 -> 6770.8333
A15: M1801-08 | B15: 0.6683 | C15: 0.6993 | D15: 0.6528 | E15: =AVERAGE(B15:D15) -> 0.67346667 | F15: =STDEV(B15:D15) -> 0.023676641 | G15: =5*(E15-0.0525)/0.2064 -> 15.042797 | H15: =G15*1000 -> 15042.797
A16: M1801-09 | B16: 0.2028 | C16: 0.2068 | D16: 0.1716 | E16: =AVERAGE(B16:D16) -> 0.19373333 | F16: =STDEV(B16:D16) -> 0.019272087 | G16: =5*(E16-0.0525)/0.2064 -> 3.4213501 | H16: =G16*1000 -> 3421.3501
A17: M1801-10 | B17: 0.3722 | C17: 0.3058 | D17: 0.4153 | E17: =AVERAGE(B17:D17) -> 0.36443333 | F17: =STDEV(B17:D17) -> 0.055161611 | G17: =5*(E17-0.0525)/0.2064 -> 7.5565245 | H17: =G17*1000 -> 7556.5245
A18: M1801-11 | B18: 3.0705 | C18: 3.1716 | D18: 3.2337 | E18: =AVERAGE(B18:D18) -> 3.1586 | F18: =STDEV(B18:D18) -> 0.082372993 | G18: =5*(E18-0.0525)/0.2064 -> 75.244671 | H18: =G18*1000 -> 75244.671
A19: M1801-12 | B19: 0.2061 | C19: 0.1772 | D19: 0.209 | E19: =AVERAGE(B19:D19) -> 0.19743333 | F19: =STDEV(B19:D19) -> 0.017582472 | G19: =5*(E19-0.0525)/0.2064 -> 3.5109819 | H19: =G19*1000 -> 3510.9819
... A37: M1801-30 | B37: 0.1146 | C37: 0.1119 | D37: 0.0915 | E37: =AVERAGE(B37:D37) -> 0.106 | F37: =STDEV(B37:D37) -> 0.012629727 | G37: =5*(E37-0.0525)/0.2064 -> 1.2960271 | H37: =G37*1000 -> 1296.0271
A38: M1801-31 | B38: 0.3294 | C38: 0.2724 | D38: 0.3328 | E38: =AVERAGE(B38:D38) -> 0.31153333 | F38: =STDEV(B38:D38) -> 0.033933071 | G38: =5*(E38-0.0323)/0.2618 -> 5.3329514 | H38: =G38*1000 -> 5332.9514
A39: M1801-32 | B39: 0.0048 | C39: 0 | D39: 0.0019 | E39: =AVERAGE(B39:D39) -> 0.0022333333 | F39: =STDEV(B39:D39) -> 0.0024172988 | G39: =5*(E39-0.0323)/0.2618 -> -0.57422969 | H39: =G39*1000 -> -574.22969
A40: M1801-33 | B40: 0.243 | C40: 0.2716 | D40: 0.2545 | E40: =AVERAGE(B40:D40) -> 0.25636667 | F40: =STDEV(B40:D40) -> 0.014391085 | G40: =5*(E40-0.0323)/0.2618 -> 4.2793481 | H40: =G40*1000 -> 4279.3481
A41: M1801-34 | B41: 0.2255 | C41: 0.1895 | D41: 0.1893 | E41: =AVERAGE(B41:D41) -> 0.20143333 | F41: =STDEV(B41:D41) -> 0.020842585 | G41: =5*(E41-0.0323)/0.2618 -> 3.2302012 | H41: =G41*1000 -> 3230.2012
A42: M1801-35 | B42: 0.1227 | C42: 0.0958 | D42: 0.098 | E42: =AVERAGE(B42:D42) -> 0.1055 | F42: =STDEV(B42:D42) -> 0.014936198 | G42: =5*(E42-0.0323)/0.2618 -> 1.3980138 | H42: =G42*1000 -> 1398.0138
A43: M1801-36 | B43: 0.1569 | C43: 0.1308 | D43: 0.1336 | E43: =AVERAGE(B43:D43) -> 0.14043333 | F43: =STDEV(B43:D43) -> 0.014329108 | G43: =5*(E43-0.0323)/0.2618 -> 2.0651897 | H43: =G43*1000 -> 2065.1897
A44: M1801-37 | B44: 0.2729 | C44: 0.2845 | D44: 0.221 | E44: =AVERAGE(B44:D44) -> 0.25946667 | F44: =STDEV(B44:D44) -> 0.033814247 | G44: =5*(E44-0.0323)/0.2618 -> 4.3385536 | H44: =G44*1000 -> 4338.5536
A45: M1801-38 | B45: 0.2105 | C45: 0.1964 | D45: 0.2438 | E45: =AVERAGE(B45:D45) -> 0.2169 | F45: =STDEV(B45:D45) -> 0.024339474 | G45: =5*(E45-0.0323)/0.2618 -> 3.5255921 | H45: =G45*1000 -> 3525.5921
A46: M1801-39 | B46: 0.2681 | C46: 0.2509 | D46: 0.2249 | E46: =AVERAGE(B46:D46) -> 0.24796667 | F46: =STDEV(B46:D46) -> 0.02174887 | G46: =5*(E46-0.0323)/0.2618 -> 4.1189203 | H46: =G46*1000 -> 4118.9203
A47: M1801-40 | B47: 0.1712 | C47: 0.1691 | D47: 0.1892 | E47: =AVERAGE(B47:D47) -> 0.1765 | F47: =STDEV(B47:D47) -> 0.011048529 | G47: =5*(E47-0.0323)/0.2618 -> 2.7540107 | H47: =G47*1000 -> 2754.0107
A48: M1801-41 | C48: 2.1222 | D48: 2.1081 | E48: =AVERAGE(B48:D48) -> 2.11515 | F48: =STDEV(B48:D48) -> 0.0099702056 | G48: =5*(E48-0.0323)/0.2618 -> 39.779412 | H48: =G48*1000 -> 39779.412
A49: M1801-42 | B49: 0.1734 | C49: 0.1638 | D49: 0.1253 | E49: =AVERAGE(B49:D49) -> 0.15416667 | F49: =STDEV(B49:D49) -> 0.02545591 | G49: =5*(E49-0.0323)/0.2618 -> 2.3274764 | H49: =G49*1000 -> 2327.4764
A50: M1801-43 | B50: 0.1191 | C50: 0.1337 | D50: 0.1168 | E50: =AVERAGE(B50:D50) -> 0.1232 | F50: =STDEV(B50:D50) -> 0.0091656969 | G50: =5*(E50-0.0323)/0.2618 -> 1.7360581 | H50: =G50*1000 -> 1736.0581
A51: M1801-44 | B51: 0.1455 | C51: 0.1857 | D51: 0.1867 | E51: =AVERAGE(B51:D51) -> 0.17263333 | F51: =STDEV(B51:D51) -> 0.023503475 | G51: =5*(E51-0.0323)/0.2618 -> 2.680163 | H51: =G51*1000 -> 2680.163
A52: M1801-45 | B52: 0.1329 | C52: 0.1948 | D52: 0.1676 | E52: =AVERAGE(B52:D52) -> 0.1651 | F52: =STDEV(B52:D52) -> 0.031025635 | G52: =5*(E52-0.0323)/0.2618 -> 2.5362872 | H52: =G52*1000 -> 2536.2872
A53: M1801-46 | B53: 0.225 | C53: 0.2009 | D53: 0.219 | E53: =AVERAGE(B53:D53) -> 0.21496667 | F53: =STDEV(B53:D53) -> 0.012546049 | G53: =5*(E53-0.0323)/0.2618 -> 3.4886682 | H53: =G53*1000 -> 3488.6682
A54: M1801-47 | B54: 3.0754 | C54: 2.9726 | D54: 2.9908 | E54: =AVERAGE(B54:D54) -> 3.0129333 | F54: =STDEV(B54:D54) -> 0.054857755 | G54: =5*(E54-0.0323)/0.2618 -> 56.92577 | H54: =G54*1000 -> 56925.77
A55: M1801-48 | B55: 0 | C55: 0 | D55: 0 | E55: =AVERAGE(B55:D55) -> 0 | F55: =STDEV(B55:D55) -> 0 | G55: =5*(E55-0.0323)/0.2618 -> -0.61688312 | H55: =G55*1000 -> -616.88312
A56: M1801-49 | B56: 0.1659 | C56: 0.1694 | D56: 0.188 | E56: =AVERAGE(B56:D56) -> 0.17443333 | F56: =STDEV(B56:D56) -> 0.011878692 | G56: =5*(E56-0.0323)/0.2618 -> 2.7145404 | H56: =G56*1000 -> 2714.5404
A57: M1801-50 | B57: 0.0319 | C57: 0.0155 | D57: 0.0041 | E57: =AVERAGE(B57:D57) -> 0.017166667 | F57: =STDEV(B57:D57) -> 0.013974739 | G57: =5*(E57-0.0323)/0.2618 -> -0.2890247 | H57: =G57*1000 -> -289.0247
...

Sheet IL-4
A1: 实验时间 | B1: 43371
A2: 操作人 | B2: 马霄、刘佳、蔡辉霞
A3: 实验方法：ELISA | B3: ELISA法
A4: 实验结果
A5: 人白细胞介素4（IL-4）
A6: 公司编号 | B6: OD值
B7: 平行1 | C7: 平行2 | D7: 平行3 | E7: 平均值 | F7: 标准差 | G7: 浓度
A8: M1801-01 | B8: 0.4733 | C8: 0.3815 | D8: 0.3977 | E8: =AVERAGE(B8:D8) -> 0.4175 | F8: =STDEV(B8:D8) -> 0.048998367 | G8: =5*(E8-0.0732)/0.0414 -> 41.582126
A9: M1801-02 | B9: 0.5018 | C9: 0.4472 | D9: 0.4969 | E9: =AVERAGE(B9:D9) -> 0.48196667 | F9: =STDEV(B9:D9) -> 0.030208332 | G9: =5*(E9-0.0732)/0.0414 -> 49.367955
A10: M1801-03 | B10: 0.1643 | C10: 0.2252 | D10: 0.1788 | E10: =AVERAGE(B10:D10) -> 0.18943333 | F10: =STDEV(B10:D10) -> 0.031812 | G10: =5*(E10-0.0732)/0.0414 -> 14.037842
A11: M1801-04 | B11: 0.1847 | C11: 0.1377 | D11: 0.2225 | E11: =AVERAGE(B11:D11) -> 0.18163333 | F11: =STDEV(B11:D11) -> 0.042483095 | G11: =5*(E11-0.0732)/0.0414 -> 13.095813
A12: M1801-05 | B12: 0.256 | C12: 0.353 | D12: 0.3353 | E12: =AVERAGE(B12:D12) -> 0.31476667 | F12: =STDEV(B12:D12) -> 0.051657171 | G12: =5*(E12-0.0732)/0.0414 -> 29.174718
A13: M1801-06 | B13: 0.1509 | C13: 0.1904 | D13: 0.1569 | E13: =AVERAGE(B13:D13) -> 0.16606667 | F13: =STDEV(B13:D13) -> 0.021285754 | G13: =5*(E13-0.0732)/0.0414 -> 11.215781
A14: M1801-07 | B14: 0.3116 | C14: 0.3826 | D14: 0.2864 | E14: =AVERAGE(B14:D14) -> 0.32686667 | F14: =STDEV(B14:D14) -> 0.049883999 | G14: =5*(E14-0.0732)/0.0414 -> 30.636071
A15: M1801-08 | B15: 1.0794 | D15: 1.0936 | E15: =AVERAGE(B15:D15) -> 1.0865 | F15: =STDEV(B15:D15) -> 0.010040916 | G15: =5*(E15-0.0732)/0.0414 -> 122.37923
A16: M1801-09 | B16: 0.2577 | C16: 0.2807 | D16: 0.2213 | E16: =AVERAGE(B16:D16) -> 0.25323333 | F16: =STDEV(B16:D16) -> 0.029950849 | G16: =5*(E16-0.0732)/0.0414 -> 21.743156
A17: M1801-10 | B17: 0.5872 | C17: 0.5081 | D17: 0.4989 | E17: =AVERAGE(B17:D17) -> 0.5314 | F17: =STDEV(B17:D17) -> 0.048542662 | G17: =5*(E17-0.0732)/0.0414 -> 55.338164
A18: M1801-11 | B18: 2.0049 | D18: 2.0942 | E18: =AVERAGE(B18:D18) -> 2.04955 | F18: =STDEV(B18:D18) -> 0.063144636 | G18: =5*(E18-0.0732)/0.0414 -> 238.68961
A19: M1801-12 | B19: 0.2342 | C19: 0.2775 | D19: 0.2743 | E19: =AVERAGE(B19:D19) -> 0.262 | F19: =STDEV(B19:D19) -> 0.024128614 | G19: =5*(E19-0.0732)/0.0414 -> 22.801932
A20: M1801-13 | B20: 0.1607 | C20: 0.1502 | D20: 0.1264 | E20: =AVERAGE(B20:D20) -> 0.14576667 | F20: =STDEV(B20:D20) -> 0.017574508 | G20: =5*(E20-0.0732)/0.0414 -> 8.7640902
A21: M1801-14 | B21: 0.1957 | C21: 0.1784 | D21: 0.21 | E21: =AVERAGE(B21:D21) -> 0.1947 | F21: =STDEV(B21:D21) -> 0.015823716 | G21: =5*(E21-0.0732)/0.0414 -> 14.673913
A22: M1801-15 | B22: 0.3199 | C22: 0.2784 | D22: 0.3206 | E22: =AVERAGE(B22:D22) -> 0.3063 | F22: =STDEV(B22:D22) -> 0.024164644 | G22: =5*(E22-0.0732)/0.0414 -> 28.152174
A23: M1801-16 | B23: 0.9657 | C23: 0.9397 | E23: =AVERAGE(B23:D23) -> 0.9527 | F23: =STDEV(B23:D23) -> 0.018384776 | G23: =5*(E23-0.0732)/0.0414 -> 106.21981
A24: M1801-17 | B24: 0.2511 | C24: 0.2951 | D24: 0.2687 | E24: =AVERAGE(B24:D24) -> 0.27163333 | F24: =STDEV(B24:D24) -> 0.022146181 | G24: =5*(E24-0.0732)/0.0414 -> 23.965378
A25: M1801-18 | B25: 0.2757 | C25: 0.2176 | D25: 0.2352 | E25: =AVERAGE(B25:D25) -> 0.24283333 | F25: =STDEV(B25:D25) -> 0.029792672 | G25: =5*(E25-0.0732)/0.0414 -> 20.487118
A26: M1801-19 | B26: 0.1027 | C26: 0.153 | D26: 0.091 | E26: =AVERAGE(B26:D26) -> 0.11556667 | F26: =STDEV(B26:D26) -> 0.032941817 | G26: =5*(E26-0.0732)/0.0414 -> 5.1167472
A27: M1801-20 | B27: 0.2176 | C27: 0.1773 | D27: 0.2234 | E27: =AVERAGE(B27:D27) -> 0.2061 | F27: =STDEV(B27:D27) -> 0.02510956 | G27: =5*(E27-0.0732)/0.0414 -> 16.050725
A28: M1801-21 | B28: 0.1878 | C28: 0.2705 | D28: 0.2185 | E28: =AVERAGE(B28:D28) -> 0.2256 | F28: =STDEV(B28:D28) -> 0.041804665 | G28: =5*(E28-0.0732)/0.0414 -> 18.405797
A29: M1801-22 | B29: 0.1081 | C29: 0.1232 | D29: 0.1124 | E29: =AVERAGE(B29:D29) -> 0.11456667 | F29: =STDEV(B29:D29) -> 0.0077796744 | G29: =5*(E29-0.0732)/0.0414 -> 4.9959742
A30: M1801-23 | B30: 0.2505 | C30: 0.2798 | D30: 0.1912 | E30: =AVERAGE(B30:D30) -> 0.2405 | F30: =STDEV(B30:D30) -> 0.045138564 | G30: =5*(E30-0.0732)/0.0414 -> 20.205314
A31: M1801-24 | B31: 0.0796 | C31: 0.0725 | D31: 0.0826 | E31: =AVERAGE(B31:D31) -> 0.078233333 | F31: =STDEV(B31:D31) -> 0.0051868423 | G31: =5*(E31-0.0732)/0.0414 -> 0.6078905
A32: M1801-25 | B32: 0.0967 | C32: 0.1213 | D32: 0.0652 | E32: =AVERAGE(B32:D32) -> 0.0944 | F32: =STDEV(B32:D32) -> 0.028120633 | G32: =5*(E32-0.0732)/0.0414 -> 2.5603865
A33: M1801-26 | B33: 0.0538 | C33: 0.0553 | D33: 0.044 | E33: =AVERAGE(B33:D33) -> 0.051033333 | F33: =STDEV(B33:D33) -> 0.006137046 | G33: =5*(E33-0.0732)/0.0414 -> -2.6771337
A34: M1801-27 | B34: 0.23 | C34: 0.1905 | D34: 0.214 | E34: =AVERAGE(B34:D34) -> 0.2115 | F34: =STDEV(B34:D34) -> 0.019868316 | G34: =5*(E34-0.0732)/0.0414 -> 16.702899
A35: M1801-28 | B35: 0.1916 | C35: 0.1512 | D35: 0.1533 | E35: =AVERAGE(B35:D35) -> 0.16536667 | F35: =STDEV(B35:D35) -> 0.022742984 | G35: =5*(E35-0.0732)/0.0414 -> 11.13124
... A37: M1801-30 | B37: 0.2169 | C37: 0.2417 | D37: 0.1716 | E37: =AVERAGE(B37:D37) -> 0.21006667 | F37: =STDEV(B37:D37) -> 0.035546073 | G37: =5*(E37-0.0732)/0.0414 -> 16.529791
A38: M1801-31 | B38: 0.1346 | C38: 0.1369 | D38: 0.1268 | E38: =AVERAGE(B38:D38) -> 0.13276667 | F38: =STDEV(B38:D38) -> 0.005293707 | G38: =5*(E38-0.0022)/0.0239 -> 27.315202
A39: M1801-32 | B39: 0 | C39: 0 | D39: 0 | E39: =AVERAGE(B39:D39) -> 0 | F39: =STDEV(B39:D39) -> 0 | G39: =5*(E39-0.0022)/0.0239 -> -0.46025105
A40: M1801-33 | B40: 0.1171 | C40: 0.0939 | D40: 0.1035 | E40: =AVERAGE(B40:D40) -> 0.10483333 | F40: =STDEV(B40:D40) -> 0.01165733 | G40: =5*(E40-0.0022)/0.0239 -> 21.471409
A41: M1801-34 | B41: 0.0718 | C41: 0.0899 | D41: 0.0841 | E41: =AVERAGE(B41:D41) -> 0.081933333 | F41: =STDEV(B41:D41) -> 0.0092424744 | G41: =5*(E41-0.0022)/0.0239 -> 16.680614
...

Sheet IL-5
A1: 实验时间 | B1: 43372
A2: 操作人 | B2: 马霄、刘佳、蔡辉霞
A3: 实验方法：ELISA | B3: ELISA法
A4: 实验结果
A5: 人白细胞介素5（IL-5）
A6: 公司编号 | B6: OD值
B7: 平行1 | C7: 平行2 | D7: 平行3 | E7: 平均值 | F7: 标准差 | G7: 浓度
A8: M1801-01 | B8: 0.4035 | C8: 0.4361 | D8: 0.3406 | E8: =AVERAGE(B8:D8) -> 0.3934 | F8: =_xlfn.STDEV.S(B8:D8) -> 0.048544516 | G8: =5*(E8-0.094)/0.0269 -> 55.650558 | L8: y = 0.0269x + 0.094
A9: M1801-02 | B9: 0.5587 | D9: 0.5702 | E9: =AVERAGE(B9:D9) -> 0.56445 | F9: =STDEV(B9:D9) -> 0.008131728 | G9: =5*(E9-0.094)/0.0269 -> 87.444238 | L9: R² = 0.984
A10: M1801-03 | B10: 0.0968 | C10: 0.0465 | D10: 0.1106 | E10: =AVERAGE(B10:D10) -> 0.084633333 | F10: =_xlfn.STDEV.S(B10:D10) -> 0.033737566 | G10: =5*(E10-0.094)/0.0269 -> -1.7410161
A11: M1801-04 | B11: 0.0969 | C11: 0.0751 | D11: 0.1468 | E11: =AVERAGE(B11:D11) -> 0.10626667 | F11: =_xlfn.STDEV.S(B11:D11) -> 0.036756269 | G11: =5*(E11-0.094)/0.0269 -> 2.2800496
A12: M1801-05 | B12: 0.3932 | C12: 0.3273 | D12: 0.3626 | E12: =AVERAGE(B12:D12) -> 0.36103333 | F12: =_xlfn.STDEV.S(B12:D12) -> 0.032977922 | G12: =5*(E12-0.094)/0.0269 -> 49.634449
A13: M1801-06 | B13: 0.0887 | C13: 0.1406 | D13: 0.1864 | E13: =AVERAGE(B13:D13) -> 0.13856667 | F13: =_xlfn.STDEV.S(B13:D13) -> 0.048881728 | G13: =5*(E13-0.094)/0.0269 -> 8.283767
A14: M1801-07 | B14: 0.1058 | C14: 0.2047 | D14: 0.2234 | E14: =AVERAGE(B14:D14) -> 0.17796667 | F14: =_xlfn.STDEV.S(B14:D14) -> 0.063193697 | G14: =5*(E14-0.094)/0.0269 -> 15.607187
A15: M1801-08 | B15: 0.9461 | C15: 0.9472 | D15: 0.8778 | E15: =AVERAGE(B15:D15) -> 0.9237 | F15: =_xlfn.STDEV.S(B15:D15) -> 0.039754371 | G15: =5*(E15-0.094)/0.0269 -> 154.21933
A16: M1801-09 | B16: 0.0875 | C16: 0.1738 | D16: 0.141 | E16: =AVERAGE(B16:D16) -> 0.1341 | F16: =_xlfn.STDEV.S(B16:D16) -> 0.043561795 | G16: =5*(E16-0.094)/0.0269 -> 7.4535316
A17: M1801-10 | B17: 0.5514 | C17: 0.382 | D17: 0.5233 | E17: =AVERAGE(B17:D17) -> 0.48556667 | F17: =_xlfn.STDEV.S(B17:D17) -> 0.090785149 | G17: =5*(E17-0.094)/0.0269 -> 72.781908
A18: M1801-11 | B18: 1.9975 | C18: 2.3391 | E18: =AVERAGE(B18:D18) -> 2.1683 | F18: =STDEV(B18:D18) -> 0.24154768 | G18: =5*(E18-0.094)/0.0269 -> 385.55762
A19: M1801-12 | B19: 0.1506 | C19: 0.0298 | D19: 0.0437 | E19: =AVERAGE(B19:D19) -> 0.0747 | F19: =_xlfn.STDEV.S(B19:D19) -> 0.066097731 | G19: =5*(E19-0.094)/0.0269 -> -3.5873606
A20: M1801-13 | B20: 0.0334 | C20: 0.0537 | D20: 0.0434 | E20: =AVERAGE(B20:D20) -> 0.0435 | F20: =_xlfn.STDEV.S(B20:D20) -> 0.010150369 | G20: =5*(E20-0.094)/0.0269 -> -9.3866171
A21: M1801-14 | B21: 0.1168 | C21: 0.0915 | D21: 0.0419 | E21: =AVERAGE(B21:D21) -> 0.0834 | F21: =_xlfn.STDEV.S(B21:D21) -> 0.038101312 | G21: =5*(E21-0.094)/0.0269 -> -1.9702602
A22: M1801-15 | B22: 0.1923 | C22: 0.2613 | D22: 0.1734 | E22: =AVERAGE(B22:D22) -> 0.209 | F22: =_xlfn.STDEV.S(B22:D22) -> 0.046268456 | G22: =5*(E22-0.094)/0.0269 -> 21.375465
A23: M1801-16 | B23: 1.0728 | D23: 0.9447 | E23: =AVERAGE(B23:D23) -> 1.00875 | F23: =STDEV(B23:D23) -> 0.090580379 | G23: =5*(E23-0.094)/0.0269 -> 170.02788
A24: M1801-17 | B24: 0.1794 | C24: 0.2123 | D24: 0.1662 | E24: =AVERAGE(B24:D24) -> 0.18596667 | F24: =_xlfn.STDEV.S(B24:D24) -> 0.023741174 | G24: =5*(E24-0.094)/0.0269 -> 17.094176
A25: M1801-18 | B25: 0.214 | C25: 0.114 | D25: 0.1257 | E25: =AVERAGE(B25:D25) -> 0.15123333 | F25: =_xlfn.STDEV.S(B25:D25) -> 0.054671412 | G25: =5*(E25-0.094)/0.0269 -> 10.638166
A26: M1801-19 | B26: 0.0393 | C26: 0.0489 | D26: 0.0636 | E26: =AVERAGE(B26:D26) -> 0.0506 | F26: =_xlfn.STDEV.S(B26:D26) -> 0.012238872 | G26: =5*(E26-0.094)/0.0269 -> -8.0669145
A27: M1801-20 | B27: 0.116 | C27: 0.0792 | D27: 0.0524 | E27: =AVERAGE(B27:D27) -> 0.082533333 | F27: =_xlfn.STDEV.S(B27:D27) -> 0.031930758 | G27: =5*(E27-0.094)/0.0269 -> -2.1313507
A28: M1801-21 | B28: 0.0328 | C28: 0.0796 | D28: 0.0996 | E28: =AVERAGE(B28:D28) -> 0.070666667 | F28: =_xlfn.STDEV.S(B28:D28) -> 0.034284302 | G28: =5*(E28-0.094)/0.0269 -> -4.3370508
A29: M1801-22 | B29: 0.0009 | C29: 0.0072 | D29: 0.0005 | E29: =AVERAGE(B29:D29) -> 0.0028666667 | F29: =_xlfn.STDEV.S(B29:D29) -> 0.0037581024 | G29: =5*(E29-0.094)/0.0269 -> -16.939281
A30: M1801-23 | B30: 0.185 | C30: 0.1247 | D30: 0.1322 | E30: =AVERAGE(B30:D30) -> 0.1473 | F30: =_xlfn.STDEV.S(B30:D30) -> 0.03286381 | G30: =5*(E30-0.094)/0.0269 -> 9.9070632
A31: M1801-24 | B31: 0.0139 | C31: 0.015 | D31: 0.081 | E31: =AVERAGE(B31:D31) -> 0.036633333 | F31: =_xlfn.STDEV.S(B31:D31) -> 0.038426597 | G31: =5*(E31-0.094)/0.0269 -> -10.662949
A32: M1801-25 | B32: 0.0589 | C32: 0.0897 | D32: 0.0189 | E32: =AVERAGE(B32:D32) -> 0.055833333 | F32: =_xlfn.STDEV.S(B32:D32) -> 0.035499484 | G32: =5*(E32-0.094)/0.0269 -> -7.094176
A33: M1801-26 | B33: 0.1917 | C33: 0.2181 | D33: 0.1826 | E33: =AVERAGE(B33:D33) -> 0.19746667 | F33: =_xlfn.STDEV.S(B33:D33) -> 0.018439179 | G33: =5*(E33-0.094)/0.0269 -> 19.231722
A34: M1801-27 | B34: 0.1032 | C34: 0.0709 | D34: 0.1228 | E34: =AVERAGE(B34:D34) -> 0.098966667 | F34: =_xlfn.STDEV.S(B34:D34) -> 0.026207696 | G34: =5*(E34-0.094)/0.0269 -> 0.92317224
A35: M1801-28 | B35: 0.0332 | C35: 0.0619 | D35: 0.08 | E35: =AVERAGE(B35:D35) -> 0.058366667 | F35: =_xlfn.STDEV.S(B35:D35) -> 0.023599223 | G35: =5*(E35-0.094)/0.0269 -> -6.6232962
... A37: M1801-30 | B37: 0.0079 | C37: 0.004 | D37: 0.043 | E37: =AVERAGE(B37:D37) -> 0.0183 | F37: =_xlfn.STDEV.S(B37:D37) -> 0.021479525 | G37: =5*(E37-0.094)/0.0269 -> -14.070632
A38: M1801-31 | B38: 0.3387 | C38: 0.2859 | D38: 0.3166 | E38: =AVERAGE(B38:D38) -> 0.31373333 | F38: =_xlfn.STDEV.S(B38:D38) -> 0.026516473 | G38: =5*(E38-0.0255)/0.0215 -> 67.031008 | L38: y = 0.0215x + 0.0255
A39: M1801-32 | B39: 0 | C39: 0 | D39: 0 | E39: =AVERAGE(B39:D39) -> 0 | F39: =_xlfn.STDEV.S(B39:D39) -> 0 | G39: =5*(E39-0.0255)/0.0215 -> -5.9302326 | L39: R² = 0.996
A40: M1801-33 | B40: 0.1758 | C40: 0.2254 | D40: 0.1277 | E40: =AVERAGE(B40:D40) -> 0.1763 | F40: =_xlfn.STDEV.S(B40:D40) -> 0.048851919 | G40: =5*(E40-0.0255)/0.0215 -> 35.069767
A41: M1801-34 | B41: 0.07 | C41: 0.0204 | D41: 0.0514 | E41: =AVERAGE(B41:D41) -> 0.047266667 | F41: =_xlfn.STDEV.S(B41:D41) -> 0.025057002 | G41: =5*(E41-0.0255)/0.0215 -> 5.0620155
...

Sheet IL-6
A1: 实验时间 | B1: 43373
A2: 操作人 | B2: 马霄、刘佳、蔡辉霞
A3: 实验方法：ELISA | B3: ELISA法
A4: 实验结果
A5: 人白细胞介素6（IL-6）
A6: 公司编号 | B6: OD值
B7: 第一次 | C7: 第二次 | D7: 第三次 | E7: 平均值 | F7: 标准差 | G7: 浓度
A8: M1801-01 | B8: 0.485 | C8: 0.4388 | D8: 0.4723 | E8: =AVERAGE(B8:D8) -> 0.46536667 | F8: =STDEV(B8:D8) -> 0.023867621 | G8: =5*(E8-0.1312)/0.0394 -> 42.406937
A9: M1801-02 | B9: 0.5092 | C9: 0.498 | D9: 0.587 | E9: =AVERAGE(B9:D9) -> 0.5314 | F9: =STDEV(B9:D9) -> 0.048475561 | G9: =5*(E9-0.1312)/0.0394 -> 50.786802
A10: M1801-03 | B10: 0.2782 | C10: 0.2687 | D10: 0.2465 | E10: =AVERAGE(B10:D10) -> 0.26446667 | F10: =STDEV(B10:D10) -> 0.016268477 | G10: =5*(E10-0.1312)/0.0394 -> 16.912014
A11: M1801-04 | B11: 0.1682 | C11: 0.1457 | D11: 0.2356 | E11: =AVERAGE(B11:D11) -> 0.18316667 | F11: =STDEV(B11:D11) -> 0.046781442 | G11: =5*(E11-0.1312)/0.0394 -> 6.5947547
A12: M1801-05 | B12: 0.3137 | C12: 0.438 | D12: 0.3959 | E12: =AVERAGE(B12:D12) -> 0.38253333 | F12: =STDEV(B12:D12) -> 0.063218853 | G12: =5*(E12-0.1312)/0.0394 -> 31.895093
A13: M1801-06 | B13: 0.2138 | C13: 0.2346 | D13: 0.2188 | E13: =AVERAGE(B13:D13) -> 0.2224 | F13: =STDEV(B13:D13) -> 0.010857256 | G13: =5*(E13-0.1312)/0.0394 -> 11.573604
A14: M1801-07 | B14: 0.2954 | C14: 0.3456 | D14: 0.3433 | E14: =AVERAGE(B14:D14) -> 0.3281 | F14: =STDEV(B14:D14) -> 0.028342371 | G14: =5*(E14-0.1312)/0.0394 -> 24.98731
A15: M1801-08 | C15: 0.717 | D15: 0.5817 | E15: =AVERAGE(B15:D15) -> 0.64935 | F15: =STDEV(B15:D15) -> 0.095671547 | G15: =5*(E15-0.1312)/0.0394 -> 65.755076
A16: M1801-09 | B16: 0.2229 | C16: 0.2444 | D16: 0.2245 | E16: =AVERAGE(B16:D16) -> 0.2306 | F16: =STDEV(B16:D16) -> 0.011977896 | G16: =5*(E16-0.1312)/0.0394 -> 12.614213
A17: M1801-10 | B17: 0.4841 | C17: 0.3657 | D17: 0.3912 | E17: =AVERAGE(B17:D17) -> 0.41366667 | F17: =STDEV(B17:D17) -> 0.062315354 | G17: =5*(E17-0.1312)/0.0394 -> 35.846024
A18: M1801-11 | B18: 2.24 | C18: 2.3841 | D18: 2.3544 | E18: =AVERAGE(B18:D18) -> 2.3261667 | F18: =STDEV(B18:D18) -> 0.076085763 | G18: =5*(E18-0.1312)/0.0394 -> 278.54907
A19: M1801-12 | B19: 0.1904 | C19: 0.1877 | D19: 0.1148 | E19: =AVERAGE(B19:D19) -> 0.1643 | F19: =STDEV(B19:D19) -> 0.042889509 | G19: =5*(E19-0.1312)/0.0394 -> 4.2005076
A20: M1801-13 | B20: 0.1861 | C20: 0.1771 | D20: 0.1595 | E20: =AVERAGE(B20:D20) -> 0.17423333 | F20: =STDEV(B20:D20) -> 0.01352972 | G20: =5*(E20-0.1312)/0.0394 -> 5.4610829
A21: M1801-14 | B21: 0.2071 | C21: 0.1717 | D21: 0.1162 | E21: =AVERAGE(B21:D21) -> 0.165 | F21: =STDEV(B21:D21) -> 0.045818883 | G21: =5*(E21-0.1312)/0.0394 -> 4.2893401
A22: M1801-15 | B22: 0.2281 | C22: 0.2991 | D22: 0.2312 | E22: =AVERAGE(B22:D22) -> 0.2528 | F22: =STDEV(B22:D22) -> 0.040126924 | G22: =5*(E22-0.1312)/0.0394 -> 15.431472
A23: M1801-16 | B23: 0.8684 | C23: 0.7792 | E23: =AVERAGE(B23:D23) -> 0.8238 | F23: =STDEV(B23:D23) -> 0.063073925 | G23: =5*(E23-0.1312)/0.0394 -> 87.893401
A24: M1801-17 | B24: 0.2478 | C24: 0.2423 | D24: 0.2214 | E24: =AVERAGE(B24:D24) -> 0.23716667 | F24: =STDEV(B24:D24) -> 0.013928508 | G24: =5*(E24-0.1312)/0.0394 -> 13.447547
A25: M1801-18 | B25: 0.2331 | C25: 0.2125 | D25: 0.1777 | E25: =AVERAGE(B25:D25) -> 0.20776667 | F25: =STDEV(B25:D25) -> 0.028001667 | G25: =5*(E25-0.1312)/0.0394 -> 9.7165821
A26: M1801-19 | B26: 0.1463 | C26: 0.1493 | D26: 0.1309 | E26: =AVERAGE(B26:D26) -> 0.14216667 | F26: =STDEV(B26:D26) -> 0.0098718455 | G26: =5*(E26-0.1312)/0.0394 -> 1.391709
A27: M1801-20 | B27: 0.1976 | C27: 0.1611 | D27: 0.2403 | E27: =AVERAGE(B27:D27) -> 0.19966667 | F27: =STDEV(B27:D27) -> 0.039640425 | G27: =5*(E27-0.1312)/0.0394 -> 8.6886633
A28: M1801-21 | B28: 0.2199 | C28: 0.2678 | D28: 0.2135 | E28: =AVERAGE(B28:D28) -> 0.23373333 | F28: =STDEV(B28:D28) -> 0.029675635 | G28: =5*(E28-0.1312)/0.0394 -> 13.011844
A29: M1801-22 | B29: 0.0775 | C29: 0.0788 | D29: 0.0976 | E29: =AVERAGE(B29:D29) -> 0.084633333 | F29: =STDEV(B29:D29) -> 0.011248259 | G29: =5*(E29-0.1312)/0.0394 -> -5.9094755
A30: M1801-23 | B30: 0.2088 | C30: 0.2667 | D30: 0.3016 | E30: =AVERAGE(B30:D30) -> 0.25903333 | F30: =STDEV(B30:D30) -> 0.046872629 | G30: =5*(E30-0.1312)/0.0394 -> 16.222504
A31: M1801-24 | B31: 0.109 | C31: 0.0681 | D31: 0.081 | E31: =AVERAGE(B31:D31) -> 0.086033333 | F31: =STDEV(B31:D31) -> 0.020909408 | G31: =5*(E31-0.1312)/0.0394 -> -5.7318105
A32: M1801-25 | B32: 0.0996 | C32: 0.083 | D32: 0.0776 | E32: =AVERAGE(B32:D32) -> 0.086733333 | F32: =STDEV(B32:D32) -> 0.01146531 | G32: =5*(E32-0.1312)/0.0394 -> -5.642978
A33: M1801-26 | B33: 0.3309 | C33: 0.2617 | D33: 0.2831 | E33: =AVERAGE(B33:D33) -> 0.2919 | F33: =STDEV(B33:D33) -> 0.035429366 | G33: =5*(E33-0.1312)/0.0394 -> 20.393401
A34: M1801-27 | B34: 0.2529 | C34: 0.297 | D34: 0.1767 | E34: =AVERAGE(B34:D34) -> 0.2422 | F34: =STDEV(B34:D34) -> 0.060859593 | G34: =5*(E34-0.1312)/0.0394 -> 14.086294
A35: M1801-28 | B35: 0.166 | C35: 0.1707 | D35: 0.0926 | E35: =AVERAGE(B35:D35) -> 0.1431 | F35: =STDEV(B35:D35) -> 0.043797374 | G35: =5*(E35-0.1312)/0.0394 -> 1.5101523
... A37: M1801-30 | B37: 0.1224 | C37: 0.1318 | D37: 0.1549 | E37: =AVERAGE(B37:D37) -> 0.13636667 | F37: =STDEV(B37:D37) -> 0.016724334 | G37: =5*(E37-0.1312)/0.0394 -> 0.65566836
A38: M1801-31 | B38: 0.3604 | C38: 0.3578 | D38: 0.3309 | E38: =AVERAGE(B38:D38) -> 0.3497 | F38: =STDEV(B38:D38) -> 0.016333095 | G38: =5*(E38-0.0632)/0.0354 -> 40.466102
A39: M1801-32 | B39: 0.0587 | C39: 0.0481 | D39: 0.0773 | E39: =AVERAGE(B39:D39) -> 0.061366667 | F39: =STDEV(B39:D39) -> 0.01478152 | G39: =5*(E39-0.0632)/0.0354 -> -0.25894539
A40: M1801-33 | B40: 0.2063 | C40: 0.1976 | D40: 0.1611 | E40: =AVERAGE(B40:D40) -> 0.18833333 | F40: =STDEV(B40:D40) -> 0.023982563 | G40: =5*(E40-0.0632)/0.0354 -> 17.6742
A41: M1801-34 | B41: 0.1537 | C41: 0.1283 | D41: 0.1452 | E41: =AVERAGE(B41:D41) -> 0.1424 | F41: =STDEV(B41:D41) -> 0.012929424 | G41: =5*(E41-0.0632)/0.0354 -> 11.186441
...

Sheet IL-8
A1: 实验时间 | B1: 43381
A2: 操作人 | B2: 马霄、刘佳、蔡辉霞
A3: 实验方法 | B3: ELISA法
A4: 实验结果
A5: 人白细胞介素8（IL-8）
A6: 公司编号 | B6: OD值
B7: 平行1 | C7: 平行2 | D7: 平行3 | E7: 平均值 | F7: 标准差 | G7: 浓度
A8: M1801-01 | B8: 0.3924 | C8: 0.3342 | D8: 0.3395 | E8: =AVERAGE(B8:D8) -> 0.35536667 | F8: =STDEV(B8:D8) -> 0.032181102 | G8: =5*(E8-0.08)/0.0168 -> 81.954365
A9: M1801-02 | B9: 0.504 | C9: 0.4368 | D9: 0.4789 | E9: =AVERAGE(B9:D9) -> 0.47323333 | F9: =STDEV(B9:D9) -> 0.033956492 | G9: =5*(E9-0.08)/0.0168 -> 117.03373
A10: M1801-03 | B10: 0.2534 | C10: 0.2521 | D10: 0.2181 | E10: =AVERAGE(B10:D10) -> 0.2412 | F10: =STDEV(B10:D10) -> 0.020015744 | G10: =5*(E10-0.08)/0.0168 -> 47.97619
A11: M1801-04 | B11: 0.2416 | C11: 0.2471 | D11: 0.2537 | E11: =AVERAGE(B11:D11) -> 0.24746667 | F11: =STDEV(B11:D11) -> 0.0060583276 | G11: =5*(E11-0.08)/0.0168 -> 49.84127
A12: M1801-05 | B12: 0.3239 | C12: 0.3142 | D12: 0.3147 | E12: =AVERAGE(B12:D12) -> 0.3176 | F12: =STDEV(B12:D12) -> 0.0054616847 | G12: =5*(E12-0.08)/0.0168 -> 70.714286
A13: M1801-06 | B13: 0.2438 | C13: 0.2011 | D13: 0.1982 | E13: =AVERAGE(B13:D13) -> 0.21436667 | F13: =STDEV(B13:D13) -> 0.025531223 | G13: =5*(E13-0.08)/0.0168 -> 39.990079
A14: M1801-07 | B14: 0.2959 | C14: 0.294 | D14: 0.2428 | E14: =AVERAGE(B14:D14) -> 0.27756667 | F14: =STDEV(B14:D14) -> 0.0301238 | G14: =5*(E14-0.08)/0.0168 -> 58.799603
A15: M1801-08 | B15: 0.9687 | C15: 0.9257 | D15: 0.8311 | E15: =AVERAGE(B15:D15) -> 0.9085 | F15: =STDEV(B15:D15) -> 0.070394034 | G15: =5*(E15-0.08)/0.0168 -> 246.57738
A16: M1801-09 | B16: 0.1981 | C16: 0.2572 | D16: 0.2019 | E16: =AVERAGE(B16:D16) -> 0.21906667 | F16: =STDEV(B16:D16) -> 0.033079047 | G16: =5*(E16-0.08)/0.0168 -> 41.388889
A17: M1801-10 | B17: 0.4161 | C17: 0.4938 | D17: 0.3801 | E17: =AVERAGE(B17:D17) -> 0.43 | F17: =STDEV(B17:D17) -> 0.058110498 | G17: =5*(E17-0.08)/0.0168 -> 104.16667
A18: M1801-11 | B18: 3.0312 | C18: 2.8905 | D18: 2.9207 | E18: =AVERAGE(B18:D18) -> 2.9474667 | F18: =STDEV(B18:D18) -> 0.074070664 | G18: =5*(E18-0.08)/0.0168 -> 853.4127
A19: M1801-12 | B19: 0.2315 | C19: 0.1973 | D19: 0.2231 | E19: =AVERAGE(B19:D19) -> 0.2173 | F19: =STDEV(B19:D19) -> 0.017822458 | G19: =5*(E19-0.08)/0.0168 -> 40.863095
... A37: M1801-30 | B37: 0.1014 | C37: 0.1054 | D37: 0.0871 | E37: =AVERAGE(B37:D37) -> 0.097966667 | F37: =STDEV(B37:D37) -> 0.009620984 | G37: =5*(E37-0.08)/0.0168 -> 5.3472222
A38: M1801-31 | B38: 0.567 | C38: 0.3918 | D38: 0.4513 | E38: =AVERAGE(B38:D38) -> 0.47003333 | F38: =STDEV(B38:D38) -> 0.089089637 | G38: =5*(E38-0.1688)/0.0156 -> 96.549145
A39: M1801-32 | B39: 0.099 | C39: 0.0907 | D39: 0.1274 | E39: =AVERAGE(B39:D39) -> 0.1057 | F39: =STDEV(B39:D39) -> 0.019245519 | G39: =5*(E39-0.1688)/0.0156 -> -20.224359
A40: M1801-33 | B40: 0.3087 | C40: 0.3185 | D40: 0.3825 | E40: =AVERAGE(B40:D40) -> 0.33656667 | F40: =STDEV(B40:D40) -> 0.040080086 | G40: =5*(E40-0.1688)/0.0156 -> 53.771368
A41: M1801-34 | B41: 0.2207 | C41: 0.2516 | D41: 0.1942 | E41: =AVERAGE(B41:D41) -> 0.22216667 | F41: =STDEV(B41:D41) -> 0.028728093 | G41: =5*(E41-0.1688)/0.0156 -> 17.104701
A42: M1801-35 | B42: 0.1857 | C42: 0.1172 | D42: 0.118 | E42: =AVERAGE(B42:D42) -> 0.1403 | F42: =STDEV(B42:D42) -> 0.039319588 | G42: =5*(E42-0.1688)/0.0156 -> -9.1346154
A43: M1801-36 | B43: 0.1988 | C43: 0.2269 | D43: 0.2192 | E43: =AVERAGE(B43:D43) -> 0.21496667 | F43: =STDEV(B43:D43) -> 0.014520445 | G43: =5*(E43-0.1688)/0.0156 -> 14.797009
A44: M1801-37 | B44: 0.365 | C44: 0.4984 | D44: 0.353 | E44: =AVERAGE(B44:D44) -> 0.40546667 | F44: =STDEV(B44:D44) -> 0.080705968 | G44: =5*(E44-0.1688)/0.0156 -> 75.854701
A45: M1801-38 | B45: 0.309 | C45: 0.2702 | D45: 0.3679 | E45: =AVERAGE(B45:D45) -> 0.3157 | F45: =STDEV(B45:D45) -> 0.049193394 | G45: =5*(E45-0.1688)/0.0156 -> 47.083333
A46: M1801-39 | B46: 0.3747 | C46: 0.4436 | D46: 0.3738 | E46: =AVERAGE(B46:D46) -> 0.39736667 | F46: =STDEV(B46:D46) -> 0.04004177 | G46: =5*(E46-0.1688)/0.0156 -> 73.258547
A47: M1801-40 | B47: 0.2978 | C47: 0.2134 | D47: 0.2563 | E47: =AVERAGE(B47:D47) -> 0.25583333 | F47: =STDEV(B47:D47) -> 0.042201935 | G47: =5*(E47-0.1688)/0.0156 -> 27.895299
A48: M1801-41 | C48: 2.1891 | D48: 2.4389 | E48: =AVERAGE(B48:D48) -> 2.314 | F48: =STDEV(B48:D48) -> 0.17663527 | G48: =5*(E48-0.1688)/0.0156 -> 687.5641
A49: M1801-42 | B49: 0.2122 | C49: 0.1374 | D49: 0.2531 | E49: =AVERAGE(B49:D49) -> 0.2009 | F49: =STDEV(B49:D49) -> 0.058671884 | G49: =5*(E49-0.1688)/0.0156 -> 10.288462
A50: M1801-43 | B50: 0.2908 | C50: 0.2024 | D50: 0.2449 | E50: =AVERAGE(B50:D50) -> 0.24603333 | F50: =STDEV(B50:D50) -> 0.044210896 | G50: =5*(E50-0.1688)/0.0156 -> 24.754274
A51: M1801-44 | B51: 0.2927 | C51: 0.2519 | D51: 0.2116 | E51: =AVERAGE(B51:D51) -> 0.25206667 | F51: =STDEV(B51:D51) -> 0.040550257 | G51: =5*(E51-0.1688)/0.0156 -> 26.688034
A52: M1801-45 | B52: 0.3234 | C52: 0.3054 | D52: 0.2455 | E52: =AVERAGE(B52:D52) -> 0.29143333 | F52: =STDEV(B52:D52) -> 0.040784842 | G52: =5*(E52-0.1688)/0.0156 -> 39.305556
