Workbook

Sheet Eotaxin
A1: 实验时间 | B1: 43362
A2: 操作人 | B2: 马霄、刘佳、蔡辉霞
A3: 实验方法：ELISA | B3: ELISA法
A4: 实验结果
A5: 人嗜酸性粒细胞趋化蛋白（Eotaxin）检测数据
A6: 公司编号 | B6: OD值
B7: 平行1 | C7: 平行2 | D7: 平行3 | E7: 平均值 | F7: 标准差 | G7: 浓度（pg/mL）
A8: M1801-01 | B8: 0.3018 | C8: 0.2294 | D8: 0.2503 | E8: =AVERAGE(B8:D8) -> 0.2605 | F8: =STDEV(B8:D8) -> 0.037262179 | G8: =5*(E8-0.0409)/0.0416 -> 26.394231
A9: M1801-02 | B9: 0.321 | C9: 0.3116 | D9: 0.3563 | E9: =AVERAGE(B9:D9) -> 0.32963333 | F9: =STDEV(B9:D9) -> 0.023567421 | G9: =5*(E9-0.0409)/0.0416 -> 34.703526
A10: M1801-03 | B10: 0.1641 | C10: 0.0899 | D10: 0.1147 | E10: =AVERAGE(B10:D10) -> 0.1229 | F10: =STDEV(B10:D10) -> 0.037773536 | G10: =5*(E10-0.0409)/0.0416 -> 9.8557692
A11: M1801-04 | B11: 0.1793 | C11: 0.1257 | D11: 0.1754 | E11: =AVERAGE(B11:D11) -> 0.16013333 | F11: =STDEV(B11:D11) -> 0.029883831 | G11: =5*(E11-0.0409)/0.0416 -> 14.330929
A12: M1801-05 | B12: 0.222 | C12: 0.2404 | D12: 0.2595 | E12: =AVERAGE(B12:D12) -> 0.24063333 | F12: =STDEV(B12:D12) -> 0.018751089 | G12: =5*(E12-0.0409)/0.0416 -> 24.00641
A13: M1801-06 | B13: 0.1713 | C13: 0.1464 | D13: 0.1539 | E13: =AVERAGE(B13:D13) -> 0.1572 | F13: =STDEV(B13:D13) -> 0.012773801 | G13: =5*(E13-0.0409)/0.0416 -> 13.978365
A14: M1801-07 | B14: 0.1545 | C14: 0.2355 | D14: 0.2509 | E14: =AVERAGE(B14:D14) -> 0.21363333 | F14: =STDEV(B14:D14) -> 0.051786613 | G14: =5*(E14-0.0409)/0.0416 -> 20.761218
A15: M1801-08 | B15: 0.7425 | C15: 0.6691 | D15: 0.747 | E15: =AVERAGE(B15:D15) -> 0.71953333 | F15: =STDEV(B15:D15) -> 0.043734464 | G15: =5*(E15-0.0409)/0.0416 -> 81.566506
A16: M1801-09 | B16: 0.1833 | C16: 0.1823 | D16: 0.1903 | E16: =AVERAGE(B16:D16) -> 0.1853 | F16: =STDEV(B16:D16) -> 0.0043588989 | G16: =5*(E16-0.0409)/0.0416 -> 17.355769
A17: M1801-10 | B17: 0.4685 | C17: 0.4681 | D17: 0.504 | E17: =AVERAGE(B17:D17) -> 0.4802 | F17: =STDEV(B17:D17) -> 0.020612375 | G17: =5*(E17-0.0409)/0.0416 -> 52.800481
A18: M1801-11 | B18: 2.5559 | C18: 2.3935 | D18: 2.5765 | E18: =AVERAGE(B18:D18) -> 2.5086333 | F18: =STDEV(B18:D18) -> 0.10023898 | G18: =5*(E18-0.0409)/0.0416 -> 296.60256
A19: M1801-12 | B19: 0.1976 | C19: 0.2078 | D19: 0.226 | E19: =AVERAGE(B19:D19) -> 0.21046667 | F19: =STDEV(B19:D19) -> 0.014386568 | G19: =5*(E19-0.0409)/0.0416 -> 20.380609
... A37: M1801-30 | B37: 0.0803 | C37: 0.0742 | D37: 0.1067 | E37: =AVERAGE(B37:D37) -> 0.087066667 | F37: =STDEV(B37:D37) -> 0.017274355 | G37: =5*(E37-0.0409)/0.0416 -> 5.5488782
A38: M1801-31 | B38: 0.2586 | C38: 0.1808 | D38: 0.3002 | E38: =AVERAGE(B38:D38) -> 0.24653333 | F38: =STDEV(B38:D38) -> 0.0606077 | G38: =5*(E38-0.0882)/0.0349 -> 22.683859
A39: M1801-32 | B39: 0.0794 | C39: 0.0445 | D39: 0.0572 | E39: =AVERAGE(B39:D39) -> 0.060366667 | F39: =STDEV(B39:D39) -> 0.017664182 | G39: =5*(E39-0.0882)/0.0349 -> -3.9875836
A40: M1801-33 | B40: 0.1319 | C40: 0.1443 | D40: 0.1774 | E40: =AVERAGE(B40:D40) -> 0.1512 | F40: =STDEV(B40:D40) -> 0.023521692 | G40: =5*(E40-0.0882)/0.0349 -> 9.025788
A41: M1801-34 | B41: 0.139 | C41: 0.0779 | D41: 0.1687 | E41: =AVERAGE(B41:D41) -> 0.12853333 | F41: =STDEV(B41:D41) -> 0.04629604 | G41: =5*(E41-0.0882)/0.0349 -> 5.7784145
A42: M1801-35 | B42: 0.0629 | C42: 0.0331 | D42: 0.0313 | E42: =AVERAGE(B42:D42) -> 0.042433333 | F42: =STDEV(B42:D42) -> 0.017747488 | G42: =5*(E42-0.0882)/0.0349 -> -6.556829
A43: M1801-36 | B43: 0.1044 | C43: 0.0928 | D43: 0.0917 | E43: =AVERAGE(B43:D43) -> 0.0963 | F43: =STDEV(B43:D43) -> 0.0070363343 | G43: =5*(E43-0.0882)/0.0349 -> 1.1604585
A44: M1801-37 | B44: 0.1587 | C44: 0.2061 | D44: 0.142 | E44: =AVERAGE(B44:D44) -> 0.16893333 | F44: =STDEV(B44:D44) -> 0.033252719 | G44: =5*(E44-0.0882)/0.0349 -> 11.56638
A45: M1801-38 | B45: 0.1915 | C45: 0.1477 | D45: 0.1587 | E45: =AVERAGE(B45:D45) -> 0.16596667 | F45: =STDEV(B45:D45) -> 0.022786253 | G45: =5*(E45-0.0882)/0.0349 -> 11.141356
A46: M1801-39 | B46: 0.1503 | C46: 0.2496 | D46: 0.1404 | E46: =AVERAGE(B46:D46) -> 0.1801 | F46: =STDEV(B46:D46) -> 0.06039197 | G46: =5*(E46-0.0882)/0.0349 -> 13.166189
A47: M1801-40 | B47: 0.1856 | C47: 0.1594 | D47: 0.2036 | E47: =AVERAGE(B47:D47) -> 0.18286667 | F47: =STDEV(B47:D47) -> 0.022226411 | G47: =5*(E47-0.0882)/0.0349 -> 13.56256
A48: M1801-41 | B48: 1.2713 | C48: 1.1213 | D48: 1.0831 | E48: =AVERAGE(B48:D48) -> 1.1585667 | F48: =STDEV(B48:D48) -> 0.099480718 | G48: =5*(E48-0.0882)/0.0349 -> 153.34766
A49: M1801-42 | B49: 0.0501 | C49: 0 | D49: 0.1217 | E49: =AVERAGE(B49:D49) -> 0.057266667 | F49: =STDEV(B49:D49) -> 0.061165704 | G49: =5*(E49-0.0882)/0.0349 -> -4.4317096
... A67: M1801-60 | B67: 2.2635 | C67: 2.4292 | D67: 2.3182 | E67: =AVERAGE(B67:D67) -> 2.3369667 | F67: =STDEV(B67:D67) -> 0.084429043 | G67: =5*(E67-0.0882)/0.0349 -> 322.17287
A68: M1801-61 | B68: 0.3513 | C68: 0.3011 | D68: 0.3164 | E68: =AVERAGE(B68:D68) -> 0.32293333 | F68: =STDEV(B68:D68) -> 0.025729814 | G68: =5*(E68-0.0403)/0.0474 -> 29.813643
A69: M1801-62 | B69: 0.1513 | C69: 0.1526 | D69: 0.1183 | E69: =AVERAGE(B69:D69) -> 0.14073333 | F69: =STDEV(B69:D69) -> 0.019438707 | G69: =5*(E69-0.0403)/0.0474 -> 10.594233
A70: M1801-63 | B70: 0.1348 | C70: 0.121 | D70: 0.136 | E70: =AVERAGE(B70:D70) -> 0.1306 | F70: =STDEV(B70:D70) -> 0.0083354664 | G70: =5*(E70-0.0403)/0.0474 -> 9.5253165
A71: M1801-64 | B71: 0.0806 | C71: 0.0577 | D71: 0.0981 | E71: =AVERAGE(B71:D71) -> 0.0788 | F71: =STDEV(B71:D71) -> 0.020260059 | G71: =5*(E71-0.0403)/0.0474 -> 4.0611814
A72: M1801-65 | B72: 0.0969 | C72: 0.1273 | D72: 0.0868 | E72: =AVERAGE(B72:D72) -> 0.10366667 | F72: =STDEV(B72:D72) -> 0.021080876 | G72: =5*(E72-0.0403)/0.0474 -> 6.6842475
A73: M1801-66 | B73: 0.1005 | C73: 0.0946 | D73: 0.0509 | E73: =AVERAGE(B73:D73) -> 0.082 | F73: =STDEV(B73:D73) -> 0.027094464 | G73: =5*(E73-0.0403)/0.0474 -> 4.3987342
A74: M1801-67 | B74: 0.149 | C74: 0.2166 | D74: 0.1478 | E74: =AVERAGE(B74:D74) -> 0.17113333 | F74: =STDEV(B74:D74) -> 0.039379859 | G74: =5*(E74-0.0403)/0.0474 -> 13.800985
A75: M1801-68 | B75: 2.9544 | D75: 2.811 | E75: =AVERAGE(B75:D75) -> 2.8827 | F75: =STDEV(B75:D75) -> 0.10139911 | G75: =5*(E75-0.0403)/0.0474 -> 299.83122
A76: M1801-69 | B76: 2.9222 | D76: 2.959 | E76: =AVERAGE(B76:D76) -> 2.9406 | F76: =STDEV(B76:D76) -> 0.02602153 | G76: =5*(E76-0.0403)/0.0474 -> 305.93882
A77: M1801-70 | B77: 3.0277 | C77: 3.1105 | D77: 3.1034 | E77: =AVERAGE(B77:D77) -> 3.0805333 | F77: =STDEV(B77:D77) -> 0.045892519 | G77: =5*(E77-0.0403)/0.0474 -> 320.69972
A78: M1801-71 | B78: 0.0715 | C78: 0.078 | D78: 0.0307 | E78: =AVERAGE(B78:D78) -> 0.060066667 | F78: =STDEV(B78:D78) -> 0.025639098 | G78: =5*(E78-0.0403)/0.0474 -> 2.0850914
A79: M1801-72 | B79: 0.1453 | C79: 0.0951 | D79: 0.1415 | E79: =AVERAGE(B79:D79) -> 0.1273 | F79: =STDEV(B79:D79) -> 0.027950671 | G79: =5*(E79-0.0403)/0.0474 -> 9.1772152
A80: M1801-73 | B80: 0 | C80: 0 | D80: 0 | E80: =AVERAGE(B80:D80) -> 0 | F80: =STDEV(B80:D80) -> 0 | G80: =5*(E80-0.0403)/0.0474 -> -4.2510549
A81: M1801-74 | B81: 0 | C81: 0 | D81: 0 | E81: =AVERAGE(B81:D81) -> 0 | F81: =STDEV(B81:D81) -> 0 | G81: =5*(E81-0.0403)/0.0474 -> -4.2510549
A82: M1801-75 | B82: 0.2016 | C82: 0.284 | D82: 0.2725 | E82: =AVERAGE(B82:D82) -> 0.2527 | F82: =STDEV(B82:D82) -> 0.044625889 | G82: =5*(E82-0.0403)/0.0474 -> 22.405063
A83: M1801-76 | B83: 0.2675 | C83: 0.2121 | D83: 0.3021 | E83: =AVERAGE(B83:D83) -> 0.26056667 | F83: =STDEV(B83:D83) -> 0.045398825 | G83: =5*(E83-0.0403)/0.0474 -> 23.23488
A84: M1801-77 | B84: 0.1145 | C84: 0.0676 | D84: 0.0395 | E84: =AVERAGE(B84:D84) -> 0.073866667 | F84: =STDEV(B84:D84) -> 0.037890676 | G84: =5*(E84-0.0403)/0.0474 -> 3.5407876
A85: M1801-78 | B85: 0.0485 | C85: 0.049 | D85: 0.0272 | E85: =AVERAGE(B85:D85) -> 0.041566667 | F85: =STDEV(B85:D85) -> 0.01244441 | G85: =5*(E85-0.0403)/0.0474 -> 0.13361463
A86: M1801-79 | B86: 0 | C86: 0 | D86: 0 | E86: =AVERAGE(B86:D86) -> 0 | F86: =STDEV(B86:D86) -> 0 | G86: =5*(E86-0.0403)/0.0474 -> -4.2510549
A87: M1801-80 | B87: 0 | C87: 0 | D87: 0 | E87: =AVERAGE(B87:D87) -> 0 | F87: =STDEV(B87:D87) -> 0 | G87: =5*(E87-0.0403)/0.0474 -> -4.2510549
A88: M1801-81 | B88: 0 | C88: 0 | D88: 0 | E88: =AVERAGE(B88:D88) -> 0 | F88: =STDEV(B88:D88) -> 0 | G88: =5*(E88-0.0403)/0.0474 -> -4.2510549
... A97: M1801-90 | B97: 0.0134 | C97: 0.0113 | D97: 0.0145 | E97: =AVERAGE(B97:D97) -> 0.013066667 | F97: =STDEV(B97:D97) -> 0.0016258331 | G97: =5*(E97-0.0403)/0.0474 -> -2.8727145
A100: 标品浓度（pg/mL） | B100: 0 | C100: 2.5 | D100: 5 | E100: 10 | F100: 20 | G100: 40
A101: OD值 | B101: 0 | C101: 0.1151 | D101: 0.2422 | E101: 0.5026 | F101: 0.9542 | G101: 1.656
A102: OD值 | B102: 0 | C102: 0.182 | D102: 0.3005 | E102: 0.4942 | F102: 0.7969 | G102: 1.4574
A103: OD值 | B103: 0 | C103: 0.125 | D103: 0.2731 | E103: 0.53 | F103: 1.118 | G103: 1.8723
A110: 0 | B110: 0
A111: 2.5 | B111: 0.1151
A112: 5 | B112: 0.2422
A113: 10 | B113: 0.5026
A114: 20 | B114: 0.9542
A115: 40 | B115: 1.656
A119: 0 | B119: 0
A120: 2.5 | B120: 0.182
A121: 5 | B121: 0.3005
A122: 10 | B122: 0.4942
A123: 20 | B123: 0.7969
A124: 40 | B124: 1.4574
... A134: 40 | B134: 1.8723

Sheet  GM-CSF
A1: 实验时间 | B1: 43363
A2: 操作人 | B2: 马霄、刘佳、蔡辉霞
A3: 实验方法：ELISA | B3: ELISA法
A4: 实验结果
A5: 人粒细胞巨噬细胞集落刺激因子（GM-CSF）检测数据
A6: 公司编号 | B6: OD值
B7: 平行1 | C7: 平行2 | D7: 平行3 | E7: 平均值 | F7: 标准差 | G7: 浓度 | H7: y = 0.0031x + 0.0789 | I7: y = 0.0031x + 0.0789
A8: M1801-01 | B8: 0.4259 | C8: 0.3389 | D8: 0.4017 | E8: =AVERAGE(B8:D8) -> 0.38883333 | F8: =STDEV(B8:D8) -> 0.044904491 | G8: =5*(E8-0.0789)/0.0031 -> 499.89247 | H8: R² = 0.9899
A9: M1801-02 | B9: 0.4978 | C9: 0.4489 | D9: 0.4438 | E9: =AVERAGE(B9:D9) -> 0.4635 | F9: =STDEV(B9:D9) -> 0.029813923 | G9: =5*(E9-0.0789)/0.0031 -> 620.32258
A10: M1801-03 | B10: 0.1684 | C10: 0.1437 | D10: 0.1441 | E10: =AVERAGE(B10:D10) -> 0.15206667 | F10: =STDEV(B10:D10) -> 0.014146495 | G10: =5*(E10-0.0789)/0.0031 -> 118.01075
A11: M1801-04 | B11: 0.1627 | C11: 0.136 | D11: 0.1529 | E11: =AVERAGE(B11:D11) -> 0.15053333 | F11: =STDEV(B11:D11) -> 0.013506418 | G11: =5*(E11-0.0789)/0.0031 -> 115.53763
A12: M1801-05 | B12: 0.2794 | C12: 0.2802 | D12: 0.3038 | E12: =AVERAGE(B12:D12) -> 0.2878 | F12: =STDEV(B12:D12) -> 0.013862179 | G12: =5*(E12-0.0789)/0.0031 -> 336.93548
A13: M1801-06 | B13: 0.1458 | C13: 0.1274 | D13: 0.104 | E13: =AVERAGE(B13:D13) -> 0.12573333 | F13: =STDEV(B13:D13) -> 0.020949781 | G13: =5*(E13-0.0789)/0.0031 -> 75.537634
A14: M1801-07 | B14: 0.2667 | C14: 0.3406 | D14: 0.2675 | E14: =AVERAGE(B14:D14) -> 0.2916 | F14: =STDEV(B14:D14) -> 0.04243713 | G14: =5*(E14-0.0789)/0.0031 -> 343.06452
A15: M1801-08 | B15: 1.019 | C15: 0.9661 | D15: 0.9255 | E15: =AVERAGE(B15:D15) -> 0.9702 | F15: =STDEV(B15:D15) -> 0.046884646 | G15: =5*(E15-0.0789)/0.0031 -> 1437.5806
A16: M1801-09 | B16: 0.2145 | C16: 0.2278 | D16: 0.192 | E16: =AVERAGE(B16:D16) -> 0.21143333 | F16: =STDEV(B16:D16) -> 0.018095948 | G16: =5*(E16-0.0789)/0.0031 -> 213.76344
A17: M1801-10 | B17: 0.4962 | C17: 0.4835 | D17: 0.512 | E17: =AVERAGE(B17:D17) -> 0.49723333 | F17: =STDEV(B17:D17) -> 0.014278072 | G17: =5*(E17-0.0789)/0.0031 -> 674.73118
A18: M1801-11 | B18: 2.9269 | C18: 2.8392 | D18: 2.9565 | E18: =AVERAGE(B18:D18) -> 2.9075333 | F18: =STDEV(B18:D18) -> 0.061001011 | G18: =5*(E18-0.0789)/0.0031 -> 4562.3118
A19: M1801-12 | B19: 0.214 | C19: 0.1761 | D19: 0.2026 | E19: =AVERAGE(B19:D19) -> 0.19756667 | F19: =STDEV(B19:D19) -> 0.019444879 | G19: =5*(E19-0.0789)/0.0031 -> 191.39785
A20: M1801-13 | B20: 0.1042 | C20: 0.1535 | D20: 0.1272 | E20: =AVERAGE(B20:D20) -> 0.1283 | F20: =STDEV(B20:D20) -> 0.024668401 | G20: =5*(E20-0.0789)/0.0031 -> 79.677419
... A37: M1801-30 | B37: 0.0388 | C37: 0.0506 | D37: 0.033 | E37: =AVERAGE(B37:D37) -> 0.0408 | F37: =STDEV(B37:D37) -> 0.0089688349 | G37: =5*(E37-0.0789)/0.0031 -> -61.451613
A38: M1801-31 | B38: 0.3076 | C38: 0.2429 | D38: 0.2234 | E38: =AVERAGE(B38:D38) -> 0.25796667 | F38: =STDEV(B38:D38) -> 0.044075655 | G38: =5*(E38-0.0613)/0.0019 -> 517.54386 | I38: y = 0.0019x + 0.0613
A39: M1801-32 | B39: 0.0293 | C39: 0.0102 | D39: 0.0237 | E39: =AVERAGE(B39:D39) -> 0.021066667 | F39: =STDEV(B39:D39) -> 0.0098185199 | G39: =5*(E39-0.0613)/0.0019 -> -105.87719 | I39: R² = 0.989
A40: M1801-33 | B40: 0.1745 | C40: 0.1423 | D40: 0.1399 | E40: =AVERAGE(B40:D40) -> 0.15223333 | F40: =STDEV(B40:D40) -> 0.019320801 | G40: =5*(E40-0.0613)/0.0019 -> 239.29825
A41: M1801-34 | B41: 0.1174 | C41: 0.1095 | D41: 0.1115 | E41: =AVERAGE(B41:D41) -> 0.1128 | F41: =STDEV(B41:D41) -> 0.0041073106 | G41: =5*(E41-0.0613)/0.0019 -> 135.52632
A42: M1801-35 | B42: 0.0383 | C42: 0.0276 | D42: 0.0155 | E42: =AVERAGE(B42:D42) -> 0.027133333 | F42: =STDEV(B42:D42) -> 0.011407161 | G42: =5*(E42-0.0613)/0.0019 -> -89.912281
A43: M1801-36 | B43: 0.0752 | C43: 0.0811 | D43: 0.0557 | E43: =AVERAGE(B43:D43) -> 0.070666667 | F43: =STDEV(B43:D43) -> 0.013292981 | G43: =5*(E43-0.0613)/0.0019 -> 24.649123
A44: M1801-37 | B44: 0.1498 | C44: 0.2209 | D44: 0.1864 | E44: =AVERAGE(B44:D44) -> 0.1857 | F44: =STDEV(B44:D44) -> 0.035555168 | G44: =5*(E44-0.0613)/0.0019 -> 327.36842
A45: M1801-38 | B45: 0.2006 | C45: 0.1255 | D45: 0.1683 | E45: =AVERAGE(B45:D45) -> 0.1648 | F45: =STDEV(B45:D45) -> 0.037672138 | G45: =5*(E45-0.0613)/0.0019 -> 272.36842
A46: M1801-39 | B46: 0.1591 | C46: 0.1662 | D46: 0.1091 | E46: =AVERAGE(B46:D46) -> 0.1448 | F46: =STDEV(B46:D46) -> 0.031120251 | G46: =5*(E46-0.0613)/0.0019 -> 219.73684
A47: M1801-40 | B47: 0.0916 | C47: 0.0544 | D47: 0.0743 | E47: =AVERAGE(B47:D47) -> 0.073433333 | F47: =STDEV(B47:D47) -> 0.018615137 | G47: =5*(E47-0.0613)/0.0019 -> 31.929825
A48: M1801-41 | B48: 1.5505 | C48: 1.626 | D48: 1.5924 | E48: =AVERAGE(B48:D48) -> 1.5896333 | F48: =STDEV(B48:D48) -> 0.037825961 | G48: =5*(E48-0.0613)/0.0019 -> 4021.9298
A49: M1801-42 | B49: 0.0936 | C49: 0.0667 | D49: 0.0773 | E49: =AVERAGE(B49:D49) -> 0.0792 | F49: =STDEV(B49:D49) -> 0.013550277 | G49: =5*(E49-0.0613)/0.0019 -> 47.105263
A50: M1801-43 | B50: 0.0536 | C50: 0.1253 | D50: 0.047 | E50: =AVERAGE(B50:D50) -> 0.0753 | F50: =STDEV(B50:D50) -> 0.043426835 | G50: =5*(E50-0.0613)/0.0019 -> 36.842105
A51: M1801-44 | B51: 0.0712 | C51: 0.0524 | D51: 0.0791 | E51: =AVERAGE(B51:D51) -> 0.067566667 | F51: =STDEV(B51:D51) -> 0.013715806 | G51: =5*(E51-0.0613)/0.0019 -> 16.491228
... A66: M1801-59 | B66: 0 | C66: 0 | D66: 0 | E66: =AVERAGE(B66:D66) -> 0 | F66: =STDEV(B66:D66) -> 0 | G66: =5*(E66-0.0613)/0.0019 -> -161.31579
A67: M1801-60 | B67: 1.7167 | C67: 1.7 | D67: 1.6525 | E67: =AVERAGE(B67:D67) -> 1.6897333 | F67: =STDEV(B67:D67) -> 0.033308607 | G67: =5*(E67-0.047)/0.0027 -> 3042.0988 | J67: y = 0.0027x + 0.047
A68: M1801-61 | B68: 0.3325 | C68: 0.2795 | D68: 0.2672 | E68: =AVERAGE(B68:D68) -> 0.29306667 | F68: =STDEV(B68:D68) -> 0.034699616 | G68: =5*(E68-0.047)/0.0027 -> 455.67901 | J68: R² = 0.9946
A69: M1801-62 | B69: 0.1615 | C69: 0.1739 | D69: 0.2004 | E69: =AVERAGE(B69:D69) -> 0.1786 | F69: =STDEV(B69:D69) -> 0.019871336 | G69: =5*(E69-0.047)/0.0027 -> 243.7037
A70: M1801-63 | B70: 0.1364 | C70: 0.1193 | D70: 0.129 | E70: =AVERAGE(B70:D70) -> 0.12823333 | F70: =STDEV(B70:D70) -> 0.008575741 | G70: =5*(E70-0.047)/0.0027 -> 150.4321
A71: M1801-64 | B71: 0.0971 | C71: 0.0804 | D71: 0.1101 | E71: =AVERAGE(B71:D71) -> 0.095866667 | F71: =STDEV(B71:D71) -> 0.014888362 | G71: =5*(E71-0.047)/0.0027 -> 90.493827
A72: M1801-65 | B72: 0.1489 | C72: 0.1498 | D72: 0.1389 | E72: =AVERAGE(B72:D72) -> 0.14586667 | F72: =STDEV(B72:D72) -> 0.0060500689 | G72: =5*(E72-0.047)/0.0027 -> 183.08642
A73: M1801-66 | B73: 0.1569 | C73: 0.1343 | D73: 0.1228 | E73: =AVERAGE(B73:D73) -> 0.138 | F73: =STDEV(B73:D73) -> 0.017348487 | G73: =5*(E73-0.047)/0.0027 -> 168.51852
A74: M1801-67 | B74: 0.1274 | C74: 0.1855 | D74: 0.1513 | E74: =AVERAGE(B74:D74) -> 0.15473333 | F74: =STDEV(B74:D74) -> 0.029201769 | G74: =5*(E74-0.047)/0.0027 -> 199.50617
A75: M1801-68 | B75: 2.3696 | C75: 2.0789 | D75: 2.2394 | E75: =AVERAGE(B75:D75) -> 2.2293 | F75: =STDEV(B75:D75) -> 0.14561295 | G75: =5*(E75-0.047)/0.0027 -> 4041.2963
A76: M1801-69 | B76: 2.6011 | C76: 2.6001 | D76: 2.6071 | E76: =AVERAGE(B76:D76) -> 2.6027667 | F76: =STDEV(B76:D76) -> 0.0037859389 | G76: =5*(E76-0.047)/0.0027 -> 4732.9012
A77: M1801-70 | B77: 2.861 | C77: 2.5867 | D77: 2.5965 | E77: =AVERAGE(B77:D77) -> 2.6814 | F77: =STDEV(B77:D77) -> 0.15561533 | G77: =5*(E77-0.047)/0.0027 -> 4878.5185
A78: M1801-71 | B78: 0.071 | C78: 0.1019 | D78: 0.0604 | E78: =AVERAGE(B78:D78) -> 0.077766667 | F78: =STDEV(B78:D78) -> 0.021561617 | G78: =5*(E78-0.047)/0.0027 -> 56.975309
A79: M1801-72 | B79: 0.1658 | C79: 0.1282 | D79: 0.1571 | E79: =AVERAGE(B79:D79) -> 0.15036667 | F79: =STDEV(B79:D79) -> 0.01968358 | G79: =5*(E79-0.047)/0.0027 -> 191.41975
A80: M1801-73 | B80: 0 | C80: 0 | D80: 0 | E80: =AVERAGE(B80:D80) -> 0 | F80: =STDEV(B80:D80) -> 0 | G80: =5*(E80-0.047)/0.0027 -> -87.037037
... A97: M1801-90 | B97: 0.0678 | C97: 0.0546 | D97: 0.0525 | E97: =AVERAGE(B97:D97) -> 0.0583 | F97: =STDEV(B97:D97) -> 0.0082939737 | G97: =5*(E97-0.047)/0.0027 -> 20.925926
A99: 标准品浓度（pg/mL） | B99: 0 | C99: 40 | D99: 80 | E99: 160 | F99: 320 | G99: 640
A100: OD值 | B100: 0 | C100: 0.1753 | D100: 0.3434 | E100: 0.6112 | F100: 1.1868 | G100: 1.9839
A101: OD值 | B101: 0 | C101: 0.1161 | D101: 0.2286 | E101: 0.4218 | F101: 0.7142 | G101: 1.2338
A102: OD值 | B102: 0 | C102: 0.1299 | D102: 0.2647 | E102: 0.5111 | F102: 0.9659 | G102: 1.702
A104: 0 | B104: 0
A105: 40 | B105: 0.1753
A106: 80 | B106: 0.3434
A107: 160 | B107: 0.6112
A108: 320 | B108: 1.1868
A109: 640 | B109: 1.9839
A114: 0 | B114: 0
A115: 40 | B115: 0.1161
A116: 80 | B116: 0.2286
A117: 160 | B117: 0.4218
A118: 320 | B118: 0.7142
A119: 640 | B119: 1.2338
... A128: 640 | B128: 1.702

Sheet GROα
A1: 实验时间 | B1: 43364
A2: 操作人 | B2: 马霄、刘佳、蔡辉霞
A3: 实验方法：ELISA | B3: ELISA法
A4: 实验结果
A5: 人生长调节致癌基因α；黑素瘤生长刺激因子（GROα；CXCL1）
A6: 公司编号 | B6: OD值
B7: 平行1 | C7: 平行2 | D7: 平行3 | E7: 平均值 | F7: 标准差 | G7: 浓度
A8: M1801-01 | B8: 0.1195 | C8: 0.1141 | D8: 0.1099 | E8: =AVERAGE(B8:D8) -> 0.1145 | F8: =STDEVA(B8:D8) -> 0.0048124838 | G8: =5*(E8-0.0081)/0.0056 -> 95
A9: M1801-02 | B9: 0.154 | C9: 0.1526 | D9: 0.1882 | E9: =AVERAGE(B9:D9) -> 0.16493333 | F9: =STDEVA(B9:D9) -> 0.02016168 | G9: =5*(E9-0.0081)/0.0056 -> 140.02976
A10: M1801-03 | B10: 0.0166 | C10: 0.0171 | D10: 0.018 | E10: =AVERAGE(B10:D10) -> 0.017233333 | F10: =STDEVA(B10:D10) -> 0.00070945989 | G10: =5*(E10-0.0081)/0.0056 -> 8.1547619
A11: M1801-04 | B11: 0.0021 | C11: 0.0144 | D11: 0.0073 | E11: =AVERAGE(B11:D11) -> 0.0079333333 | F11: =STDEVA(B11:D11) -> 0.0061744096 | G11: =5*(E11-0.0081)/0.0056 -> -0.14880952
A12: M1801-05 | B12: 0.0682 | C12: 0.0783 | D12: 0.0669 | E12: =AVERAGE(B12:D12) -> 0.071133333 | F12: =STDEVA(B12:D12) -> 0.0062404594 | G12: =5*(E12-0.0081)/0.0056 -> 56.279762
A13: M1801-06 | B13: 0.0103 | C13: 0 | D13: 0.0027 | E13: =AVERAGE(B13:D13) -> 0.0043333333 | F13: =STDEVA(B13:D13) -> 0.005340724 | G13: =5*(E13-0.0081)/0.0056 -> -3.3630952
A14: M1801-07 | B14: 0.0693 | C14: 0.0913 | D14: 0.0511 | E14: =AVERAGE(B14:D14) -> 0.070566667 | F14: =STDEVA(B14:D14) -> 0.020129911 | G14: =5*(E14-0.0081)/0.0056 -> 55.77381
A15: M1801-08 | B15: 0.362 | C15: 0.362 | D15: 0.3992 | E15: =AVERAGE(B15:D15) -> 0.3744 | F15: =STDEVA(B15:D15) -> 0.02147743 | G15: =5*(E15-0.0081)/0.0056 -> 327.05357
A16: M1801-09 | B16: 0.0005 | C16: 0.0208 | D16: 0.0036 | E16: =AVERAGE(B16:D16) -> 0.0083 | F16: =STDEVA(B16:D16) -> 0.010935721 | G16: =5*(E16-0.0081)/0.0056 -> 0.17857143
A17: M1801-10 | B17: 0.1378 | C17: 0.1237 | D17: 0.1168 | E17: =AVERAGE(B17:D17) -> 0.1261 | F17: =STDEVA(B17:D17) -> 0.010703738 | G17: =5*(E17-0.0081)/0.0056 -> 105.35714
A18: M1801-11 | B18: 1.9015 | C18: 1.9989 | D18: 1.8906 | E18: =AVERAGE(B18:D18) -> 1.9303333 | F18: =STDEVA(B18:D18) -> 0.059630054 | G18: =5*(E18-0.0081)/0.0056 -> 1716.2798
A19: M1801-12 | B19: 0.032 | C19: 0.0228 | D19: 0.0278 | E19: =AVERAGE(B19:D19) -> 0.027533333 | F19: =STDEVA(B19:D19) -> 0.0046057935 | G19: =5*(E19-0.0081)/0.0056 -> 17.35119
... A37: M1801-30 | B37: 0 | C37: 0 | D37: 0 | E37: =AVERAGE(B37:D37) -> 0 | F37: =STDEVA(B37:D37) -> 0 | G37: =5*(E37-0.0081)/0.0056 -> -7.2321429
A38: M1801-31 | B38: 0.251 | C38: 0.1921 | D38: 0.1939 | E38: =AVERAGE(B38:D38) -> 0.21233333 | F38: =STDEVA(B38:D38) -> 0.033498408 | G38: =5*(E38-0.0161)/0.0069 -> 142.19807
A39: M1801-32 | B39: 0.03 | C39: 0.0186 | D39: 0.0296 | E39: =AVERAGE(B39:D39) -> 0.026066667 | F39: =STDEVA(B39:D39) -> 0.0064694152 | G39: =5*(E39-0.0161)/0.0069 -> 7.2222222
A40: M1801-33 | B40: 0.0759 | C40: 0.0574 | D40: 0.0577 | E40: =AVERAGE(B40:D40) -> 0.063666667 | F40: =STDEVA(B40:D40) -> 0.010595439 | G40: =5*(E40-0.0161)/0.0069 -> 34.468599
A41: M1801-34 | B41: 0.0217 | C41: 0.0083 | D41: 0.0294 | E41: =AVERAGE(B41:D41) -> 0.0198 | F41: =STDEVA(B41:D41) -> 0.010677547 | G41: =5*(E41-0.0161)/0.0069 -> 2.6811594
A42: M1801-35 | B42: 0 | C42: 0 | D42: 0 | E42: =AVERAGE(B42:D42) -> 0 | F42: =STDEVA(B42:D42) -> 0 | G42: =5*(E42-0.0161)/0.0069 -> -11.666667
A43: M1801-36 | B43: 0.0105 | C43: 0 | D43: 0.016 | E43: =AVERAGE(B43:D43) -> 0.0088333333 | F43: =STDEVA(B43:D43) -> 0.0081291656 | G43: =5*(E43-0.0161)/0.0069 -> -5.2657005
A44: M1801-37 | B44: 0.076 | C44: 0.1415 | D44: 0.0769 | E44: =AVERAGE(B44:D44) -> 0.098133333 | F44: =STDEVA(B44:D44) -> 0.037559331 | G44: =5*(E44-0.0161)/0.0069 -> 59.444444
A45: M1801-38 | B45: 0.1263 | C45: 0.0691 | D45: 0.0936 | E45: =AVERAGE(B45:D45) -> 0.096333333 | F45: =STDEVA(B45:D45) -> 0.028697793 | G45: =5*(E45-0.0161)/0.0069 -> 58.140097
A46: M1801-39 | B46: 0.0935 | C46: 0.1411 | D46: 0.0622 | E46: =AVERAGE(B46:D46) -> 0.098933333 | F46: =STDEVA(B46:D46) -> 0.039729628 | G46: =5*(E46-0.0161)/0.0069 -> 60.024155
A47: M1801-40 | B47: 0.0618 | C47: 0.0197 | D47: 0.0612 | E47: =AVERAGE(B47:D47) -> 0.047566667 | F47: =STDEVA(B47:D47) -> 0.024135106 | G47: =5*(E47-0.0161)/0.0069 -> 22.801932
A48: M1801-41 | B48: 0.971 | C48: 0.9484 | D48: 0.9801 | E48: =AVERAGE(B48:D48) -> 0.9665 | F48: =STDEVA(B48:D48) -> 0.016322071 | G48: =5*(E48-0.0161)/0.0069 -> 688.69565
A49: M1801-42 | B49: 0.0101 | C49: 0 | D49: 0.0043 | E49: =AVERAGE(B49:D49) -> 0.0048 | F49: =STDEVA(B49:D49) -> 0.0050685304 | G49: =5*(E49-0.0161)/0.0069 -> -8.1884058
... A53: M1801-46 | B53: 0.0997 | C53: 0.0469 | D53: 0.0887 | E53: =AVERAGE(B53:D53) -> 0.078433333 | F53: =STDEVA(B53:D53) -> 0.027857016 | G53: =5*(E53-0.0161)/0.0069 -> 45.169082
A54: M1801-47 | C54: 1.7783 | D54: 1.8322 | E54: =AVERAGE(B54:D54) -> 1.80525 | F54: =STDEVA(B54:D54) -> 0.038113056 | G54: =5*(E54-0.0161)/0.0069 -> 1296.4855
A55: M1801-48 | B55: 0 | C55: 0 | D55: 0 | E55: =AVERAGE(B55:D55) -> 0 | F55: =STDEVA(B55:D55) -> 0 | G55: =5*(E55-0.0161)/0.0069 -> -11.666667
A56: M1801-49 | B56: 0 | C56: 0 | D56: 0 | E56: =AVERAGE(B56:D56) -> 0 | F56: =STDEVA(B56:D56) -> 0 | G56: =5*(E56-0.0161)/0.0069 -> -11.666667
A57: M1801-50 | B57: 0 | C57: 0 | D57: 0 | E57: =AVERAGE(B57:D57) -> 0 | F57: =STDEVA(B57:D57) -> 0 | G57: =5*(E57-0.0161)/0.0069 -> -11.666667
A58: M1801-51 | B58: 0 | C58: 0 | D58: 0 | E58: =AVERAGE(B58:D58) -> 0 | F58: =STDEVA(B58:D58) -> 0 | G58: =5*(E58-0.0161)/0.0069 -> -11.666667
A59: M1801-52 | B59: 0 | C59: 0 | D59: 0 | E59: =AVERAGE(B59:D59) -> 0 | F59: =STDEVA(B59:D59) -> 0 | G59: =5*(E59-0.0161)/0.0069 -> -11.666667
A60: M1801-53 | B60: 0.0478 | C60: 0.1003 | D60: 0.0812 | E60: =AVERAGE(B60:D60) -> 0.076433333 | F60: =STDEVA(B60:D60) -> 0.026572605 | G60: =5*(E60-0.0161)/0.0069 -> 43.719807
A61: M1801-54 | B61: 0.0651 | C61: 0.03 | D61: 0.0723 | E61: =AVERAGE(B61:D61) -> 0.0558 | F61: =STDEVA(B61:D61) -> 0.022631615 | G61: =5*(E61-0.0161)/0.0069 -> 28.768116
A62: M1801-55 | B62: 0 | C62: 0 | D62: 0 | E62: =AVERAGE(B62:D62) -> 0 | F62: =STDEVA(B62:D62) -> 0 | G62: =5*(E62-0.0161)/0.0069 -> -11.666667
A63: M1801-56 | B63: 0.0118 | C63: 0.005 | D63: 0.0058 | E63: =AVERAGE(B63:D63) -> 0.0075333333 | F63: =STDEVA(B63:D63) -> 0.0037166293 | G63: =5*(E63-0.0161)/0.0069 -> -6.2077295
A64: M1801-57 | B64: 0 | C64: 0 | D64: 0 | E64: =AVERAGE(B64:D64) -> 0 | F64: =STDEVA(B64:D64) -> 0 | G64: =5*(E64-0.0161)/0.0069 -> -11.666667
A65: M1801-58 | B65: 0 | C65: 0 | D65: 0 | E65: =AVERAGE(B65:D65) -> 0 | F65: =STDEVA(B65:D65) -> 0 | G65: =5*(E65-0.0161)/0.0069 -> -11.666667
A66: M1801-59 | B66: 0 | C66: 0 | D66: 0 | E66: =AVERAGE(B66:D66) -> 0 | F66: =STDEVA(B66:D66) -> 0 | G66: =5*(E66-0.0161)/0.0069 -> -11.666667
A67: M1801-60 | C67: 1.078 | D67: 1.0251 | E67: =AVERAGE(B67:D67) -> 1.05155 | F67: =STDEVA(B67:D67) -> 0.037405949 | G67: =5*(E67-0.0161)/0.0069 -> 750.32609
A68: M1801-61 | B68: 0.0929 | C68: 0.051 | D68: 0.0525 | E68: =AVERAGE(B68:D68) -> 0.065466667 | F68: =STDEVA(B68:D68) -> 0.023769799 | G68: =5*(E68-0.0008)/0.0049 -> 65.986395
A69: M1801-62 | B69: 0 | C69: 0 | D69: 0 | E69: =AVERAGE(B69:D69) -> 0 | F69: =STDEVA(B69:D69) -> 0 | G69: =5*(E69-0.0008)/0.0049 -> -0.81632653
A70: M1801-63 | B70: 0 | C70: 0 | D70: 0 | E70: =AVERAGE(B70:D70) -> 0 | F70: =STDEVA(B70:D70) -> 0 | G70: =5*(E70-0.0008)/0.0049 -> -0.81632653
A71: M1801-64 | B71: 0 | C71: 0 | D71: 0 | E71: =AVERAGE(B71:D71) -> 0 | F71: =STDEVA(B71:D71) -> 0 | G71: =5*(E71-0.0008)/0.0049 -> -0.81632653
A72: M1801-65 | B72: 0 | C72: 0 | D72: 0 | E72: =AVERAGE(B72:D72) -> 0 | F72: =STDEVA(B72:D72) -> 0 | G72: =5*(E72-0.0008)/0.0049 -> -0.81632653
A73: M1801-66 | B73: 0 | C73: 0 | D73: 0 | E73: =AVERAGE(B73:D73) -> 0 | F73: =STDEVA(B73:D73) -> 0 | G73: =5*(E73-0.0008)/0.0049 -> -0.81632653
A74: M1801-67 | B74: 0.0073 | C74: 0.0471 | D74: 0.0041 | E74: =AVERAGE(B74:D74) -> 0.0195 | F74: =STDEVA(B74:D74) -> 0.023955793 | G74: =5*(E74-0.0008)/0.0049 -> 19.081633
A75: M1801-68 | B75: 1.1358 | C75: 1.1232 | D75: 1.2139 | E75: =AVERAGE(B75:D75) -> 1.1576333 | F75: =STDEVA(B75:D75) -> 0.049133933 | G75: =5*(E75-0.0008)/0.0049 -> 1180.4422
A76: M1801-69 | B76: 1.7006 | C76: 1.7875 | D76: 1.688 | E76: =AVERAGE(B76:D76) -> 1.7253667 | F76: =STDEVA(B76:D76) -> 0.054176594 | G76: =5*(E76-0.0008)/0.0049 -> 1759.7619
A77: M1801-70 | B77: 1.8028 | C77: 1.7158 | D77: 1.7045 | E77: =AVERAGE(B77:D77) -> 1.7410333 | F77: =STDEVA(B77:D77) -> 0.053789063 | G77: =5*(E77-0.0008)/0.0049 -> 1775.7483
A78: M1801-71 | B78: 0 | C78: 0 | D78: 0 | E78: =AVERAGE(B78:D78) -> 0 | F78: =STDEVA(B78:D78) -> 0 | G78: =5*(E78-0.0008)/0.0049 -> -0.81632653
A79: M1801-72 | B79: 0 | C79: 0 | D79: 0 | E79: =AVERAGE(B79:D79) -> 0 | F79: =STDEVA(B79:D79) -> 0 | G79: =5*(E79-0.0008)/0.0049 -> -0.81632653
... A97: M1801-90 | B97: 0 | C97: 0 | D97: 0 | E97: =AVERAGE(B97:D97) -> 0 | F97: =STDEVA(B97:D97) -> 0 | G97: =5*(E97-0.0008)/0.0049 -> -0.81632653
A99: 标准品浓度（pg/mL） | B99: 0 | C99: 10 | D99: 20 | E99: 40 | F99: 80 | G99: 160
A100: OD值 | B100: 0 | C100: 0.049 | D100: 0.1129 | E100: 0.2455 | F100: 0.4967 | G100: 0.8865
A101: OD值 | B101: 0 | C101: 0.0691 | D101: 0.1626 | E101: 0.3038 | F101: 0.5972 | G101: 1.1018
A102: OD值 | B102: 0 | C102: 0.0341 | D102: 0.104 | E102: 0.1955 | F102: 0.4221 | G102: 0.777
A104: 标准曲线
A105: 0 | B105: 0
A106: 10 | B106: 0.049
A107: 20 | B107: 0.1129
A108: 40 | B108: 0.2455
A109: 80 | B109: 0.4967
A110: 160 | B110: 0.8865
A114: 0 | B114: 0
A115: 10 | B115: 0.0691
A116: 20 | B116: 0.1626
A117: 40 | B117: 0.3038
A118: 80 | B118: 0.5972
A119: 160 | B119: 1.1018
... A127: 160 | B127: 0.777

Sheet IFN-γ
A1: 实验时间 | B1: 43368
A2: 操作人 | B2: 马霄、刘佳、蔡辉霞
A3: 实验方法 | B3: ELISA法
A4: 实验结果
A5: 人γ干扰素IFN-γ
A6: 公司编号 | B6: OD值
B7: 平行1 | C7: 平行2 | D7: 平行3 | E7: 平均值 | F7: 浓度 | G7: 标准差
A8: M1801-01 | B8: 0.0965 | C8: 0.103 | D8: 0.0716 | E8: =AVERAGE(B8:D8) -> 0.090366667 | F8: =5*(E8+0.0389)/0.0012 -> 538.61111 | G8: =STDEV(B8:D8) -> 0.016574177
A9: M1801-02 | B9: 0.0791 | C9: 0.0849 | D9: 0.1038 | E9: =AVERAGE(B9:D9) -> 0.089266667 | F9: =5*(E9+0.0389)/0.0012 -> 534.02778 | G9: =STDEV(B9:D9) -> 0.012916011
A10: M1801-03 | B10: 0 | C10: 0 | D10: 0 | E10: =AVERAGE(B10:D10) -> 0 | F10: =5*(E10+0.0389)/0.0012 -> 162.08333 | G10: =STDEV(B10:D10) -> 0
A11: M1801-04 | B11: 0 | C11: 0 | D11: 0 | E11: =AVERAGE(B11:D11) -> 0 | F11: =5*(E11+0.0389)/0.0012 -> 162.08333 | G11: =STDEV(B11:D11) -> 0
A12: M1801-05 | B12: 0.0448 | C12: 0.0441 | D12: 0.0504 | E12: =AVERAGE(B12:D12) -> 0.046433333 | F12: =5*(E12+0.0389)/0.0012 -> 355.55556 | G12: =STDEV(B12:D12) -> 0.003453018
A13: M1801-06 | B13: 0 | C13: 0 | D13: 0 | E13: =AVERAGE(B13:D13) -> 0 | F13: =5*(E13+0.0389)/0.0012 -> 162.08333 | G13: =STDEV(B13:D13) -> 0
A14: M1801-07 | B14: 0.0411 | C14: 0.0615 | D14: 0.0297 | E14: =AVERAGE(B14:D14) -> 0.0441 | F14: =5*(E14+0.0389)/0.0012 -> 345.83333 | G14: =STDEV(B14:D14) -> 0.016110866
A15: M1801-08 | B15: 0.2924 | C15: 0.2388 | D15: 0.3146 | E15: =AVERAGE(B15:D15) -> 0.28193333 | F15: =5*(E15+0.0389)/0.0012 -> 1336.8056 | G15: =STDEV(B15:D15) -> 0.038968876
A16: M1801-09 | B16: 0 | C16: 0 | D16: 0 | E16: =AVERAGE(B16:D16) -> 0 | F16: =5*(E16+0.0389)/0.0012 -> 162.08333 | G16: =STDEV(B16:D16) -> 0
A17: M1801-10 | B17: 0.0851 | C17: 0.1191 | D17: 0.13 | E17: =AVERAGE(B17:D17) -> 0.1114 | F17: =5*(E17+0.0389)/0.0012 -> 626.25 | G17: =STDEV(B17:D17) -> 0.023419436
A18: M1801-11 | B18: 1.6187 | C18: 1.6462 | D18: 1.532 | E18: =AVERAGE(B18:D18) -> 1.5989667 | F18: =5*(E18+0.0389)/0.0012 -> 6824.4444 | G18: =STDEV(B18:D18) -> 0.059602545
A19: M1801-12 | B19: 0 | C19: 0 | D19: 0 | E19: =AVERAGE(B19:D19) -> 0 | F19: =5*(E19+0.0389)/0.0012 -> 162.08333 | G19: =STDEV(B19:D19) -> 0
... A37: M1801-30 | B37: 0 | C37: 0 | D37: 0 | E37: =AVERAGE(B37:D37) -> 0 | F37: =5*(E37+0.0389)/0.0012 -> 162.08333 | G37: =STDEV(B37:D37) -> 0
A38: M1801-31 | B38: 0.3338 | C38: 0.2809 | D38: 0.2947 | E38: =AVERAGE(B38:D38) -> 0.30313333 | F38: =5*(D38-0.0609)/0.0021 -> 556.66667 | G38: =STDEV(B38:D38) -> 0.027439813
A39: M1801-32 | B39: 0.0489 | C39: 0.0407 | D39: 0.0321 | E39: =AVERAGE(B39:D39) -> 0.040566667 | F39: =GROα!G39:G128+GROα!G39:G50+GROα!G39:G50+GROα!F39:G50+GROα!F39:G45+GROα!G39:G128+[2]Sheet2!$E$3 -> 28.901828 | G39: =STDEV(B39:D39) -> 0.0084007936
A40: M1801-33 | B40: 0.1738 | C40: 0.2282 | D40: 0.1851 | E40: =AVERAGE(B40:D40) -> 0.1957 | F40: =GROα!G40:G129+GROα!G40:G51+GROα!G40:G51+GROα!F40:G51+GROα!F40:G46+GROα!G40:G129+[2]Sheet2!$E$3 -> 137.89559 | G40: =STDEV(B40:D40) -> 0.028707316
A41: M1801-34 | B41: 0.1845 | C41: 0.134 | D41: 0.148 | E41: =AVERAGE(B41:D41) -> 0.1555 | F41: =GROα!G41:G130+GROα!G41:G52+GROα!G41:G52+GROα!F41:G52+GROα!F41:G47+GROα!G41:G130+[2]Sheet2!$E$3 -> 10.745993 | G41: =STDEV(B41:D41) -> 0.026072016
A42: M1801-35 | B42: 0.0541 | C42: 0.0865 | D42: 0.0737 | E42: =AVERAGE(B42:D42) -> 0.071433333 | F42: =GROα!G42:G131+GROα!G42:G53+GROα!G42:G53+GROα!F42:G53+GROα!F42:G48+GROα!G42:G131+[2]Sheet2!$E$3 -> -46.666667 | G42: =STDEV(B42:D42) -> 0.016318497
A43: M1801-36 | B43: 0.1174 | C43: 0.1252 | D43: 0.1455 | E43: =AVERAGE(B43:D43) -> 0.12936667 | F43: =GROα!G43:G132+GROα!G43:G54+GROα!G43:G54+GROα!F43:G54+GROα!F43:G49+GROα!G43:G132+[2]Sheet2!$E$3 -> -21.046544 | G43: =STDEV(B43:D43) -> 0.014505976
A44: M1801-37 | B44: 0.1857 | C44: 0.2601 | D44: 0.1932 | E44: =AVERAGE(B44:D44) -> 0.213 | F44: =GROα!G44:G133+GROα!G44:G55+GROα!G44:G55+GROα!F44:G55+GROα!F44:G50+GROα!G44:G133+[2]Sheet2!$E$3 -> 237.8529 | G44: =STDEV(B44:D44) -> 0.040961811
A45: M1801-38 | B45: 0.2316 | C45: 0.1818 | D45: 0.2185 | E45: =AVERAGE(B45:D45) -> 0.21063333 | F45: =GROα!G45:G134+GROα!G45:G56+GROα!G45:G56+GROα!F45:G56+GROα!F45:G51+GROα!G45:G134+[2]Sheet2!$E$3 -> 232.61778 | G45: =STDEV(B45:D45) -> 0.025815176
A46: M1801-39 | B46: 0.2059 | C46: 0.2113 | D46: 0.19 | E46: =AVERAGE(B46:D46) -> 0.2024 | F46: =GROα!G46:G135+GROα!G46:G57+GROα!G46:G57+GROα!F46:G57+GROα!F46:G52+GROα!G46:G135+[2]Sheet2!$E$3 -> 240.17608 | G46: =STDEV(B46:D46) -> 0.01107294
A47: M1801-40 | B47: 0.1602 | C47: 0.1482 | D47: 0.1283 | E47: =AVERAGE(B47:D47) -> 0.14556667 | F47: =GROα!G47:G136+GROα!G47:G58+GROα!G47:G58+GROα!F47:G58+GROα!F47:G53+GROα!G47:G136+[2]Sheet2!$E$3 -> 91.256 | G47: =STDEV(B47:D47) -> 0.016112211
A48: M1801-41 | B48: 1.3361 | C48: 1.3388 | D48: 1.5027 | E48: =AVERAGE(B48:D48) -> 1.3925333 | F48: =GROα!G48:G137+GROα!G48:G59+GROα!G48:G59+GROα!F48:G59+GROα!F48:G54+GROα!G48:G137+[2]Sheet2!$E$3 -> 2754.8153 | G48: =STDEV(B48:D48) -> 0.095416683
A49: M1801-42 | B49: 0.0836 | C49: 0.0704 | D49: 0.0564 | E49: =AVERAGE(B49:D49) -> 0.070133333 | F49: =GROα!G49:G138+GROα!G49:G60+GROα!G49:G60+GROα!F49:G60+GROα!F49:G55+GROα!G49:G138+[2]Sheet2!$E$3 -> -32.743486 | G49: =STDEV(B49:D49) -> 0.013601961
A50: M1801-43 | B50: 0.0719 | C50: 0.0583 | D50: 0.0538 | E50: =AVERAGE(B50:D50) -> 0.061333333 | F50: =GROα!G50:G139+GROα!G50:G61+GROα!G50:G61+GROα!F50:G61+GROα!F50:G56+GROα!G50:G139+[2]Sheet2!$E$3 -> -46.666667 | G50: =STDEV(B50:D50) -> 0.0094235521
... A66: M1801-59 | B66: 0 | C66: 0 | D66: 0 | E66: =AVERAGE(B66:D66) -> 0 | F66: =GROα!G66:G155+GROα!G66:G77+GROα!G66:G77+GROα!F66:G77+GROα!F66:G72+GROα!G66:G155+[2]Sheet2!$E$3 -> -46.666667 | G66: =STDEV(B66:D66) -> 0
A67: M1801-60 | B67: 1.8567 | C67: 2.0255 | E67: =AVERAGE(B67:D67) -> 1.9411 | F67: =GROα!G67:G156+GROα!G67:G78+GROα!G67:G78+GROα!F67:G78+GROα!F67:G73+GROα!G67:G156+[2]Sheet2!$E$3 -> 3001.3792 | G67: =STDEV(B67:D67) -> 0.11935962
A68: M1801-61 | B68: 0.2292 | C68: 0.2047 | D68: 0.1903 | E68: =AVERAGE(B68:D68) -> 0.20806667 | F68: =5*(D68-0.0696)/0.0015 -> 402.33333 | G68: =STDEV(B68:D68) -> 0.019667316
A69: M1801-62 | B69: 0.1018 | C69: 0.0787 | D69: 0.1151 | E69: =AVERAGE(B69:D69) -> 0.098533333 | F69: =5*(D69-0.0696)/0.0015 -> 151.66667 | G69: =STDEV(B69:D69) -> 0.018418559
A70: M1801-63 | B70: 0.1085 | C70: 0.1031 | D70: 0.0975 | E70: =AVERAGE(B70:D70) -> 0.10303333 | F70: =5*(D70-0.0696)/0.0015 -> 93 | G70: =STDEV(B70:D70) -> 0.005500303
A71: M1801-64 | B71: 0.0615 | C71: 0.0558 | D71: 0.0564 | E71: =AVERAGE(B71:D71) -> 0.0579 | F71: =5*(D71-0.0696)/0.0015 -> -44 | G71: =STDEV(B71:D71) -> 0.003132092
A72: M1801-65 | B72: 0.0752 | C72: 0.0742 | D72: 0.0698 | E72: =AVERAGE(B72:D72) -> 0.073066667 | F72: =5*(D72-0.0696)/0.0015 -> 0.66666667 | G72: =STDEV(B72:D72) -> 0.0028728615
A73: M1801-66 | B73: 0.104 | C73: 0.0903 | D73: 0.1577 | E73: =AVERAGE(B73:D73) -> 0.11733333 | F73: =5*(D73-0.0696)/0.0015 -> 293.66667 | G73: =STDEV(B73:D73) -> 0.035623354
A74: M1801-67 | B74: 0.1447 | C74: 0.1831 | D74: 0.0972 | E74: =AVERAGE(B74:D74) -> 0.14166667 | F74: =5*(D74-0.0696)/0.0015 -> 92 | G74: =STDEV(B74:D74) -> 0.043030261
A75: M1801-68 | B75: 1.6263 | C75: 1.5299 | D75: 1.6102 | E75: =AVERAGE(B75:D75) -> 1.5888 | F75: =5*(D75-0.0696)/0.0015 -> 5135.3333 | G75: =STDEV(B75:D75) -> 0.051640198
A76: M1801-69 | B76: 1.8062 | C76: 1.7269 | D76: 1.7015 | E76: =AVERAGE(B76:D76) -> 1.7448667 | F76: =5*(D76-0.0696)/0.0015 -> 5439.6667 | G76: =STDEV(B76:D76) -> 0.054613399
A77: M1801-70 | B77: 1.8041 | C77: 1.7046 | D77: 1.7662 | E77: =AVERAGE(B77:D77) -> 1.7583 | F77: =5*(D77-0.0696)/0.0015 -> 5655.3333 | G77: =STDEV(B77:D77) -> 0.050218224
A78: M1801-71 | B78: 0.0744 | C78: 0.1112 | D78: 0.085 | E78: =AVERAGE(B78:D78) -> 0.0902 | F78: =5*(D78-0.0696)/0.0015 -> 51.333333 | G78: =STDEV(B78:D78) -> 0.018943073
A79: M1801-72 | B79: 0.1421 | C79: 0.1108 | D79: 0.1572 | E79: =AVERAGE(B79:D79) -> 0.1367 | F79: =5*(D79-0.0696)/0.0015 -> 292 | G79: =STDEV(B79:D79) -> 0.023666643
... A97: M1801-90 | B97: 0.1032 | C97: 0.121 | D97: 0.0935 | E97: =AVERAGE(B97:D97) -> 0.1059 | F97: =5*(D97-0.0696)/0.0015 -> 79.666667 | G97: =STDEV(B97:D97) -> 0.013947401
A99: 标准品浓度（pg/mL） | B99: 0 | C99: 50 | D99: 100 | E99: 200 | F99: 400 | G99: 800
A100: OD值 | B100: 0 | C100: 0.0107 | D100: 0.0659 | E100: 0.185 | F100: 0.4342 | G100: 0.9319
A101: OD值 | B101: 0 | C101: 0.1389 | D101: 0.286 | E101: 0.5051 | F101: 1.0093 | G101: 1.6791
A102: OD值 | B102: 0 | C102: 0.1165 | D102: 0.239 | E102: 0.4149 | F102: 0.7448 | G102: 1.204
A108: 0 | B108: 0
A109: 50 | B109: 0.0107
A110: 100 | B110: 0.0659
A111: 200 | B111: 0.185
A112: 400 | B112: 0.4342
A113: 800 | B113: 0.9319
A118: 0 | B118: 0
A119: 50 | B119: 0.1389
A120: 100 | B120: 0.286
A121: 200 | B121: 0.5051
A122: 400 | B122: 1.0093
A123: 800 | B123: 1.6791
... A136: 800 | B136: 1.204

Sheet IL-1B
A1: 实验时间 | B1: 43369
A2: 操作人 | B2: 马霄、刘佳、蔡辉霞
A3: 实验方法：ELISA | B3: ELISA法
A5: 人白细胞介素1β（IL-1β）
A6: 公司编号 | B6: OD值
B7: 平行1 | C7: 平行2 | D7: 平行3 | E7: 平均值 | F7: 标准差 | G7: 浓度
A8: M1801-01 | B8: 0.1248 | C8: 0.1546 | D8: 0.1435 | E8: =AVERAGE(B8:D8) -> 0.14096667 | F8: =STDEV(B8:D8) -> 0.015060655 | G8: =5*(E8-0.0433)/0.0137 -> 35.644769
A9: M1801-02 | B9: 0.2007 | C9: 0.1889 | D9: 0.2196 | E9: =AVERAGE(B9:D9) -> 0.20306667 | F9: =STDEV(B9:D9) -> 0.01548623 | G9: =5*(E9-0.0433)/0.0137 -> 58.309002
A10: M1801-03 | B10: 0.0428 | C10: 0.0159 | D10: 0.0215 | E10: =AVERAGE(B10:D10) -> 0.026733333 | F10: =STDEV(B10:D10) -> 0.014193073 | G10: =5*(E10-0.0433)/0.0137 -> -6.0462287
A11: M1801-04 | B11: 0.0234 | C11: 0.0229 | D11: 0.0178 | E11: =AVERAGE(B11:D11) -> 0.021366667 | F11: =STDEV(B11:D11) -> 0.0030989245 | G11: =5*(E11-0.0433)/0.0137 -> -8.0048662
A12: M1801-05 | B12: 0.122 | C12: 0.1038 | D12: 0.1055 | E12: =AVERAGE(B12:D12) -> 0.11043333 | F12: =STDEV(B12:D12) -> 0.010053026 | G12: =5*(E12-0.0433)/0.0137 -> 24.501217
A13: M1801-06 | B13: 0.0064 | C13: 0.0016 | D13: 0.0145 | E13: =AVERAGE(B13:D13) -> 0.0075 | F13: =STDEV(B13:D13) -> 0.0065199693 | G13: =5*(E13-0.0433)/0.0137 -> -13.065693
A14: M1801-07 | B14: 0.0985 | C14: 0.1334 | D14: 0.0625 | E14: =AVERAGE(B14:D14) -> 0.098133333 | F14: =STDEV(B14:D14) -> 0.035451422 | G14: =5*(E14-0.0433)/0.0137 -> 20.012165
A15: M1801-08 | B15: 0.3321 | C15: 0.2618 | D15: 0.3179 | E15: =AVERAGE(B15:D15) -> 0.30393333 | F15: =STDEV(B15:D15) -> 0.037172884 | G15: =5*(E15-0.0433)/0.0137 -> 95.121655
A16: M1801-09 | B16: 0.0373 | C16: 0.0545 | D16: 0.0167 | E16: =AVERAGE(B16:D16) -> 0.036166667 | F16: =STDEV(B16:D16) -> 0.018925468 | G16: =5*(E16-0.0433)/0.0137 -> -2.6034063
A17: M1801-10 | B17: 0.1386 | C17: 0.1144 | D17: 0.1383 | E17: =AVERAGE(B17:D17) -> 0.13043333 | F17: =STDEV(B17:D17) -> 0.013886084 | G17: =5*(E17-0.0433)/0.0137 -> 31.800487
A18: M1801-11 | B18: 1.9065 | D18: 1.8889 | E18: =AVERAGE(B18:D18) -> 1.8977 | F18: =STDEV(B18:D18) -> 0.012445079 | G18: =5*(E18-0.0433)/0.0137 -> 676.78832
A19: M1801-12 | B19: 0 | C19: 0 | D19: 0 | E19: =AVERAGE(B19:D19) -> 0 | F19: =STDEV(B19:D19) -> 0 | G19: =5*(E19-0.0433)/0.0137 -> -15.80292
A20: M1801-13 | B20: 0 | C20: 0 | D20: 0 | E20: =AVERAGE(B20:D20) -> 0 | F20: =STDEV(B20:D20) -> 0 | G20: =5*(E20-0.0433)/0.0137 -> -15.80292
A21: M1801-14 | B21: 0 | C21: 0 | D21: 0 | E21: =AVERAGE(B21:D21) -> 0 | F21: =STDEV(B21:D21) -> 0 | G21: =5*(E21-0.0433)/0.0137 -> -15.80292
A22: M1801-15 | B22: 0.0608 | C22: 0.1085 | D22: 0.0751 | E22: =AVERAGE(B22:D22) -> 0.081466667 | F22: =STDEV(B22:D22) -> 0.024479039 | G22: =5*(E22-0.0433)/0.0137 -> 13.92944
A23: M1801-16 | B23: 0.4259 | C23: 0.3314 | D23: 0.4499 | E23: =AVERAGE(B23:D23) -> 0.4024 | F23: =STDEV(B23:D23) -> 0.062647825 | G23: =5*(E23-0.0433)/0.0137 -> 131.05839
A24: M1801-17 | B24: 0.0294 | C24: 0.0457 | D24: 0.0149 | E24: =AVERAGE(B24:D24) -> 0.03 | F24: =STDEV(B24:D24) -> 0.015408764 | G24: =5*(E24-0.0433)/0.0137 -> -4.8540146
A25: M1801-18 | B25: 0.0306 | C25: 0.0038 | D25: 0.0298 | E25: =AVERAGE(B25:D25) -> 0.0214 | F25: =STDEV(B25:D25) -> 0.015247295 | G25: =5*(E25-0.0433)/0.0137 -> -7.9927007
A26: M1801-19 | B26: 0 | C26: 0 | D26: 0 | E26: =AVERAGE(B26:D26) -> 0 | F26: =STDEV(B26:D26) -> 0 | G26: =5*(E26-0.0433)/0.0137 -> -15.80292
A27: M1801-20 | B27: 0 | C27: 0 | D27: 0 | E27: =AVERAGE(B27:D27) -> 0 | F27: =STDEV(B27:D27) -> 0 | G27: =5*(E27-0.0433)/0.0137 -> -15.80292
A28: M1801-21 | B28: 0 | C28: 0 | D28: 0 | E28: =AVERAGE(B28:D28) -> 0 | F28: =STDEV(B28:D28) -> 0 | G28: =5*(E28-0.0433)/0.0137 -> -15.80292
A29: M1801-22 | B29: 0 | C29: 0 | D29: 0 | E29: =AVERAGE(B29:D29) -> 0 | F29: =STDEV(B29:D29) -> 0 | G29: =5*(E29-0.0433)/0.0137 -> -15.80292
A30: M1801-23 | B30: 0.0339 | C30: 0.0589 | D30: 0.0063 | E30: =AVERAGE(B30:D30) -> 0.033033333 | F30: =STDEV(B30:D30) -> 0.026310708 | G30: =5*(E30-0.0433)/0.0137 -> -3.7469586
... A37: M1801-30 | B37: 0 | C37: 0 | D37: 0 | E37: =AVERAGE(B37:D37) -> 0 | F37: =STDEV(B37:D37) -> 0 | G37: =5*(E37-0.0433)/0.0137 -> -15.80292
A38: M1801-31 | B38: 0.1012 | C38: 0.0823 | D38: 0.0676 | E38: =AVERAGE(B38:D38) -> 0.0837 | F38: =STDEV(B38:D38) -> 0.016843693 | G38: =5*(E38+0.0183)/0.0112 -> 45.535714
A39: M1801-32 | B39: 0 | C39: 0 | D39: 0 | E39: =AVERAGE(B39:D39) -> 0 | F39: =STDEV(B39:D39) -> 0 | G39: =5*(E39+0.0183)/0.0112 -> 8.1696429
A40: M1801-33 | B40: 0 | C40: 0 | D40: 0 | E40: =AVERAGE(B40:D40) -> 0 | F40: =STDEV(B40:D40) -> 0 | G40: =5*(E40+0.0183)/0.0112 -> 8.1696429
A41: M1801-34 | B41: 0 | C41: 0 | D41: 0 | E41: =AVERAGE(B41:D41) -> 0 | F41: =STDEV(B41:D41) -> 0 | G41: =5*(E41+0.0183)/0.0112 -> 8.1696429
A42: M1801-35 | B42: 0 | C42: 0 | D42: 0 | E42: =AVERAGE(B42:D42) -> 0 | F42: =STDEV(B42:D42) -> 0 | G42: =5*(E42+0.0183)/0.0112 -> 8.1696429
A43: M1801-36 | B43: 0 | C43: 0 | D43: 0 | E43: =AVERAGE(B43:D43) -> 0 | F43: =STDEV(B43:D43) -> 0 | G43: =5*(E43+0.0183)/0.0112 -> 8.1696429
A44: M1801-37 | B44: 0.0294 | C44: 0.0544 | D44: 0.0158 | E44: =AVERAGE(B44:D44) -> 0.0332 | F44: =STDEV(B44:D44) -> 0.01957856 | G44: =5*(E44+0.0183)/0.0112 -> 22.991071
A45: M1801-38 | B45: 0.0251 | C45: 0.0178 | D45: 0.0161 | E45: =AVERAGE(B45:D45) -> 0.019666667 | F45: =STDEV(B45:D45) -> 0.0047815618 | G45: =5*(E45+0.0183)/0.0112 -> 16.949405
A46: M1801-39 | B46: 0 | C46: 0 | D46: 0 | E46: =AVERAGE(B46:D46) -> 0 | F46: =STDEV(B46:D46) -> 0 | G46: =5*(E46+0.0183)/0.0112 -> 8.1696429
A47: M1801-40 | B47: 0 | C47: 0 | D47: 0 | E47: =AVERAGE(B47:D47) -> 0 | F47: =STDEV(B47:D47) -> 0 | G47: =5*(E47+0.0183)/0.0112 -> 8.1696429
A48: M1801-41 | B48: 0.7123 | C48: 0.8118 | D48: 0.7924 | E48: =AVERAGE(B48:D48) -> 0.77216667 | F48: =STDEV(B48:D48) -> 0.052745648 | G48: =5*(E48+0.0183)/0.0112 -> 352.8869
A49: M1801-42 | B49: 0 | C49: 0 | D49: 0 | E49: =AVERAGE(B49:D49) -> 0 | F49: =STDEV(B49:D49) -> 0 | G49: =5*(E49+0.0183)/0.0112 -> 8.1696429
... A67: M1801-60 | B67: 0.948 | C67: 0.9416 | D67: 0.8893 | E67: =AVERAGE(B67:D67) -> 0.9263 | F67: =STDEV(B67:D67) -> 0.032202329 | G67: =5*(E67+0.0183)/0.0112 -> 421.69643
A68: M1801-61 | B68: 0.468 | C68: 0.4133 | D68: 0.414 | E68: =AVERAGE(B68:D68) -> 0.43176667 | F68: =STDEV(B68:D68) -> 0.031380939 | G68: =5*(E68-0.1549)/0.0287 -> 48.234611
A69: M1801-62 | B69: 0.291 | C69: 0.2475 | D69: 0.2533 | E69: =AVERAGE(B69:D69) -> 0.26393333 | F69: =STDEV(B69:D69) -> 0.023619131 | G69: =5*(E69-0.1549)/0.0287 -> 18.995354
A70: M1801-63 | B70: 0.2686 | C70: 0.2763 | D70: 0.2496 | E70: =AVERAGE(B70:D70) -> 0.26483333 | F70: =STDEV(B70:D70) -> 0.013742756 | G70: =5*(E70-0.1549)/0.0287 -> 19.152149
A71: M1801-64 | B71: 0.165 | C71: 0.1534 | D71: 0.162 | E71: =AVERAGE(B71:D71) -> 0.16013333 | F71: =STDEV(B71:D71) -> 0.0060210741 | G71: =5*(E71-0.1549)/0.0287 -> 0.91173055
A72: M1801-65 | B72: 0.2294 | C72: 0.2182 | D72: 0.1288 | E72: =AVERAGE(B72:D72) -> 0.19213333 | F72: =STDEV(B72:D72) -> 0.055133414 | G72: =5*(E72-0.1549)/0.0287 -> 6.4866434
A73: M1801-66 | B73: 0.201 | C73: 0.2145 | D73: 0.2339 | E73: =AVERAGE(B73:D73) -> 0.21646667 | F73: =STDEV(B73:D73) -> 0.016537936 | G73: =5*(E73-0.1549)/0.0287 -> 10.7259
A74: M1801-67 | B74: 0.201 | C74: 0.2145 | D74: 0.2339 | E74: =AVERAGE(B74:D74) -> 0.21646667 | F74: =STDEV(B74:D74) -> 0.016537936 | G74: =5*(E74-0.1549)/0.0287 -> 10.7259
A75: M1801-68 | B75: 2.9112 | C75: 2.8628 | D75: 2.9832 | E75: =AVERAGE(B75:D75) -> 2.9190667 | F75: =STDEV(B75:D75) -> 0.060584266 | G75: =5*(E75-0.1549)/0.0287 -> 481.56214
A76: M1801-69 | B76: 2.9589 | C76: 2.9936 | D76: 2.9968 | E76: =AVERAGE(B76:D76) -> 2.9831 | F76: =STDEV(B76:D76) -> 0.021018801 | G76: =5*(E76-0.1549)/0.0287 -> 492.71777
A77: M1801-70 | B77: 2.9972 | C77: 2.6983 | D77: 2.893 | E77: =AVERAGE(B77:D77) -> 2.8628333 | F77: =STDEV(B77:D77) -> 0.15171626 | G77: =5*(E77-0.1549)/0.0287 -> 471.76539
A78: M1801-71 | B78: 0.1309 | C78: 0.1589 | D78: 0.1525 | E78: =AVERAGE(B78:D78) -> 0.14743333 | F78: =STDEV(B78:D78) -> 0.014671514 | G78: =5*(E78-0.1549)/0.0287 -> -1.300813
A79: M1801-72 | B79: 0.3069 | C79: 0.3215 | D79: 0.309 | E79: =AVERAGE(B79:D79) -> 0.31246667 | F79: =STDEV(B79:D79) -> 0.0078932461 | G79: =5*(E79-0.1549)/0.0287 -> 27.450639
... A97: M1801-90 | B97: 0.1892 | C97: 0.2041 | D97: 0.1942 | E97: =AVERAGE(B97:D97) -> 0.19583333 | F97: =STDEV(B97:D97) -> 0.0075830952 | G97: =5*(E97-0.1549)/0.0287 -> 7.1312427
A99: 标准品浓度（pg/mL） | B99: 0 | C99: 5 | D99: 10 | E99: 20 | F99: 40 | G99: 80
A100: OD值 | B100: 0 | C100: 0.1157 | D100: 0.2016 | E100: 0.3575 | F100: 0.5712 | G100: 1.1347
A101: OD值 | B101: 0 | C101: 0.0266 | D101: 0.0932 | E101: 0.1878 | F101: 0.4386 | G101: 0.8135
A102: OD值 | B102: 0 | C102: 0.2899 | D102: 0.4532 | E102: 0.8136 | F102: 1.4767 | G102: 2.3366
A104: 0 | B104: 0
A105: 5 | B105: 0.1157
A106: 10 | B106: 0.2016
A107: 20 | B107: 0.3575
A108: 40 | B108: 0.5712
A109: 80 | B109: 1.1347
A113: 0 | B113: 0
A114: 5 | B114: 0.0266
A115: 10 | B115: 0.0932
A116: 20 | B116: 0.1878
A117: 40 | B117: 0.4386
A118: 80 | B118: 0.8135
... A129: 80 | B129: 2.3366

Sheet IL-2
A1: 实验时间 | B1: 43370
A2: 操作人 | B2: 马霄、刘佳、蔡辉霞
A3: 实验方法：ELISA | B3: ELISA法
A4: 实验结果
A5: 人白细胞介素2（IL-2）
A6: 编号 | B6: OD值
B7: 平行1 | C7: 平行2 | D7: 平行3 | E7: 平均值 | F7: 标准差 | G7: 浓度(ng/mL) | H7: 浓度（pg/mL）
A8: M1801-01 | B8: 0.2814 | C8: 0.2672 | D8: 0.3044 | E8: =AVERAGE(B8:D8) -> 0.28433333 | F8: =STDEV(B8:D8) -> 0.018772675 | G8: =5*(E8-0.0525)/0.2064 -> 5.6161176 | H8: =G8*1000 -> 5616.1176
A9: M1801-02 | B9: 0.3416 | C9: 0.3207 | D9: 0.3326 | E9: =AVERAGE(B9:D9) -> 0.33163333 | F9: =STDEV(B9:D9) -> 0.010483479 | G9: =5*(E9-0.0525)/0.2064 -> 6.7619509 | H9: =G9*1000 -> 6761.9509
A10: M1801-03 | B10: 0.1639 | C10: 0.1912 | D10: 0.1843 | E10: =AVERAGE(B10:D10) -> 0.1798 | F10: =STDEV(B10:D10) -> 0.014195422 | G10: =5*(E10-0.0525)/0.2064 -> 3.0838178 | H10: =G10*1000 -> 3083.8178
A11: M1801-04 | B11: 0.173 | C11: 0.2533 | D11: 0.1782 | E11: =AVERAGE(B11:D11) -> 0.2015 | F11: =STDEV(B11:D11) -> 0.044935398 | G11: =5*(E11-0.0525)/0.2064 -> 3.6094961 | H11: =G11*1000 -> 3609.4961
A12: M1801-05 | B12: 0.2593 | C12: 0.2567 | D12: 0.2203 | E12: =AVERAGE(B12:D12) -> 0.24543333 | F12: =STDEV(B12:D12) -> 0.021804892 | G12: =5*(E12-0.0525)/0.2064 -> 4.6737726 | H12: =G12*1000 -> 4673.7726
A13: M1801-06 | B13: 0.1455 | C13: 0.1427 | D13: 0.1208 | E13: =AVERAGE(B13:D13) -> 0.13633333 | F13: =STDEV(B13:D13) -> 0.013524915 | G13: =5*(E13-0.0525)/0.2064 -> 2.0308463 | H13: =G13*1000 -> 2030.8463
A14: M1801-07 | B14: 0.2974 | C14: 0.3829 | D14: 0.3157 | E14: =AVERAGE(B14:D14) -> 0.332 | F14: =STDEV(B14:D14) -> 0.045020329 | G14: =5*(E14-0.0525)/0.2064 -> 6.7708333 | H14: =G14*1000 -> 6770.8333
A15: M1801-08 | B15: 0.6683 | C15: 0.6993 | D15: 0.6528 | E15: =AVERAGE(B15:D15) -> 0.67346667 | F15: =STDEV(B15:D15) -> 0.023676641 | G15: =5*(E15-0.0525)/0.2064 -> 15.042797 | H15: =G15*1000 -> 15042.797
A16: M1801-09 | B16: 0.2028 | C16: 0.2068 | D16: 0.1716 | E16: =AVERAGE(B16:D16) -> 0.19373333 | F16: =STDEV(B16:D16) -> 0.019272087 | G16: =5*(E16-0.0525)/0.2064 -> 3.4213501 | H16: =G16*1000 -> 3421.3501
A17: M1801-10 | B17: 0.3722 | C17: 0.3058 | D17: 0.4153 | E17: =AVERAGE(B17:D17) -> 0.36443333 | F17: =STDEV(B17:D17) -> 0.055161611 | G17: =5*(E17-0.0525)/0.2064 -> 7.5565245 | H17: =G17*1000 -> 7556.5245
A18: M1801-11 | B18: 3.0705 | C18: 3.1716 | D18: 3.2337 | E18: =AVERAGE(B18:D18) -> 3.1586 | F18: =STDEV(B18:D18) -> 0.082372993 | G18: =5*(E18-0.0525)/0.2064 -> 75.244671 | H18: =G18*1000 -> 75244.671
A19: M1801-12 | B19: 0.2061 | C19: 0.1772 | D19: 0.209 | E19: =AVERAGE(B19:D19) -> 0.19743333 | F19: =STDEV(B19:D19) -> 0.017582472 | G19: =5*(E19-0.0525)/0.2064 -> 3.5109819 | H19: =G19*1000 -> 3510.9819
... A37: M1801-30 | B37: 0.1146 | C37: 0.1119 | D37: 0.0915 | E37: =AVERAGE(B37:D37) -> 0.106 | F37: =STDEV(B37:D37) -> 0.012629727 | G37: =5*(E37-0.0525)/0.2064 -> 1.2960271 | H37: =G37*1000 -> 1296.0271
A38: M1801-31 | B38: 0.3294 | C38: 0.2724 | D38: 0.3328 | E38: =AVERAGE(B38:D38) -> 0.31153333 | F38: =STDEV(B38:D38) -> 0.033933071 | G38: =5*(E38-0.0323)/0.2618 -> 5.3329514 | H38: =G38*1000 -> 5332.9514
A39: M1801-32 | B39: 0.0048 | C39: 0 | D39: 0.0019 | E39: =AVERAGE(B39:D39) -> 0.0022333333 | F39: =STDEV(B39:D39) -> 0.0024172988 | G39: =5*(E39-0.0323)/0.2618 -> -0.57422969 | H39: =G39*1000 -> -574.22969
A40: M1801-33 | B40: 0.243 | C40: 0.2716 | D40: 0.2545 | E40: =AVERAGE(B40:D40) -> 0.25636667 | F40: =STDEV(B40:D40) -> 0.014391085 | G40: =5*(E40-0.0323)/0.2618 -> 4.2793481 | H40: =G40*1000 -> 4279.3481
A41: M1801-34 | B41: 0.2255 | C41: 0.1895 | D41: 0.1893 | E41: =AVERAGE(B41:D41) -> 0.20143333 | F41: =STDEV(B41:D41) -> 0.020842585 | G41: =5*(E41-0.0323)/0.2618 -> 3.2302012 | H41: =G41*1000 -> 3230.2012
A42: M1801-35 | B42: 0.1227 | C42: 0.0958 | D42: 0.098 | E42: =AVERAGE(B42:D42) -> 0.1055 | F42: =STDEV(B42:D42) -> 0.014936198 | G42: =5*(E42-0.0323)/0.2618 -> 1.3980138 | H42: =G42*1000 -> 1398.0138
A43: M1801-36 | B43: 0.1569 | C43: 0.1308 | D43: 0.1336 | E43: =AVERAGE(B43:D43) -> 0.14043333 | F43: =STDEV(B43:D43) -> 0.014329108 | G43: =5*(E43-0.0323)/0.2618 -> 2.0651897 | H43: =G43*1000 -> 2065.1897
A44: M1801-37 | B44: 0.2729 | C44: 0.2845 | D44: 0.221 | E44: =AVERAGE(B44:D44) -> 0.25946667 | F44: =STDEV(B44:D44) -> 0.033814247 | G44: =5*(E44-0.0323)/0.2618 -> 4.3385536 | H44: =G44*1000 -> 4338.5536
A45: M1801-38 | B45: 0.2105 | C45: 0.1964 | D45: 0.2438 | E45: =AVERAGE(B45:D45) -> 0.2169 | F45: =STDEV(B45:D45) -> 0.024339474 | G45: =5*(E45-0.0323)/0.2618 -> 3.5255921 | H45: =G45*1000 -> 3525.5921
A46: M1801-39 | B46: 0.2681 | C46: 0.2509 | D46: 0.2249 | E46: =AVERAGE(B46:D46) -> 0.24796667 | F46: =STDEV(B46:D46) -> 0.02174887 | G46: =5*(E46-0.0323)/0.2618 -> 4.1189203 | H46: =G46*1000 -> 4118.9203
A47: M1801-40 | B47: 0.1712 | C47: 0.1691 | D47: 0.1892 | E47: =AVERAGE(B47:D47) -> 0.1765 | F47: =STDEV(B47:D47) -> 0.011048529 | G47: =5*(E47-0.0323)/0.2618 -> 2.7540107 | H47: =G47*1000 -> 2754.0107
A48: M1801-41 | C48: 2.1222 | D48: 2.1081 | E48: =AVERAGE(B48:D48) -> 2.11515 | F48: =STDEV(B48:D48) -> 0.0099702056 | G48: =5*(E48-0.0323)/0.2618 -> 39.779412 | H48: =G48*1000 -> 39779.412
A49: M1801-42 | B49: 0.1734 | C49: 0.1638 | D49: 0.1253 | E49: =AVERAGE(B49:D49) -> 0.15416667 | F49: =STDEV(B49:D49) -> 0.02545591 | G49: =5*(E49-0.0323)/0.2618 -> 2.3274764 | H49: =G49*1000 -> 2327.4764
A50: M1801-43 | B50: 0.1191 | C50: 0.1337 | D50: 0.1168 | E50: =AVERAGE(B50:D50) -> 0.1232 | F50: =STDEV(B50:D50) -> 0.0091656969 | G50: =5*(E50-0.0323)/0.2618 -> 1.7360581 | H50: =G50*1000 -> 1736.0581
A51: M1801-44 | B51: 0.1455 | C51: 0.1857 | D51: 0.1867 | E51: =AVERAGE(B51:D51) -> 0.17263333 | F51: =STDEV(B51:D51) -> 0.023503475 | G51: =5*(E51-0.0323)/0.2618 -> 2.680163 | H51: =G51*1000 -> 2680.163
A52: M1801-45 | B52: 0.1329 | C52: 0.1948 | D52: 0.1676 | E52: =AVERAGE(B52:D52) -> 0.1651 | F52: =STDEV(B52:D52) -> 0.031025635 | G52: =5*(E52-0.0323)/0.2618 -> 2.5362872 | H52: =G52*1000 -> 2536.2872
A53: M1801-46 | B53: 0.225 | C53: 0.2009 | D53: 0.219 | E53: =AVERAGE(B53:D53) -> 0.21496667 | F53: =STDEV(B53:D53) -> 0.012546049 | G53: =5*(E53-0.0323)/0.2618 -> 3.4886682 | H53: =G53*1000 -> 3488.6682
A54: M1801-47 | B54: 3.0754 | C54: 2.9726 | D54: 2.9908 | E54: =AVERAGE(B54:D54) -> 3.0129333 | F54: =STDEV(B54:D54) -> 0.054857755 | G54: =5*(E54-0.0323)/0.2618 -> 56.92577 | H54: =G54*1000 -> 56925.77
A55: M1801-48 | B55: 0 | C55: 0 | D55: 0 | E55: =AVERAGE(B55:D55) -> 0 | F55: =STDEV(B55:D55) -> 0 | G55: =5*(E55-0.0323)/0.2618 -> -0.61688312 | H55: =G55*1000 -> -616.88312
A56: M1801-49 | B56: 0.1659 | C56: 0.1694 | D56: 0.188 | E56: =AVERAGE(B56:D56) -> 0.17443333 | F56: =STDEV(B56:D56) -> 0.011878692 | G56: =5*(E56-0.0323)/0.2618 -> 2.7145404 | H56: =G56*1000 -> 2714.5404
A57: M1801-50 | B57: 0.0319 | C57: 0.0155 | D57: 0.0041 | E57: =AVERAGE(B57:D57) -> 0.017166667 | F57: =STDEV(B57:D57) -> 0.013974739 | G57: =5*(E57-0.0323)/0.2618 -> -0.2890247 | H57: =G57*1000 -> -289.0247
A58: M1801-51 | B58: 0.2154 | C58: 0.1791 | D58: 0.1295 | E58: =AVERAGE(B58:D58) -> 0.17466667 | F58: =STDEV(B58:D58) -> 0.043121263 | G58: =5*(E58-0.0323)/0.2618 -> 2.7189967 | H58: =G58*1000 -> 2718.9967
A59: M1801-52 | B59: 0.1713 | C59: 0.143 | D59: 0.1829 | E59: =AVERAGE(B59:D59) -> 0.16573333 | F59: =STDEV(B59:D59) -> 0.020524213 | G59: =5*(E59-0.0323)/0.2618 -> 2.548383 | H59: =G59*1000 -> 2548.383
A60: M1801-53 | B60: 0.2187 | C60: 0.2461 | D60: 0.2289 | E60: =AVERAGE(B60:D60) -> 0.23123333 | F60: =STDEV(B60:D60) -> 0.013848225 | G60: =5*(E60-0.0323)/0.2618 -> 3.7993379 | H60: =G60*1000 -> 3799.3379
A61: M1801-54 | C61: 0.6569 | D61: 0.4475 | E61: =AVERAGE(B61:D61) -> 0.5522 | F61: =STDEV(B61:D61) -> 0.14806816 | G61: =5*(E61-0.0323)/0.2618 -> 9.9293354 | H61: =G61*1000 -> 9929.3354
A62: M1801-55 | B62: 0.0624 | C62: 0.0478 | D62: 0.0043 | E62: =AVERAGE(B62:D62) -> 0.038166667 | F62: =STDEV(B62:D62) -> 0.030224218 | G62: =5*(E62-0.0323)/0.2618 -> 0.11204482 | H62: =G62*1000 -> 112.04482
A63: M1801-56 | B63: 0.1176 | C63: 0.0869 | D63: 0.139 | E63: =AVERAGE(B63:D63) -> 0.1145 | F63: =STDEV(B63:D63) -> 0.026187974 | G63: =5*(E63-0.0323)/0.2618 -> 1.5699007 | H63: =G63*1000 -> 1569.9007
A64: M1801-57 | B64: 0.1264 | C64: 0.1217 | D64: 0.1197 | E64: =AVERAGE(B64:D64) -> 0.1226 | F64: =STDEV(B64:D64) -> 0.0034394767 | G64: =5*(E64-0.0323)/0.2618 -> 1.7245989 | H64: =G64*1000 -> 1724.5989
A65: M1801-58 | B65: 0.1833 | C65: 0.1535 | D65: 0.1597 | E65: =AVERAGE(B65:D65) -> 0.1655 | F65: =STDEV(B65:D65) -> 0.015723867 | G65: =5*(E65-0.0323)/0.2618 -> 2.5439267 | H65: =G65*1000 -> 2543.9267
A66: M1801-59 | B66: 0 | C66: 0 | D66: 0 | E66: =AVERAGE(B66:D66) -> 0 | F66: =STDEV(B66:D66) -> 0 | G66: =5*(E66-0.0323)/0.2618 -> -0.61688312 | H66: =G66*1000 -> -616.88312
A67: M1801-60 | B67: 2.7885 | C67: 2.8452 | D67: 2.8263 | E67: =AVERAGE(B67:D67) -> 2.82 | F67: =STDEV(B67:D67) -> 0.028870227 | G67: =5*(E67-0.0323)/0.2618 -> 53.241024 | H67: =G67*1000 -> 53241.024
A68: M1801-61 | B68: 0.468 | C68: 0.4133 | D68: 0.414 | E68: =AVERAGE(B68:D68) -> 0.43176667 | F68: =STDEV(B68:D68) -> 0.031380939 | G68: =5*(E68-0.1549)/0.2865 -> 4.831879 | H68: =G68*1000 -> 4831.879
A69: M1801-62 | B69: 0.291 | C69: 0.2475 | D69: 0.2533 | E69: =AVERAGE(B69:D69) -> 0.26393333 | F69: =STDEV(B69:D69) -> 0.023619131 | G69: =5*(E69-0.1549)/0.2865 -> 1.9028505 | H69: =G69*1000 -> 1902.8505
A70: M1801-63 | B70: 0.2686 | C70: 0.2763 | D70: 0.2496 | E70: =AVERAGE(B70:D70) -> 0.26483333 | F70: =STDEV(B70:D70) -> 0.013742756 | G70: =5*(E70-0.1549)/0.2865 -> 1.9185573 | H70: =G70*1000 -> 1918.5573
A71: M1801-64 | B71: 0.165 | C71: 0.1534 | D71: 0.162 | E71: =AVERAGE(B71:D71) -> 0.16013333 | F71: =STDEV(B71:D71) -> 0.0060210741 | G71: =5*(E71-0.1549)/0.2865 -> 0.09133217 | H71: =G71*1000 -> 91.33217
A72: M1801-65 | B72: 0.2294 | C72: 0.2182 | D72: 0.1288 | E72: =AVERAGE(B72:D72) -> 0.19213333 | F72: =STDEV(B72:D72) -> 0.055133414 | G72: =5*(E72-0.1549)/0.2865 -> 0.64979639 | H72: =G72*1000 -> 649.79639
A73: M1801-66 | B73: 0.201 | C73: 0.2145 | D73: 0.2339 | E73: =AVERAGE(B73:D73) -> 0.21646667 | F73: =STDEV(B73:D73) -> 0.016537936 | G73: =5*(E73-0.1549)/0.2865 -> 1.0744619 | H73: =G73*1000 -> 1074.4619
A74: M1801-67 | B74: 0.25 | C74: 0.3028 | D74: 0.2326 | E74: =AVERAGE(B74:D74) -> 0.2618 | F74: =STDEV(B74:D74) -> 0.036557352 | G74: =5*(E74-0.1549)/0.2865 -> 1.8656195 | H74: =G74*1000 -> 1865.6195
A75: M1801-68 | B75: 2.9112 | C75: 2.8628 | D75: 2.9832 | E75: =AVERAGE(B75:D75) -> 2.9190667 | F75: =STDEV(B75:D75) -> 0.060584266 | G75: =5*(E75-0.1549)/0.2865 -> 48.240256 | H75: =G75*1000 -> 48240.256
A76: M1801-69 | B76: 2.9589 | C76: 2.9936 | D76: 2.9968 | E76: =AVERAGE(B76:D76) -> 2.9831 | F76: =STDEV(B76:D76) -> 0.021018801 | G76: =5*(E76-0.1549)/0.2865 -> 49.357766 | H76: =G76*1000 -> 49357.766
A77: M1801-70 | B77: 2.9972 | D77: 2.893 | E77: =AVERAGE(B77:D77) -> 2.9451 | F77: =STDEV(B77:D77) -> 0.073680527 | G77: =5*(E77-0.1549)/0.2865 -> 48.69459 | H77: =G77*1000 -> 48694.59
A78: M1801-71 | B78: 0.1309 | C78: 0.1589 | D78: 0.1525 | E78: =AVERAGE(B78:D78) -> 0.14743333 | F78: =STDEV(B78:D78) -> 0.014671514 | G78: =5*(E78-0.1549)/0.2865 -> -0.13030832 | H78: =G78*1000 -> -130.30832
A79: M1801-72 | B79: 0.3069 | C79: 0.3215 | D79: 0.309 | E79: =AVERAGE(B79:D79) -> 0.31246667 | F79: =STDEV(B79:D79) -> 0.0078932461 | G79: =5*(E79-0.1549)/0.2865 -> 2.7498546 | H79: =G79*1000 -> 2749.8546
A80: M1801-73 | B80: 0.0546 | C80: 0.0998 | D80: 0.0489 | E80: =AVERAGE(B80:D80) -> 0.067766667 | F80: =STDEV(B80:D80) -> 0.027887691 | G80: =5*(E80-0.1549)/0.2865 -> -1.5206515 | H80: =G80*1000 -> -1520.6515
A81: M1801-74 | B81: 0.1351 | C81: 0.0661 | D81: 0.1037 | E81: =AVERAGE(B81:D81) -> 0.10163333 | F81: =STDEV(B81:D81) -> 0.034546394 | G81: =5*(E81-0.1549)/0.2865 -> -0.92961024 | H81: =G81*1000 -> -929.61024
A82: M1801-75 | B82: 0.3854 | C82: 0.554 | D82: 0.4683 | E82: =AVERAGE(B82:D82) -> 0.46923333 | F82: =STDEV(B82:D82) -> 0.084303875 | G82: =5*(E82-0.1549)/0.2865 -> 5.4857475 | H82: =G82*1000 -> 5485.7475
A83: M1801-76 | B83: 0.4765 | C83: 0.408 | D83: 0.4763 | E83: =AVERAGE(B83:D83) -> 0.4536 | F83: =STDEV(B83:D83) -> 0.039490885 | G83: =5*(E83-0.1549)/0.2865 -> 5.2129145 | H83: =G83*1000 -> 5212.9145
A84: M1801-77 | B84: 0.2597 | C84: 0.2906 | D84: 0.2475 | E84: =AVERAGE(B84:D84) -> 0.26593333 | F84: =STDEV(B84:D84) -> 0.022215835 | G84: =5*(E84-0.1549)/0.2865 -> 1.9377545 | H84: =G84*1000 -> 1937.7545
A85: M1801-78 | B85: 0.2962 | C85: 0.1842 | D85: 0.2445 | E85: =AVERAGE(B85:D85) -> 0.24163333 | F85: =STDEV(B85:D85) -> 0.056055003 | G85: =5*(E85-0.1549)/0.2865 -> 1.5136707 | H85: =G85*1000 -> 1513.6707
A86: M1801-79 | B86: 0.2718 | C86: 0.2742 | D86: 0.2628 | E86: =AVERAGE(B86:D86) -> 0.2696 | F86: =STDEV(B86:D86) -> 0.0060099917 | G86: =5*(E86-0.1549)/0.2865 -> 2.0017452 | H86: =G86*1000 -> 2001.7452
A87: M1801-80 | B87: 0.1915 | C87: 0.1466 | D87: 0.1665 | E87: =AVERAGE(B87:D87) -> 0.1682 | F87: =STDEV(B87:D87) -> 0.022498222 | G87: =5*(E87-0.1549)/0.2865 -> 0.23211169 | H87: =G87*1000 -> 232.11169
A88: M1801-81 | B88: 0.1724 | C88: 0.1976 | D88: 0.1932 | E88: =AVERAGE(B88:D88) -> 0.18773333 | F88: =STDEV(B88:D88) -> 0.013460064 | G88: =5*(E88-0.1549)/0.2865 -> 0.57300756 | H88: =G88*1000 -> 573.00756
A89: M1801-82 | B89: 2.3114 | C89: 2.2055 | D89: 2.2232 | E89: =AVERAGE(B89:D89) -> 2.2467 | F89: =STDEV(B89:D89) -> 0.056726449 | G89: =5*(E89-0.1549)/0.2865 -> 36.506108 | H89: =G89*1000 -> 36506.108
... A97: M1801-90 | B97: 0.1892 | C97: 0.2041 | D97: 0.1942 | E97: =AVERAGE(B97:D97) -> 0.19583333 | F97: =STDEV(B97:D97) -> 0.0075830952 | G97: =5*(E97-0.1549)/0.2865 -> 0.71436882 | H97: =G97*1000 -> 714.36882
A99: 标准品浓度（ng/mL） | B99: 0 | C99: 0.5 | D99: 1 | E99: 2 | F99: 4 | G99: 8
A100: OD值 | B100: 0 | C100: 0.1529 | D100: 0.2906 | E100: 0.4783 | F100: 0.9134 | G100: 1.6792
A101: OD值 | B101: 0 | C101: 0.1004 | D101: 0.2548 | E101: 0.557 | F101: 1.3289 | G101: 2.0108
A102: OD值 | B102: 0 | C102: 0.2899 | D102: 0.4532 | E102: 0.8136 | F102: 1.4767 | G102: 2.3366
A105: 0 | B105: 0
A106: 0.5 | B106: 0.1529
A107: 1 | B107: 0.2906
A108: 2 | B108: 0.4783
A109: 4 | B109: 0.9134
A110: 8 | B110: 1.6792
A114: 0 | B114: 0
A115: 0.5 | B115: 0.2899
A116: 1 | B116: 0.4532
A117: 2 | B117: 0.8136
A118: 4 | B118: 1.4767
A119: 8 | B119: 2.3366
... A128: 8 | B128: 2.0108

Sheet IL-4
A1: 实验时间 | B1: 43371
A2: 操作人 | B2: 马霄、刘佳、蔡辉霞
A3: 实验方法：ELISA | B3: ELISA法
A4: 实验结果
A5: 人白细胞介素4（IL-4）
A6: 公司编号 | B6: OD值
B7: 平行1 | C7: 平行2 | D7: 平行3 | E7: 平均值 | F7: 标准差 | G7: 浓度
A8: M1801-01 | B8: 0.4733 | C8: 0.3815 | D8: 0.3977 | E8: =AVERAGE(B8:D8) -> 0.4175 | F8: =STDEV(B8:D8) -> 0.048998367 | G8: =5*(E8-0.0732)/0.0414 -> 41.582126
A9: M1801-02 | B9: 0.5018 | C9: 0.4472 | D9: 0.4969 | E9: =AVERAGE(B9:D9) -> 0.48196667 | F9: =STDEV(B9:D9) -> 0.030208332 | G9: =5*(E9-0.0732)/0.0414 -> 49.367955
A10: M1801-03 | B10: 0.1643 | C10: 0.2252 | D10: 0.1788 | E10: =AVERAGE(B10:D10) -> 0.18943333 | F10: =STDEV(B10:D10) -> 0.031812 | G10: =5*(E10-0.0732)/0.0414 -> 14.037842
A11: M1801-04 | B11: 0.1847 | C11: 0.1377 | D11: 0.2225 | E11: =AVERAGE(B11:D11) -> 0.18163333 | F11: =STDEV(B11:D11) -> 0.042483095 | G11: =5*(E11-0.0732)/0.0414 -> 13.095813
A12: M1801-05 | B12: 0.256 | C12: 0.353 | D12: 0.3353 | E12: =AVERAGE(B12:D12) -> 0.31476667 | F12: =STDEV(B12:D12) -> 0.051657171 | G12: =5*(E12-0.0732)/0.0414 -> 29.174718
A13: M1801-06 | B13: 0.1509 | C13: 0.1904 | D13: 0.1569 | E13: =AVERAGE(B13:D13) -> 0.16606667 | F13: =STDEV(B13:D13) -> 0.021285754 | G13: =5*(E13-0.0732)/0.0414 -> 11.215781
A14: M1801-07 | B14: 0.3116 | C14: 0.3826 | D14: 0.2864 | E14: =AVERAGE(B14:D14) -> 0.32686667 | F14: =STDEV(B14:D14) -> 0.049883999 | G14: =5*(E14-0.0732)/0.0414 -> 30.636071
A15: M1801-08 | B15: 1.0794 | D15: 1.0936 | E15: =AVERAGE(B15:D15) -> 1.0865 | F15: =STDEV(B15:D15) -> 0.010040916 | G15: =5*(E15-0.0732)/0.0414 -> 122.37923
A16: M1801-09 | B16: 0.2577 | C16: 0.2807 | D16: 0.2213 | E16: =AVERAGE(B16:D16) -> 0.25323333 | F16: =STDEV(B16:D16) -> 0.029950849 | G16: =5*(E16-0.0732)/0.0414 -> 21.743156
A17: M1801-10 | B17: 0.5872 | C17: 0.5081 | D17: 0.4989 | E17: =AVERAGE(B17:D17) -> 0.5314 | F17: =STDEV(B17:D17) -> 0.048542662 | G17: =5*(E17-0.0732)/0.0414 -> 55.338164
A18: M1801-11 | B18: 2.0049 | D18: 2.0942 | E18: =AVERAGE(B18:D18) -> 2.04955 | F18: =STDEV(B18:D18) -> 0.063144636 | G18: =5*(E18-0.0732)/0.0414 -> 238.68961
A19: M1801-12 | B19: 0.2342 | C19: 0.2775 | D19: 0.2743 | E19: =AVERAGE(B19:D19) -> 0.262 | F19: =STDEV(B19:D19) -> 0.024128614 | G19: =5*(E19-0.0732)/0.0414 -> 22.801932
A20: M1801-13 | B20: 0.1607 | C20: 0.1502 | D20: 0.1264 | E20: =AVERAGE(B20:D20) -> 0.14576667 | F20: =STDEV(B20:D20) -> 0.017574508 | G20: =5*(E20-0.0732)/0.0414 -> 8.7640902
A21: M1801-14 | B21: 0.1957 | C21: 0.1784 | D21: 0.21 | E21: =AVERAGE(B21:D21) -> 0.1947 | F21: =STDEV(B21:D21) -> 0.015823716 | G21: =5*(E21-0.0732)/0.0414 -> 14.673913
A22: M1801-15 | B22: 0.3199 | C22: 0.2784 | D22: 0.3206 | E22: =AVERAGE(B22:D22) -> 0.3063 | F22: =STDEV(B22:D22) -> 0.024164644 | G22: =5*(E22-0.0732)/0.0414 -> 28.152174
A23: M1801-16 | B23: 0.9657 | C23: 0.9397 | E23: =AVERAGE(B23:D23) -> 0.9527 | F23: =STDEV(B23:D23) -> 0.018384776 | G23: =5*(E23-0.0732)/0.0414 -> 106.21981
A24: M1801-17 | B24: 0.2511 | C24: 0.2951 | D24: 0.2687 | E24: =AVERAGE(B24:D24) -> 0.27163333 | F24: =STDEV(B24:D24) -> 0.022146181 | G24: =5*(E24-0.0732)/0.0414 -> 23.965378
A25: M1801-18 | B25: 0.2757 | C25: 0.2176 | D25: 0.2352 | E25: =AVERAGE(B25:D25) -> 0.24283333 | F25: =STDEV(B25:D25) -> 0.029792672 | G25: =5*(E25-0.0732)/0.0414 -> 20.487118
A26: M1801-19 | B26: 0.1027 | C26: 0.153 | D26: 0.091 | E26: =AVERAGE(B26:D26) -> 0.11556667 | F26: =STDEV(B26:D26) -> 0.032941817 | G26: =5*(E26-0.0732)/0.0414 -> 5.1167472
A27: M1801-20 | B27: 0.2176 | C27: 0.1773 | D27: 0.2234 | E27: =AVERAGE(B27:D27) -> 0.2061 | F27: =STDEV(B27:D27) -> 0.02510956 | G27: =5*(E27-0.0732)/0.0414 -> 16.050725
A28: M1801-21 | B28: 0.1878 | C28: 0.2705 | D28: 0.2185 | E28: =AVERAGE(B28:D28) -> 0.2256 | F28: =STDEV(B28:D28) -> 0.041804665 | G28: =5*(E28-0.0732)/0.0414 -> 18.405797
A29: M1801-22 | B29: 0.1081 | C29: 0.1232 | D29: 0.1124 | E29: =AVERAGE(B29:D29) -> 0.11456667 | F29: =STDEV(B29:D29) -> 0.0077796744 | G29: =5*(E29-0.0732)/0.0414 -> 4.9959742
A30: M1801-23 | B30: 0.2505 | C30: 0.2798 | D30: 0.1912 | E30: =AVERAGE(B30:D30) -> 0.2405 | F30: =STDEV(B30:D30) -> 0.045138564 | G30: =5*(E30-0.0732)/0.0414 -> 20.205314
A31: M1801-24 | B31: 0.0796 | C31: 0.0725 | D31: 0.0826 | E31: =AVERAGE(B31:D31) -> 0.078233333 | F31: =STDEV(B31:D31) -> 0.0051868423 | G31: =5*(E31-0.0732)/0.0414 -> 0.6078905
A32: M1801-25 | B32: 0.0967 | C32: 0.1213 | D32: 0.0652 | E32: =AVERAGE(B32:D32) -> 0.0944 | F32: =STDEV(B32:D32) -> 0.028120633 | G32: =5*(E32-0.0732)/0.0414 -> 2.5603865
A33: M1801-26 | B33: 0.0538 | C33: 0.0553 | D33: 0.044 | E33: =AVERAGE(B33:D33) -> 0.051033333 | F33: =STDEV(B33:D33) -> 0.006137046 | G33: =5*(E33-0.0732)/0.0414 -> -2.6771337
A34: M1801-27 | B34: 0.23 | C34: 0.1905 | D34: 0.214 | E34: =AVERAGE(B34:D34) -> 0.2115 | F34: =STDEV(B34:D34) -> 0.019868316 | G34: =5*(E34-0.0732)/0.0414 -> 16.702899
A35: M1801-28 | B35: 0.1916 | C35: 0.1512 | D35: 0.1533 | E35: =AVERAGE(B35:D35) -> 0.16536667 | F35: =STDEV(B35:D35) -> 0.022742984 | G35: =5*(E35-0.0732)/0.0414 -> 11.13124
... A37: M1801-30 | B37: 0.2169 | C37: 0.2417 | D37: 0.1716 | E37: =AVERAGE(B37:D37) -> 0.21006667 | F37: =STDEV(B37:D37) -> 0.035546073 | G37: =5*(E37-0.0732)/0.0414 -> 16.529791
A38: M1801-31 | B38: 0.1346 | C38: 0.1369 | D38: 0.1268 | E38: =AVERAGE(B38:D38) -> 0.13276667 | F38: =STDEV(B38:D38) -> 0.005293707 | G38: =5*(E38-0.0022)/0.0239 -> 27.315202
A39: M1801-32 | B39: 0 | C39: 0 | D39: 0 | E39: =AVERAGE(B39:D39) -> 0 | F39: =STDEV(B39:D39) -> 0 | G39: =5*(E39-0.0022)/0.0239 -> -0.46025105
A40: M1801-33 | B40: 0.1171 | C40: 0.0939 | D40: 0.1035 | E40: =AVERAGE(B40:D40) -> 0.10483333 | F40: =STDEV(B40:D40) -> 0.01165733 | G40: =5*(E40-0.0022)/0.0239 -> 21.471409
A41: M1801-34 | B41: 0.0718 | C41: 0.0899 | D41: 0.0841 | E41: =AVERAGE(B41:D41) -> 0.081933333 | F41: =STDEV(B41:D41) -> 0.0092424744 | G41: =5*(E41-0.0022)/0.0239 -> 16.680614
A42: M1801-35 | B42: 0.0355 | C42: 0.0259 | D42: 0.0246 | E42: =AVERAGE(B42:D42) -> 0.028666667 | F42: =STDEV(B42:D42) -> 0.0059534304 | G42: =5*(E42-0.0022)/0.0239 -> 5.5369596
A43: M1801-36 | B43: 0.0732 | C43: 0.0726 | D43: 0.0969 | E43: =AVERAGE(B43:D43) -> 0.0809 | F43: =STDEV(B43:D43) -> 0.013859654 | G43: =5*(E43-0.0022)/0.0239 -> 16.464435
A44: M1801-37 | B44: 0.1851 | C44: 0.1601 | D44: 0.1273 | E44: =AVERAGE(B44:D44) -> 0.1575 | F44: =STDEV(B44:D44) -> 0.028987584 | G44: =5*(E44-0.0022)/0.0239 -> 32.48954
A45: M1801-38 | B45: 0.1339 | C45: 0.0933 | D45: 0.1237 | E45: =AVERAGE(B45:D45) -> 0.11696667 | F45: =STDEV(B45:D45) -> 0.021120922 | G45: =5*(E45-0.0022)/0.0239 -> 24.009763
A46: M1801-39 | B46: 0.0724 | C46: 0.1053 | D46: 0.0776 | E46: =AVERAGE(B46:D46) -> 0.0851 | F46: =STDEV(B46:D46) -> 0.01768587 | G46: =5*(E46-0.0022)/0.0239 -> 17.343096
A47: M1801-40 | B47: 0.0825 | C47: 0.0517 | D47: 0.0746 | E47: =AVERAGE(B47:D47) -> 0.0696 | F47: =STDEV(B47:D47) -> 0.015997187 | G47: =5*(E47-0.0022)/0.0239 -> 14.100418
A48: M1801-41 | B48: 1.4644 | C48: 1.5564 | E48: =AVERAGE(B48:D48) -> 1.5104 | F48: =STDEV(B48:D48) -> 0.065053824 | G48: =5*(E48-0.0022)/0.0239 -> 315.52301
A49: M1801-42 | B49: 0.1378 | C49: 0.1462 | D49: 0.05 | E49: =AVERAGE(B49:D49) -> 0.11133333 | F49: =STDEV(B49:D49) -> 0.053282017 | G49: =5*(E49-0.0022)/0.0239 -> 22.831241
A50: M1801-43 | B50: 0.033 | C50: 0.0577 | D50: 0.0532 | E50: =AVERAGE(B50:D50) -> 0.047966667 | F50: =STDEV(B50:D50) -> 0.013155354 | G50: =5*(E50-0.0022)/0.0239 -> 9.5746165
A51: M1801-44 | B51: 0.0626 | C51: 0.0676 | D51: 0.0885 | E51: =AVERAGE(B51:D51) -> 0.0729 | F51: =STDEV(B51:D51) -> 0.01373936 | G51: =5*(E51-0.0022)/0.0239 -> 14.790795
A52: M1801-45 | B52: 0.0519 | C52: 0.0993 | D52: 0.0614 | E52: =AVERAGE(B52:D52) -> 0.070866667 | F52: =STDEV(B52:D52) -> 0.025077945 | G52: =5*(E52-0.0022)/0.0239 -> 14.365411
A53: M1801-46 | B53: 0.1189 | C53: 0.0474 | D53: 0.0804 | E53: =AVERAGE(B53:D53) -> 0.082233333 | F53: =STDEV(B53:D53) -> 0.035785239 | G53: =5*(E53-0.0022)/0.0239 -> 16.743375
A54: M1801-47 | B54: 1.9429 | C54: 1.8772 | D54: 1.8385 | E54: =AVERAGE(B54:D54) -> 1.8862 | F54: =STDEV(B54:D54) -> 0.052778689 | G54: =5*(E54-0.0022)/0.0239 -> 394.14226
A55: M1801-48 | B55: 0 | C55: 0 | D55: 0 | E55: =AVERAGE(B55:D55) -> 0 | F55: =STDEV(B55:D55) -> 0 | G55: =5*(E55-0.0022)/0.0239 -> -0.46025105
A56: M1801-49 | B56: 0.0345 | C56: 0.052 | D56: 0.0508 | E56: =AVERAGE(B56:D56) -> 0.045766667 | F56: =STDEV(B56:D56) -> 0.00977565 | G56: =5*(E56-0.0022)/0.0239 -> 9.1143654
A57: M1801-50 | B57: 0 | C57: 0 | D57: 0 | E57: =AVERAGE(B57:D57) -> 0 | F57: =STDEV(B57:D57) -> 0 | G57: =5*(E57-0.0022)/0.0239 -> -0.46025105
A58: M1801-51 | B58: 0 | C58: 0 | D58: 0 | E58: =AVERAGE(B58:D58) -> 0 | F58: =STDEV(B58:D58) -> 0 | G58: =5*(E58-0.0022)/0.0239 -> -0.46025105
A59: M1801-52 | B59: 0.0519 | C59: 0.033 | D59: 0.0364 | E59: =AVERAGE(B59:D59) -> 0.040433333 | F59: =STDEV(B59:D59) -> 0.010074886 | G59: =5*(E59-0.0022)/0.0239 -> 7.9986053
A60: M1801-53 | B60: 0.1173 | C60: 0.1387 | D60: 0.0801 | E60: =AVERAGE(B60:D60) -> 0.11203333 | F60: =STDEV(B60:D60) -> 0.029652881 | G60: =5*(E60-0.0022)/0.0239 -> 22.977685
... A67: M1801-60 | B67: 1.9942 | C67: 1.8357 | D67: 1.923 | E67: =AVERAGE(B67:D67) -> 1.9176333 | F67: =STDEV(B67:D67) -> 0.079386166 | G67: =5*(E67-0.0022)/0.0239 -> 400.71827
A68: M1801-61 | B68: 0.4032 | C68: 0.3193 | D68: 0.3247 | E68: =AVERAGE(B68:D68) -> 0.34906667 | F68: =STDEV(B68:D68) -> 0.046958528 | G68: =5*(E68-0.1075)/0.0293 -> 41.222981
A69: M1801-62 | B69: 0.1901 | C69: 0.1898 | D69: 0.2005 | E69: =AVERAGE(B69:D69) -> 0.19346667 | F69: =STDEV(B69:D69) -> 0.006092892 | G69: =5*(E69-0.1075)/0.0293 -> 14.67008
A70: M1801-63 | B70: 0.2167 | C70: 0.2345 | D70: 0.2219 | E70: =AVERAGE(B70:D70) -> 0.22436667 | F70: =STDEV(B70:D70) -> 0.0091527774 | G70: =5*(E70-0.1075)/0.0293 -> 19.943117
A71: M1801-64 | B71: 0.1843 | C71: 0.1669 | D71: 0.1727 | E71: =AVERAGE(B71:D71) -> 0.17463333 | F71: =STDEV(B71:D71) -> 0.0088596463 | G71: =5*(E71-0.1075)/0.0293 -> 11.4562
A72: M1801-65 | B72: 0.2046 | C72: 0.1719 | D72: 0.1567 | E72: =AVERAGE(B72:D72) -> 0.17773333 | F72: =STDEV(B72:D72) -> 0.024476996 | G72: =5*(E72-0.1075)/0.0293 -> 11.98521
A73: M1801-66 | B73: 0.1811 | C73: 0.1732 | D73: 0.2002 | E73: =AVERAGE(B73:D73) -> 0.18483333 | F73: =STDEV(B73:D73) -> 0.013881763 | G73: =5*(E73-0.1075)/0.0293 -> 13.196815
A74: M1801-67 | B74: 0.1996 | C74: 0.2039 | D74: 0.222 | E74: =AVERAGE(B74:D74) -> 0.2085 | F74: =STDEV(B74:D74) -> 0.011887388 | G74: =5*(E74-0.1075)/0.0293 -> 17.235495
A75: M1801-68 | B75: 1.8954 | C75: 1.6982 | D75: 1.8002 | E75: =AVERAGE(B75:D75) -> 1.7979333 | F75: =STDEV(B75:D75) -> 0.098619538 | G75: =5*(E75-0.1075)/0.0293 -> 288.46985
A76: M1801-69 | B76: 1.8551 | C76: 1.8667 | D76: 1.8008 | E76: =AVERAGE(B76:D76) -> 1.8408667 | F76: =STDEV(B76:D76) -> 0.035180155 | G76: =5*(E76-0.1075)/0.0293 -> 295.79636
A77: M1801-70 | B77: 1.8759 | C77: 1.8782 | D77: 1.8723 | E77: =AVERAGE(B77:D77) -> 1.8754667 | F77: =STDEV(B77:D77) -> 0.0029737743 | G77: =5*(E77-0.1075)/0.0293 -> 301.7008
A78: M1801-71 | B78: 0.2091 | C78: 0.1816 | D78: 0.1662 | E78: =AVERAGE(B78:D78) -> 0.18563333 | F78: =STDEV(B78:D78) -> 0.021732541 | G78: =5*(E78-0.1075)/0.0293 -> 13.333333
A79: M1801-72 | B79: 0.2752 | C79: 0.2418 | D79: 0.2482 | E79: =AVERAGE(B79:D79) -> 0.25506667 | F79: =STDEV(B79:D79) -> 0.017727192 | G79: =5*(E79-0.1075)/0.0293 -> 25.182025
... A97: M1801-90 | B97: 0.2597 | C97: 0.2468 | D97: 0.2588 | E97: =AVERAGE(B97:D97) -> 0.2551 | F97: =STDEV(B97:D97) -> 0.007202083 | G97: =5*(E97-0.1075)/0.0293 -> 25.187713
A99: 标准品浓度（pg/mL） | B99: 0 | C99: 3 | D99: 6 | E99: 12 | F99: 24 | G99: 48
A100: OD值 | B100: 0 | C100: 0.1455 | D100: 0.3413 | E100: 0.623 | F100: 1.1972 | G100: 1.9838
A101: OD值 | B101: 0 | C101: 0.0719 | D101: 0.1341 | E101: 0.3133 | F101: 0.5665 | G101: 1.1481
A102: OD值 | B102: 0 | C102: 0.1744 | D102: 0.2869 | E102: 0.5389 | F102: 0.9411 | G102: 1.432
A103: IL-4
A104: 0 | B104: 0
A105: 3 | B105: 0.1455
A106: 6 | B106: 0.3413
A107: 12 | B107: 0.623
A108: 24 | B108: 1.1972
A109: 48 | B109: 1.9838
A116: 0 | B116: 0
A117: 3 | B117: 0.0719
A118: 6 | B118: 0.1341
A119: 12 | B119: 0.3133
A120: 24 | B120: 0.5665
A121: 48 | B121: 1.1481
... A132: 48 | B132: 1.432

Sheet IL-5
A1: 实验时间 | B1: 43372
A2: 操作人 | B2: 马霄、刘佳、蔡辉霞
A3: 实验方法：ELISA | B3: ELISA法
A4: 实验结果
A5: 人白细胞介素5（IL-5）
A6: 公司编号 | B6: OD值
B7: 平行1 | C7: 平行2 | D7: 平行3 | E7: 平均值 | F7: 标准差 | G7: 浓度
A8: M1801-01 | B8: 0.4035 | C8: 0.4361 | D8: 0.3406 | E8: =AVERAGE(B8:D8) -> 0.3934 | F8: =_xlfn.STDEV.S(B8:D8) -> 0.048544516 | G8: =5*(E8-0.094)/0.0269 -> 55.650558 | L8: y = 0.0269x + 0.094
A9: M1801-02 | B9: 0.5587 | D9: 0.5702 | E9: =AVERAGE(B9:D9) -> 0.56445 | F9: =STDEV(B9:D9) -> 0.008131728 | G9: =5*(E9-0.094)/0.0269 -> 87.444238 | L9: R² = 0.984
A10: M1801-03 | B10: 0.0968 | C10: 0.0465 | D10: 0.1106 | E10: =AVERAGE(B10:D10) -> 0.084633333 | F10: =_xlfn.STDEV.S(B10:D10) -> 0.033737566 | G10: =5*(E10-0.094)/0.0269 -> -1.7410161
A11: M1801-04 | B11: 0.0969 | C11: 0.0751 | D11: 0.1468 | E11: =AVERAGE(B11:D11) -> 0.10626667 | F11: =_xlfn.STDEV.S(B11:D11) -> 0.036756269 | G11: =5*(E11-0.094)/0.0269 -> 2.2800496
A12: M1801-05 | B12: 0.3932 | C12: 0.3273 | D12: 0.3626 | E12: =AVERAGE(B12:D12) -> 0.36103333 | F12: =_xlfn.STDEV.S(B12:D12) -> 0.032977922 | G12: =5*(E12-0.094)/0.0269 -> 49.634449
A13: M1801-06 | B13: 0.0887 | C13: 0.1406 | D13: 0.1864 | E13: =AVERAGE(B13:D13) -> 0.13856667 | F13: =_xlfn.STDEV.S(B13:D13) -> 0.048881728 | G13: =5*(E13-0.094)/0.0269 -> 8.283767
A14: M1801-07 | B14: 0.1058 | C14: 0.2047 | D14: 0.2234 | E14: =AVERAGE(B14:D14) -> 0.17796667 | F14: =_xlfn.STDEV.S(B14:D14) -> 0.063193697 | G14: =5*(E14-0.094)/0.0269 -> 15.607187
A15: M1801-08 | B15: 0.9461 | C15: 0.9472 | D15: 0.8778 | E15: =AVERAGE(B15:D15) -> 0.9237 | F15: =_xlfn.STDEV.S(B15:D15) -> 0.039754371 | G15: =5*(E15-0.094)/0.0269 -> 154.21933
A16: M1801-09 | B16: 0.0875 | C16: 0.1738 | D16: 0.141 | E16: =AVERAGE(B16:D16) -> 0.1341 | F16: =_xlfn.STDEV.S(B16:D16) -> 0.043561795 | G16: =5*(E16-0.094)/0.0269 -> 7.4535316
A17: M1801-10 | B17: 0.5514 | C17: 0.382 | D17: 0.5233 | E17: =AVERAGE(B17:D17) -> 0.48556667 | F17: =_xlfn.STDEV.S(B17:D17) -> 0.090785149 | G17: =5*(E17-0.094)/0.0269 -> 72.781908
A18: M1801-11 | B18: 1.9975 | C18: 2.3391 | E18: =AVERAGE(B18:D18) -> 2.1683 | F18: =STDEV(B18:D18) -> 0.24154768 | G18: =5*(E18-0.094)/0.0269 -> 385.55762
A19: M1801-12 | B19: 0.1506 | C19: 0.0298 | D19: 0.0437 | E19: =AVERAGE(B19:D19) -> 0.0747 | F19: =_xlfn.STDEV.S(B19:D19) -> 0.066097731 | G19: =5*(E19-0.094)/0.0269 -> -3.5873606
A20: M1801-13 | B20: 0.0334 | C20: 0.0537 | D20: 0.0434 | E20: =AVERAGE(B20:D20) -> 0.0435 | F20: =_xlfn.STDEV.S(B20:D20) -> 0.010150369 | G20: =5*(E20-0.094)/0.0269 -> -9.3866171
A21: M1801-14 | B21: 0.1168 | C21: 0.0915 | D21: 0.0419 | E21: =AVERAGE(B21:D21) -> 0.0834 | F21: =_xlfn.STDEV.S(B21:D21) -> 0.038101312 | G21: =5*(E21-0.094)/0.0269 -> -1.9702602
A22: M1801-15 | B22: 0.1923 | C22: 0.2613 | D22: 0.1734 | E22: =AVERAGE(B22:D22) -> 0.209 | F22: =_xlfn.STDEV.S(B22:D22) -> 0.046268456 | G22: =5*(E22-0.094)/0.0269 -> 21.375465
A23: M1801-16 | B23: 1.0728 | D23: 0.9447 | E23: =AVERAGE(B23:D23) -> 1.00875 | F23: =STDEV(B23:D23) -> 0.090580379 | G23: =5*(E23-0.094)/0.0269 -> 170.02788
A24: M1801-17 | B24: 0.1794 | C24: 0.2123 | D24: 0.1662 | E24: =AVERAGE(B24:D24) -> 0.18596667 | F24: =_xlfn.STDEV.S(B24:D24) -> 0.023741174 | G24: =5*(E24-0.094)/0.0269 -> 17.094176
A25: M1801-18 | B25: 0.214 | C25: 0.114 | D25: 0.1257 | E25: =AVERAGE(B25:D25) -> 0.15123333 | F25: =_xlfn.STDEV.S(B25:D25) -> 0.054671412 | G25: =5*(E25-0.094)/0.0269 -> 10.638166
A26: M1801-19 | B26: 0.0393 | C26: 0.0489 | D26: 0.0636 | E26: =AVERAGE(B26:D26) -> 0.0506 | F26: =_xlfn.STDEV.S(B26:D26) -> 0.012238872 | G26: =5*(E26-0.094)/0.0269 -> -8.0669145
A27: M1801-20 | B27: 0.116 | C27: 0.0792 | D27: 0.0524 | E27: =AVERAGE(B27:D27) -> 0.082533333 | F27: =_xlfn.STDEV.S(B27:D27) -> 0.031930758 | G27: =5*(E27-0.094)/0.0269 -> -2.1313507
A28: M1801-21 | B28: 0.0328 | C28: 0.0796 | D28: 0.0996 | E28: =AVERAGE(B28:D28) -> 0.070666667 | F28: =_xlfn.STDEV.S(B28:D28) -> 0.034284302 | G28: =5*(E28-0.094)/0.0269 -> -4.3370508
A29: M1801-22 | B29: 0.0009 | C29: 0.0072 | D29: 0.0005 | E29: =AVERAGE(B29:D29) -> 0.0028666667 | F29: =_xlfn.STDEV.S(B29:D29) -> 0.0037581024 | G29: =5*(E29-0.094)/0.0269 -> -16.939281
A30: M1801-23 | B30: 0.185 | C30: 0.1247 | D30: 0.1322 | E30: =AVERAGE(B30:D30) -> 0.1473 | F30: =_xlfn.STDEV.S(B30:D30) -> 0.03286381 | G30: =5*(E30-0.094)/0.0269 -> 9.9070632
A31: M1801-24 | B31: 0.0139 | C31: 0.015 | D31: 0.081 | E31: =AVERAGE(B31:D31) -> 0.036633333 | F31: =_xlfn.STDEV.S(B31:D31) -> 0.038426597 | G31: =5*(E31-0.094)/0.0269 -> -10.662949
A32: M1801-25 | B32: 0.0589 | C32: 0.0897 | D32: 0.0189 | E32: =AVERAGE(B32:D32) -> 0.055833333 | F32: =_xlfn.STDEV.S(B32:D32) -> 0.035499484 | G32: =5*(E32-0.094)/0.0269 -> -7.094176
A33: M1801-26 | B33: 0.1917 | C33: 0.2181 | D33: 0.1826 | E33: =AVERAGE(B33:D33) -> 0.19746667 | F33: =_xlfn.STDEV.S(B33:D33) -> 0.018439179 | G33: =5*(E33-0.094)/0.0269 -> 19.231722
A34: M1801-27 | B34: 0.1032 | C34: 0.0709 | D34: 0.1228 | E34: =AVERAGE(B34:D34) -> 0.098966667 | F34: =_xlfn.STDEV.S(B34:D34) -> 0.026207696 | G34: =5*(E34-0.094)/0.0269 -> 0.92317224
A35: M1801-28 | B35: 0.0332 | C35: 0.0619 | D35: 0.08 | E35: =AVERAGE(B35:D35) -> 0.058366667 | F35: =_xlfn.STDEV.S(B35:D35) -> 0.023599223 | G35: =5*(E35-0.094)/0.0269 -> -6.6232962
... A37: M1801-30 | B37: 0.0079 | C37: 0.004 | D37: 0.043 | E37: =AVERAGE(B37:D37) -> 0.0183 | F37: =_xlfn.STDEV.S(B37:D37) -> 0.021479525 | G37: =5*(E37-0.094)/0.0269 -> -14.070632
A38: M1801-31 | B38: 0.3387 | C38: 0.2859 | D38: 0.3166 | E38: =AVERAGE(B38:D38) -> 0.31373333 | F38: =_xlfn.STDEV.S(B38:D38) -> 0.026516473 | G38: =5*(E38-0.0255)/0.0215 -> 67.031008 | L38: y = 0.0215x + 0.0255
A39: M1801-32 | B39: 0 | C39: 0 | D39: 0 | E39: =AVERAGE(B39:D39) -> 0 | F39: =_xlfn.STDEV.S(B39:D39) -> 0 | G39: =5*(E39-0.0255)/0.0215 -> -5.9302326 | L39: R² = 0.996
A40: M1801-33 | B40: 0.1758 | C40: 0.2254 | D40: 0.1277 | E40: =AVERAGE(B40:D40) -> 0.1763 | F40: =_xlfn.STDEV.S(B40:D40) -> 0.048851919 | G40: =5*(E40-0.0255)/0.0215 -> 35.069767
A41: M1801-34 | B41: 0.07 | C41: 0.0204 | D41: 0.0514 | E41: =AVERAGE(B41:D41) -> 0.047266667 | F41: =_xlfn.STDEV.S(B41:D41) -> 0.025057002 | G41: =5*(E41-0.0255)/0.0215 -> 5.0620155
A42: M1801-35 | B42: 0 | C42: 0 | D42: 0 | E42: =AVERAGE(B42:D42) -> 0 | F42: =_xlfn.STDEV.S(B42:D42) -> 0 | G42: =5*(E42-0.0255)/0.0215 -> -5.9302326
A43: M1801-36 | B43: 0 | C43: 0 | D43: 0 | E43: =AVERAGE(B43:D43) -> 0 | F43: =_xlfn.STDEV.S(B43:D43) -> 0 | G43: =5*(E43-0.0255)/0.0215 -> -5.9302326
A44: M1801-37 | B44: 0.1512 | C44: 0.2305 | D44: 0.1321 | E44: =AVERAGE(B44:D44) -> 0.17126667 | F44: =_xlfn.STDEV.S(B44:D44) -> 0.052178955 | G44: =5*(E44-0.0255)/0.0215 -> 33.899225
A45: M1801-38 | B45: 0.1746 | C45: 0.1276 | D45: 0.1671 | E45: =AVERAGE(B45:D45) -> 0.15643333 | F45: =_xlfn.STDEV.S(B45:D45) -> 0.025250413 | G45: =5*(E45-0.0255)/0.0215 -> 30.449612
A46: M1801-39 | B46: 0.1503 | C46: 0.187 | D46: 0.1333 | E46: =AVERAGE(B46:D46) -> 0.15686667 | F46: =_xlfn.STDEV.S(B46:D46) -> 0.027445643 | G46: =5*(E46-0.0255)/0.0215 -> 30.550388
A47: M1801-40 | B47: 0.092 | C47: 0.0239 | D47: 0.0644 | E47: =AVERAGE(B47:D47) -> 0.0601 | F47: =_xlfn.STDEV.S(B47:D47) -> 0.034253029 | G47: =5*(E47-0.0255)/0.0215 -> 8.0465116
A48: M1801-41 | B48: 2.3706 | C48: 2.7267 | D48: 2.3541 | E48: =AVERAGE(B48:D48) -> 2.4838 | F48: =_xlfn.STDEV.S(B48:D48) -> 0.21051929 | G48: =5*(E48-0.0255)/0.0215 -> 571.69767
A49: M1801-42 | B49: 0.0431 | C49: 0.0168 | D49: 0.0189 | E49: =AVERAGE(B49:D49) -> 0.026266667 | F49: =_xlfn.STDEV.S(B49:D49) -> 0.014615859 | G49: =5*(E49-0.0255)/0.0215 -> 0.17829457
A50: M1801-43 | B50: 0.0381 | C50: 0.0653 | D50: 0.0119 | E50: =AVERAGE(B50:D50) -> 0.038433333 | F50: =_xlfn.STDEV.S(B50:D50) -> 0.026701561 | G50: =5*(E50-0.0255)/0.0215 -> 3.0077519
A51: M1801-44 | B51: 0.0721 | C51: 0.0344 | D51: 0.0745 | E51: =AVERAGE(B51:D51) -> 0.060333333 | F51: =_xlfn.STDEV.S(B51:D51) -> 0.022490961 | G51: =5*(E51-0.0255)/0.0215 -> 8.1007752
... A66: M1801-59 | B66: 0 | C66: 0 | D66: 0 | E66: =AVERAGE(B66:D66) -> 0 | F66: =_xlfn.STDEV.S(B66:D66) -> 0 | G66: =5*(E66-0.0255)/0.0215 -> -5.9302326
A67: M1801-60 | B67: 2.8464 | D67: 2.7729 | E67: =AVERAGE(B67:D67) -> 2.80965 | F67: =STDEV(B67:D67) -> 0.051972348 | G67: =5*(E67-0.0255)/0.0215 -> 647.47674
A68: M1801-61 | B68: 0.1392 | C68: 0.1335 | D68: 0.1062 | E68: =AVERAGE(B68:D68) -> 0.1263 | F68: =_xlfn.STDEV.S(B68:D68) -> 0.017638878 | G68: =5*(E68-0.0396)/0.0237 -> 18.291139 | K68: y = 0.0237x + 0.0396
A69: M1801-62 | B69: 0.0392 | C69: 0.0124 | D69: 0.018 | E69: =AVERAGE(B69:D69) -> 0.0232 | F69: =_xlfn.STDEV.S(B69:D69) -> 0.014136478 | G69: =5*(E69-0.0396)/0.0237 -> -3.4599156 | K69: R² = 0.9896
A70: M1801-63 | B70: 0 | C70: 0 | D70: 0 | E70: =AVERAGE(B70:D70) -> 0 | F70: =_xlfn.STDEV.S(B70:D70) -> 0 | G70: =5*(E70-0.0396)/0.0237 -> -8.3544304
A71: M1801-64 | B71: 0 | C71: 0 | D71: 0 | E71: =AVERAGE(B71:D71) -> 0 | F71: =_xlfn.STDEV.S(B71:D71) -> 0 | G71: =5*(E71-0.0396)/0.0237 -> -8.3544304
A72: M1801-65 | B72: 0 | C72: 0 | D72: 0 | E72: =AVERAGE(B72:D72) -> 0 | F72: =_xlfn.STDEV.S(B72:D72) -> 0 | G72: =5*(E72-0.0396)/0.0237 -> -8.3544304
A73: M1801-66 | B73: 0 | C73: 0 | D73: 0 | E73: =AVERAGE(B73:D73) -> 0 | F73: =_xlfn.STDEV.S(B73:D73) -> 0 | G73: =5*(E73-0.0396)/0.0237 -> -8.3544304
A74: M1801-67 | B74: 0.0286 | C74: 0.0919 | D74: 0.0335 | E74: =AVERAGE(B74:D74) -> 0.051333333 | F74: =_xlfn.STDEV.S(B74:D74) -> 0.035217089 | G74: =5*(E74-0.0396)/0.0237 -> 2.4753868
A75: M1801-68 | B75: 1.1225 | C75: 1.0423 | D75: 1.1076 | E75: =AVERAGE(B75:D75) -> 1.0908 | F75: =_xlfn.STDEV.S(B75:D75) -> 0.042657825 | G75: =5*(E75-0.0396)/0.0237 -> 221.77215
A76: M1801-69 | B76: 1.3971 | C76: 1.3414 | D76: 1.3404 | E76: =AVERAGE(B76:D76) -> 1.3596333 | F76: =_xlfn.STDEV.S(B76:D76) -> 0.032450937 | G76: =5*(E76-0.0396)/0.0237 -> 278.48805
A77: M1801-70 | B77: 1.3939 | C77: 1.3887 | D77: 1.3479 | E77: =AVERAGE(B77:D77) -> 1.3768333 | F77: =_xlfn.STDEV.S(B77:D77) -> 0.025191533 | G77: =5*(E77-0.0396)/0.0237 -> 282.11674
A78: M1801-71 | B78: 0 | C78: 0 | D78: 0 | E78: =AVERAGE(B78:D78) -> 0 | F78: =_xlfn.STDEV.S(B78:D78) -> 0 | G78: =5*(E78-0.0396)/0.0237 -> -8.3544304
A79: M1801-72 | B79: 0 | C79: 0 | D79: 0 | E79: =AVERAGE(B79:D79) -> 0 | F79: =_xlfn.STDEV.S(B79:D79) -> 0 | G79: =5*(E79-0.0396)/0.0237 -> -8.3544304
A80: M1801-73 | B80: 0 | C80: 0 | D80: 0 | E80: =AVERAGE(B80:D80) -> 0 | F80: =_xlfn.STDEV.S(B80:D80) -> 0 | G80: =5*(E80-0.0396)/0.0237 -> -8.3544304
A81: M1801-74 | B81: 0 | C81: 0 | D81: 0 | E81: =AVERAGE(B81:D81) -> 0 | F81: =_xlfn.STDEV.S(B81:D81) -> 0 | G81: =5*(E81-0.0396)/0.0237 -> -8.3544304
... A97: M1801-90 | B97: 0 | C97: 0 | D97: 0 | E97: =AVERAGE(B97:D97) -> 0 | F97: =_xlfn.STDEV.S(B97:D97) -> 0 | G97: =5*(E97-0.0396)/0.0237 -> -8.3544304
A99: 标准品浓度（pg/mL） | B99: 0 | C99: 5 | D99: 10 | E99: 20 | F99: 40 | G99: 80
A100: OD值 | B100: 0 | C100: 0.1843 | D100: 0.357 | E100: 0.7121 | F100: 1.334 | G100: 2.1504
A101: OD值 | B101: 0 | C101: 0.1039 | D101: 0.2274 | E101: 0.5041 | F101: 0.9395 | G101: 1.7082
A102: OD值 | B102: 0 | C102: 0.1124 | D102: 0.235 | E102: 0.6489 | F102: 1.023 | G102: 1.8931
A104: 0 | B104: 0
A105: 5 | B105: 0.1843
A106: 10 | B106: 0.357
A107: 20 | B107: 0.7121
A108: 40 | B108: 1.334
A109: 80 | B109: 2.1504
A115: 0 | B115: 0
A116: 5 | B116: 0.1039
A117: 10 | B117: 0.2274
A118: 20 | B118: 0.5041
A119: 40 | B119: 0.9395
A120: 80 | B120: 1.7082
... A130: 80 | B130: 1.8931

Sheet IL-6
A1: 实验时间 | B1: 43373
A2: 操作人 | B2: 马霄、刘佳、蔡辉霞
A3: 实验方法：ELISA | B3: ELISA法
A4: 实验结果
A5: 人白细胞介素6（IL-6）
A6: 公司编号 | B6: OD值
B7: 第一次 | C7: 第二次 | D7: 第三次 | E7: 平均值 | F7: 标准差 | G7: 浓度
A8: M1801-01 | B8: 0.485 | C8: 0.4388 | D8: 0.4723 | E8: =AVERAGE(B8:D8) -> 0.46536667 | F8: =STDEV(B8:D8) -> 0.023867621 | G8: =5*(E8-0.1312)/0.0394 -> 42.406937
A9: M1801-02 | B9: 0.5092 | C9: 0.498 | D9: 0.587 | E9: =AVERAGE(B9:D9) -> 0.5314 | F9: =STDEV(B9:D9) -> 0.048475561 | G9: =5*(E9-0.1312)/0.0394 -> 50.786802
A10: M1801-03 | B10: 0.2782 | C10: 0.2687 | D10: 0.2465 | E10: =AVERAGE(B10:D10) -> 0.26446667 | F10: =STDEV(B10:D10) -> 0.016268477 | G10: =5*(E10-0.1312)/0.0394 -> 16.912014
A11: M1801-04 | B11: 0.1682 | C11: 0.1457 | D11: 0.2356 | E11: =AVERAGE(B11:D11) -> 0.18316667 | F11: =STDEV(B11:D11) -> 0.046781442 | G11: =5*(E11-0.1312)/0.0394 -> 6.5947547
A12: M1801-05 | B12: 0.3137 | C12: 0.438 | D12: 0.3959 | E12: =AVERAGE(B12:D12) -> 0.38253333 | F12: =STDEV(B12:D12) -> 0.063218853 | G12: =5*(E12-0.1312)/0.0394 -> 31.895093
A13: M1801-06 | B13: 0.2138 | C13: 0.2346 | D13: 0.2188 | E13: =AVERAGE(B13:D13) -> 0.2224 | F13: =STDEV(B13:D13) -> 0.010857256 | G13: =5*(E13-0.1312)/0.0394 -> 11.573604
A14: M1801-07 | B14: 0.2954 | C14: 0.3456 | D14: 0.3433 | E14: =AVERAGE(B14:D14) -> 0.3281 | F14: =STDEV(B14:D14) -> 0.028342371 | G14: =5*(E14-0.1312)/0.0394 -> 24.98731
A15: M1801-08 | C15: 0.717 | D15: 0.5817 | E15: =AVERAGE(B15:D15) -> 0.64935 | F15: =STDEV(B15:D15) -> 0.095671547 | G15: =5*(E15-0.1312)/0.0394 -> 65.755076
A16: M1801-09 | B16: 0.2229 | C16: 0.2444 | D16: 0.2245 | E16: =AVERAGE(B16:D16) -> 0.2306 | F16: =STDEV(B16:D16) -> 0.011977896 | G16: =5*(E16-0.1312)/0.0394 -> 12.614213
A17: M1801-10 | B17: 0.4841 | C17: 0.3657 | D17: 0.3912 | E17: =AVERAGE(B17:D17) -> 0.41366667 | F17: =STDEV(B17:D17) -> 0.062315354 | G17: =5*(E17-0.1312)/0.0394 -> 35.846024
A18: M1801-11 | B18: 2.24 | C18: 2.3841 | D18: 2.3544 | E18: =AVERAGE(B18:D18) -> 2.3261667 | F18: =STDEV(B18:D18) -> 0.076085763 | G18: =5*(E18-0.1312)/0.0394 -> 278.54907
A19: M1801-12 | B19: 0.1904 | C19: 0.1877 | D19: 0.1148 | E19: =AVERAGE(B19:D19) -> 0.1643 | F19: =STDEV(B19:D19) -> 0.042889509 | G19: =5*(E19-0.1312)/0.0394 -> 4.2005076
A20: M1801-13 | B20: 0.1861 | C20: 0.1771 | D20: 0.1595 | E20: =AVERAGE(B20:D20) -> 0.17423333 | F20: =STDEV(B20:D20) -> 0.01352972 | G20: =5*(E20-0.1312)/0.0394 -> 5.4610829
A21: M1801-14 | B21: 0.2071 | C21: 0.1717 | D21: 0.1162 | E21: =AVERAGE(B21:D21) -> 0.165 | F21: =STDEV(B21:D21) -> 0.045818883 | G21: =5*(E21-0.1312)/0.0394 -> 4.2893401
A22: M1801-15 | B22: 0.2281 | C22: 0.2991 | D22: 0.2312 | E22: =AVERAGE(B22:D22) -> 0.2528 | F22: =STDEV(B22:D22) -> 0.040126924 | G22: =5*(E22-0.1312)/0.0394 -> 15.431472
A23: M1801-16 | B23: 0.8684 | C23: 0.7792 | E23: =AVERAGE(B23:D23) -> 0.8238 | F23: =STDEV(B23:D23) -> 0.063073925 | G23: =5*(E23-0.1312)/0.0394 -> 87.893401
A24: M1801-17 | B24: 0.2478 | C24: 0.2423 | D24: 0.2214 | E24: =AVERAGE(B24:D24) -> 0.23716667 | F24: =STDEV(B24:D24) -> 0.013928508 | G24: =5*(E24-0.1312)/0.0394 -> 13.447547
A25: M1801-18 | B25: 0.2331 | C25: 0.2125 | D25: 0.1777 | E25: =AVERAGE(B25:D25) -> 0.20776667 | F25: =STDEV(B25:D25) -> 0.028001667 | G25: =5*(E25-0.1312)/0.0394 -> 9.7165821
A26: M1801-19 | B26: 0.1463 | C26: 0.1493 | D26: 0.1309 | E26: =AVERAGE(B26:D26) -> 0.14216667 | F26: =STDEV(B26:D26) -> 0.0098718455 | G26: =5*(E26-0.1312)/0.0394 -> 1.391709
A27: M1801-20 | B27: 0.1976 | C27: 0.1611 | D27: 0.2403 | E27: =AVERAGE(B27:D27) -> 0.19966667 | F27: =STDEV(B27:D27) -> 0.039640425 | G27: =5*(E27-0.1312)/0.0394 -> 8.6886633
A28: M1801-21 | B28: 0.2199 | C28: 0.2678 | D28: 0.2135 | E28: =AVERAGE(B28:D28) -> 0.23373333 | F28: =STDEV(B28:D28) -> 0.029675635 | G28: =5*(E28-0.1312)/0.0394 -> 13.011844
A29: M1801-22 | B29: 0.0775 | C29: 0.0788 | D29: 0.0976 | E29: =AVERAGE(B29:D29) -> 0.084633333 | F29: =STDEV(B29:D29) -> 0.011248259 | G29: =5*(E29-0.1312)/0.0394 -> -5.9094755
A30: M1801-23 | B30: 0.2088 | C30: 0.2667 | D30: 0.3016 | E30: =AVERAGE(B30:D30) -> 0.25903333 | F30: =STDEV(B30:D30) -> 0.046872629 | G30: =5*(E30-0.1312)/0.0394 -> 16.222504
A31: M1801-24 | B31: 0.109 | C31: 0.0681 | D31: 0.081 | E31: =AVERAGE(B31:D31) -> 0.086033333 | F31: =STDEV(B31:D31) -> 0.020909408 | G31: =5*(E31-0.1312)/0.0394 -> -5.7318105
A32: M1801-25 | B32: 0.0996 | C32: 0.083 | D32: 0.0776 | E32: =AVERAGE(B32:D32) -> 0.086733333 | F32: =STDEV(B32:D32) -> 0.01146531 | G32: =5*(E32-0.1312)/0.0394 -> -5.642978
A33: M1801-26 | B33: 0.3309 | C33: 0.2617 | D33: 0.2831 | E33: =AVERAGE(B33:D33) -> 0.2919 | F33: =STDEV(B33:D33) -> 0.035429366 | G33: =5*(E33-0.1312)/0.0394 -> 20.393401
A34: M1801-27 | B34: 0.2529 | C34: 0.297 | D34: 0.1767 | E34: =AVERAGE(B34:D34) -> 0.2422 | F34: =STDEV(B34:D34) -> 0.060859593 | G34: =5*(E34-0.1312)/0.0394 -> 14.086294
A35: M1801-28 | B35: 0.166 | C35: 0.1707 | D35: 0.0926 | E35: =AVERAGE(B35:D35) -> 0.1431 | F35: =STDEV(B35:D35) -> 0.043797374 | G35: =5*(E35-0.1312)/0.0394 -> 1.5101523
... A37: M1801-30 | B37: 0.1224 | C37: 0.1318 | D37: 0.1549 | E37: =AVERAGE(B37:D37) -> 0.13636667 | F37: =STDEV(B37:D37) -> 0.016724334 | G37: =5*(E37-0.1312)/0.0394 -> 0.65566836
A38: M1801-31 | B38: 0.3604 | C38: 0.3578 | D38: 0.3309 | E38: =AVERAGE(B38:D38) -> 0.3497 | F38: =STDEV(B38:D38) -> 0.016333095 | G38: =5*(E38-0.0632)/0.0354 -> 40.466102
A39: M1801-32 | B39: 0.0587 | C39: 0.0481 | D39: 0.0773 | E39: =AVERAGE(B39:D39) -> 0.061366667 | F39: =STDEV(B39:D39) -> 0.01478152 | G39: =5*(E39-0.0632)/0.0354 -> -0.25894539
A40: M1801-33 | B40: 0.2063 | C40: 0.1976 | D40: 0.1611 | E40: =AVERAGE(B40:D40) -> 0.18833333 | F40: =STDEV(B40:D40) -> 0.023982563 | G40: =5*(E40-0.0632)/0.0354 -> 17.6742
A41: M1801-34 | B41: 0.1537 | C41: 0.1283 | D41: 0.1452 | E41: =AVERAGE(B41:D41) -> 0.1424 | F41: =STDEV(B41:D41) -> 0.012929424 | G41: =5*(E41-0.0632)/0.0354 -> 11.186441
A42: M1801-35 | B42: 0.0763 | C42: 0.0782 | D42: 0.0079 | E42: =AVERAGE(B42:D42) -> 0.054133333 | F42: =STDEV(B42:D42) -> 0.04005051 | G42: =5*(E42-0.0632)/0.0354 -> -1.2806026
A43: M1801-36 | B43: 0.0758 | C43: 0.1057 | D43: 0.0982 | E43: =AVERAGE(B43:D43) -> 0.093233333 | F43: =STDEV(B43:D43) -> 0.015556456 | G43: =5*(E43-0.0632)/0.0354 -> 4.2419962
A44: M1801-37 | B44: 0.2027 | C44: 0.2732 | D44: 0.166 | E44: =AVERAGE(B44:D44) -> 0.21396667 | F44: =STDEV(B44:D44) -> 0.054480853 | G44: =5*(E44-0.0632)/0.0354 -> 21.294727
A45: M1801-38 | B45: 0.2332 | C45: 0.189 | D45: 0.2336 | E45: =AVERAGE(B45:D45) -> 0.2186 | F45: =STDEV(B45:D45) -> 0.025635132 | G45: =5*(E45-0.0632)/0.0354 -> 21.949153
A46: M1801-39 | B46: 0.2863 | C46: 0.2919 | D46: 0.25 | E46: =AVERAGE(B46:D46) -> 0.27606667 | F46: =STDEV(B46:D46) -> 0.022747381 | G46: =5*(E46-0.0632)/0.0354 -> 30.065913
A47: M1801-40 | B47: 0.1467 | C47: 0.2025 | D47: 0.1467 | E47: =AVERAGE(B47:D47) -> 0.1653 | F47: =STDEV(B47:D47) -> 0.032216145 | G47: =5*(E47-0.0632)/0.0354 -> 14.420904
A48: M1801-41 | B48: 1.8918 | C48: 1.7738 | D48: 1.9313 | E48: =AVERAGE(B48:D48) -> 1.8656333 | F48: =STDEV(B48:D48) -> 0.081945612 | G48: =5*(E48-0.0632)/0.0354 -> 254.58098
A49: M1801-42 | B49: 0.1535 | C49: 0.091 | D49: 0.179 | E49: =AVERAGE(B49:D49) -> 0.14116667 | F49: =STDEV(B49:D49) -> 0.045277846 | G49: =5*(E49-0.0632)/0.0354 -> 11.012241
... A53: M1801-46 | B53: 0.2318 | C53: 0.1303 | D53: 0.2129 | E53: =AVERAGE(B53:D53) -> 0.19166667 | F53: =STDEV(B53:D53) -> 0.05397873 | G53: =5*(E53-0.0632)/0.0354 -> 18.145009
A54: M1801-47 | B54: 2.8336 | D54: 2.4302 | E54: =AVERAGE(B54:D54) -> 2.6319 | F54: =STDEV(B54:D54) -> 0.28524688 | G54: =5*(E54-0.0632)/0.0354 -> 362.81073
A55: M1801-48 | B55: 0 | C55: 0 | D55: 0 | E55: =AVERAGE(B55:D55) -> 0 | F55: =STDEV(B55:D55) -> 0 | G55: =5*(E55-0.0632)/0.0354 -> -8.9265537
A56: M1801-49 | B56: 0.1582 | C56: 0.1321 | D56: 0.0537 | E56: =AVERAGE(B56:D56) -> 0.11466667 | F56: =STDEV(B56:D56) -> 0.054387529 | G56: =5*(E56-0.0632)/0.0354 -> 7.2693032
A57: M1801-50 | B57: 0 | C57: 0 | D57: 0 | E57: =AVERAGE(B57:D57) -> 0 | F57: =STDEV(B57:D57) -> 0 | G57: =5*(E57-0.0632)/0.0354 -> -8.9265537
A58: M1801-51 | B58: 0.059 | C58: 0.0973 | D58: 0.0535 | E58: =AVERAGE(B58:D58) -> 0.069933333 | F58: =STDEV(B58:D58) -> 0.02385924 | G58: =5*(E58-0.0632)/0.0354 -> 0.95103578
A59: M1801-52 | B59: 0.1037 | C59: 0.1007 | D59: 0.1514 | E59: =AVERAGE(B59:D59) -> 0.1186 | F59: =STDEV(B59:D59) -> 0.02844521 | G59: =5*(E59-0.0632)/0.0354 -> 7.8248588
A60: M1801-53 | B60: 0.2241 | C60: 0.3073 | D60: 0.2196 | E60: =AVERAGE(B60:D60) -> 0.25033333 | F60: =STDEV(B60:D60) -> 0.049385862 | G60: =5*(E60-0.0632)/0.0354 -> 26.431262
A61: M1801-54 | B61: 0.1427 | C61: 0.1615 | D61: 0.2185 | E61: =AVERAGE(B61:D61) -> 0.17423333 | F61: =STDEV(B61:D61) -> 0.039471678 | G61: =5*(E61-0.0632)/0.0354 -> 15.682674
A62: M1801-55 | B62: 0.0717 | C62: 0.0691 | D62: 0.0489 | E62: =AVERAGE(B62:D62) -> 0.063233333 | F62: =STDEV(B62:D62) -> 0.012480919 | G62: =5*(E62-0.0632)/0.0354 -> 0.0047080979
A63: M1801-56 | B63: 0.119 | C63: 0.146 | D63: 0.1746 | E63: =AVERAGE(B63:D63) -> 0.14653333 | F63: =STDEV(B63:D63) -> 0.027803837 | G63: =5*(E63-0.0632)/0.0354 -> 11.770245
A64: M1801-57 | B64: 0.1088 | C64: 0.1247 | D64: 0.147 | E64: =AVERAGE(B64:D64) -> 0.12683333 | F64: =STDEV(B64:D64) -> 0.019189146 | G64: =5*(E64-0.0632)/0.0354 -> 8.9877589
A65: M1801-58 | B65: 0.1824 | C65: 0.2161 | D65: 0.1523 | E65: =AVERAGE(B65:D65) -> 0.1836 | F65: =STDEV(B65:D65) -> 0.031916923 | G65: =5*(E65-0.0632)/0.0354 -> 17.00565
A66: M1801-59 | B66: 0 | C66: 0 | D66: 0 | E66: =AVERAGE(B66:D66) -> 0 | F66: =STDEV(B66:D66) -> 0 | G66: =5*(E66-0.0632)/0.0354 -> -8.9265537
A67: M1801-60 | B67: 2.6298 | C67: 2.7426 | D67: 2.5773 | E67: =AVERAGE(B67:D67) -> 2.6499 | F67: =STDEV(B67:D67) -> 0.084463187 | G67: =5*(E67-0.0632)/0.0354 -> 365.35311
A68: M1801-61 | B68: 0.1052 | C68: 0.0697 | D68: 0.0734 | E68: =AVERAGE(B68:D68) -> 0.082766667 | F68: =STDEV(B68:D68) -> 0.01951572 | G68: =5*(E68+0.0079)/0.0176 -> 25.757576
A69: M1801-62 | B69: 0.0342 | C69: 0.0289 | D69: 0.0219 | E69: =AVERAGE(B69:D69) -> 0.028333333 | F69: =STDEV(B69:D69) -> 0.0061695489 | G69: =5*(E69+0.0079)/0.0176 -> 10.293561
A70: M1801-63 | B70: 0 | C70: 0 | D70: 0 | E70: =AVERAGE(B70:D70) -> 0 | F70: =STDEV(B70:D70) -> 0 | G70: =5*(E70+0.0079)/0.0176 -> 2.2443182
A71: M1801-64 | B71: 0 | C71: 0 | D71: 0 | E71: =AVERAGE(B71:D71) -> 0 | F71: =STDEV(B71:D71) -> 0 | G71: =5*(E71+0.0079)/0.0176 -> 2.2443182
A72: M1801-65 | B72: 0 | C72: 0 | D72: 0 | E72: =AVERAGE(B72:D72) -> 0 | F72: =STDEV(B72:D72) -> 0 | G72: =5*(E72+0.0079)/0.0176 -> 2.2443182
A73: M1801-66 | B73: 0.0141 | C73: 0.0121 | D73: 0.0191 | E73: =AVERAGE(B73:D73) -> 0.0151 | F73: =STDEV(B73:D73) -> 0.0036055513 | G73: =5*(E73+0.0079)/0.0176 -> 6.5340909
A74: M1801-67 | B74: 0.0365 | C74: 0.0682 | D74: 0.0119 | E74: =AVERAGE(B74:D74) -> 0.038866667 | F74: =STDEV(B74:D74) -> 0.028224517 | G74: =5*(E74+0.0079)/0.0176 -> 13.285985
A75: M1801-68 | B75: 1.2153 | C75: 1.3411 | D75: 1.2285 | E75: =AVERAGE(B75:D75) -> 1.2616333 | F75: =STDEV(B75:D75) -> 0.069135905 | G75: =5*(E75+0.0079)/0.0176 -> 360.66288
A76: M1801-69 | B76: 1.7127 | C76: 1.8263 | D76: 1.6053 | E76: =AVERAGE(B76:D76) -> 1.7147667 | F76: =STDEV(B76:D76) -> 0.11051449 | G76: =5*(E76+0.0079)/0.0176 -> 489.39394
A77: M1801-70 | B77: 1.7802 | C77: 1.8486 | D77: 1.9479 | E77: =AVERAGE(B77:D77) -> 1.8589 | F77: =STDEV(B77:D77) -> 0.084323128 | G77: =5*(E77+0.0079)/0.0176 -> 530.34091
A78: M1801-71 | B78: 0 | C78: 0 | D78: 0 | E78: =AVERAGE(B78:D78) -> 0 | F78: =STDEV(B78:D78) -> 0 | G78: =5*(E78+0.0079)/0.0176 -> 2.2443182
A79: M1801-72 | B79: 0.0226 | C79: 0.0294 | D79: 0.0229 | E79: =AVERAGE(B79:D79) -> 0.024966667 | F79: =STDEV(B79:D79) -> 0.0038423083 | G79: =5*(E79+0.0079)/0.0176 -> 9.3371212
... A88: M1801-81 | B88: 0 | C88: 0 | D88: 0 | E88: =AVERAGE(B88:D88) -> 0 | F88: =STDEV(B88:D88) -> 0 | G88: =5*(E88+0.0079)/0.0176 -> 2.2443182
A89: M1801-82 | B89: 1.112 | D89: 1.1604 | E89: =AVERAGE(B89:D89) -> 1.1362 | F89: =STDEV(B89:D89) -> 0.034223968 | G89: =5*(E89+0.0079)/0.0176 -> 325.02841
A90: M1801-83 | B90: 0.0273 | C90: 0.0618 | D90: 0.0214 | E90: =AVERAGE(B90:D90) -> 0.036833333 | F90: =STDEV(B90:D90) -> 0.021822084 | G90: =5*(E90+0.0079)/0.0176 -> 12.708333
A91: M1801-84 | B91: 0.0209 | C91: 0.0241 | D91: 0.0197 | E91: =AVERAGE(B91:D91) -> 0.021566667 | F91: =STDEV(B91:D91) -> 0.0022744963 | G91: =5*(E91+0.0079)/0.0176 -> 8.3712121
A92: M1801-85 | B92: 1.7583 | C92: 1.9099 | D92: 1.8392 | E92: =AVERAGE(B92:D92) -> 1.8358 | F92: =STDEV(B92:D92) -> 0.075857168 | G92: =5*(E92+0.0079)/0.0176 -> 523.77841
A93: M1801-86 | B93: 0.4405 | C93: 0.3804 | D93: 0.3628 | E93: =AVERAGE(B93:D93) -> 0.39456667 | F93: =STDEV(B93:D93) -> 0.040741175 | G93: =5*(E93+0.0079)/0.0176 -> 114.33712
A94: M1801-87 | B94: 0 | C94: 0 | D94: 0 | E94: =AVERAGE(B94:D94) -> 0 | F94: =STDEV(B94:D94) -> 0 | G94: =5*(E94+0.0079)/0.0176 -> 2.2443182
A95: M1801-88 | B95: 0.0837 | C95: 0.085 | D95: 0.0855 | E95: =AVERAGE(B95:D95) -> 0.084733333 | F95: =STDEV(B95:D95) -> 0.00092915732 | G95: =5*(E95+0.0079)/0.0176 -> 26.316288
A96: M1801-89 | B96: 0 | C96: 0 | D96: 0 | E96: =AVERAGE(B96:D96) -> 0 | F96: =STDEV(B96:D96) -> 0 | G96: =5*(E96+0.0079)/0.0176 -> 2.2443182
A97: M1801-90 | B97: 0 | C97: 0 | D97: 0 | E97: =AVERAGE(B97:D97) -> 0 | F97: =STDEV(B97:D97) -> 0 | G97: =5*(E97+0.0079)/0.0176 -> 2.2443182
A99: 标准品浓度（pg/mL） | B99: 0 | C99: 3 | D99: 6 | E99: 12 | F99: 24 | G99: 48
A100: OD值 | B100: 0 | C100: 0.2065 | D100: 0.3861 | E100: 0.7506 | F100: 1.1687 | G100: 1.9418
A101: OD值 | B101: 0 | C101: 0.1315 | D101: 0.2964 | E101: 0.5828 | F101: 0.9312 | G101: 1.7288
A102: OD值 | B102: 0 | C102: 0.0447 | D102: 0.1096 | E102: 0.168 | F102: 0.4299 | G102: 0.8353
A105: 0 | B105: 0
A106: 3 | B106: 0.2065
A107: 6 | B107: 0.3861
A108: 12 | B108: 0.7506
A109: 24 | B109: 1.1687
A110: 48 | B110: 1.9418
A115: 0 | B115: 0
A116: 3 | B116: 0.1315
A117: 6 | B117: 0.2964
A118: 12 | B118: 0.5828
A119: 24 | B119: 0.9312
...

Sheet IL-8
A1: 实验时间 | B1: 43381
A2: 操作人 | B2: 马霄、刘佳、蔡辉霞
A3: 实验方法 | B3: ELISA法
A4: 实验结果
A5: 人白细胞介素8（IL-8）
A6: 公司编号 | B6: OD值
B7: 平行1 | C7: 平行2 | D7: 平行3 | E7: 平均值 | F7: 标准差 | G7: 浓度
A8: M1801-01 | B8: 0.3924 | C8: 0.3342 | D8: 0.3395 | E8: =AVERAGE(B8:D8) -> 0.35536667 | F8: =STDEV(B8:D8) -> 0.032181102 | G8: =5*(E8-0.08)/0.0168 -> 81.954365
A9: M1801-02 | B9: 0.504 | C9: 0.4368 | D9: 0.4789 | E9: =AVERAGE(B9:D9) -> 0.47323333 | F9: =STDEV(B9:D9) -> 0.033956492 | G9: =5*(E9-0.08)/0.0168 -> 117.03373
A10: M1801-03 | B10: 0.2534 | C10: 0.2521 | D10: 0.2181 | E10: =AVERAGE(B10:D10) -> 0.2412 | F10: =STDEV(B10:D10) -> 0.020015744 | G10: =5*(E10-0.08)/0.0168 -> 47.97619
A11: M1801-04 | B11: 0.2416 | C11: 0.2471 | D11: 0.2537 | E11: =AVERAGE(B11:D11) -> 0.24746667 | F11: =STDEV(B11:D11) -> 0.0060583276 | G11: =5*(E11-0.08)/0.0168 -> 49.84127
A12: M1801-05 | B12: 0.3239 | C12: 0.3142 | D12: 0.3147 | E12: =AVERAGE(B12:D12) -> 0.3176 | F12: =STDEV(B12:D12) -> 0.0054616847 | G12: =5*(E12-0.08)/0.0168 -> 70.714286
A13: M1801-06 | B13: 0.2438 | C13: 0.2011 | D13: 0.1982 | E13: =AVERAGE(B13:D13) -> 0.21436667 | F13: =STDEV(B13:D13) -> 0.025531223 | G13: =5*(E13-0.08)/0.0168 -> 39.990079
A14: M1801-07 | B14: 0.2959 | C14: 0.294 | D14: 0.2428 | E14: =AVERAGE(B14:D14) -> 0.27756667 | F14: =STDEV(B14:D14) -> 0.0301238 | G14: =5*(E14-0.08)/0.0168 -> 58.799603
A15: M1801-08 | B15: 0.9687 | C15: 0.9257 | D15: 0.8311 | E15: =AVERAGE(B15:D15) -> 0.9085 | F15: =STDEV(B15:D15) -> 0.070394034 | G15: =5*(E15-0.08)/0.0168 -> 246.57738
A16: M1801-09 | B16: 0.1981 | C16: 0.2572 | D16: 0.2019 | E16: =AVERAGE(B16:D16) -> 0.21906667 | F16: =STDEV(B16:D16) -> 0.033079047 | G16: =5*(E16-0.08)/0.0168 -> 41.388889
A17: M1801-10 | B17: 0.4161 | C17: 0.4938 | D17: 0.3801 | E17: =AVERAGE(B17:D17) -> 0.43 | F17: =STDEV(B17:D17) -> 0.058110498 | G17: =5*(E17-0.08)/0.0168 -> 104.16667
A18: M1801-11 | B18: 3.0312 | C18: 2.8905 | D18: 2.9207 | E18: =AVERAGE(B18:D18) -> 2.9474667 | F18: =STDEV(B18:D18) -> 0.074070664 | G18: =5*(E18-0.08)/0.0168 -> 853.4127
A19: M1801-12 | B19: 0.2315 | C19: 0.1973 | D19: 0.2231 | E19: =AVERAGE(B19:D19) -> 0.2173 | F19: =STDEV(B19:D19) -> 0.017822458 | G19: =5*(E19-0.08)/0.0168 -> 40.863095
... A37: M1801-30 | B37: 0.1014 | C37: 0.1054 | D37: 0.0871 | E37: =AVERAGE(B37:D37) -> 0.097966667 | F37: =STDEV(B37:D37) -> 0.009620984 | G37: =5*(E37-0.08)/0.0168 -> 5.3472222
A38: M1801-31 | B38: 0.567 | C38: 0.3918 | D38: 0.4513 | E38: =AVERAGE(B38:D38) -> 0.47003333 | F38: =STDEV(B38:D38) -> 0.089089637 | G38: =5*(E38-0.1688)/0.0156 -> 96.549145
A39: M1801-32 | B39: 0.099 | C39: 0.0907 | D39: 0.1274 | E39: =AVERAGE(B39:D39) -> 0.1057 | F39: =STDEV(B39:D39) -> 0.019245519 | G39: =5*(E39-0.1688)/0.0156 -> -20.224359
A40: M1801-33 | B40: 0.3087 | C40: 0.3185 | D40: 0.3825 | E40: =AVERAGE(B40:D40) -> 0.33656667 | F40: =STDEV(B40:D40) -> 0.040080086 | G40: =5*(E40-0.1688)/0.0156 -> 53.771368
A41: M1801-34 | B41: 0.2207 | C41: 0.2516 | D41: 0.1942 | E41: =AVERAGE(B41:D41) -> 0.22216667 | F41: =STDEV(B41:D41) -> 0.028728093 | G41: =5*(E41-0.1688)/0.0156 -> 17.104701
A42: M1801-35 | B42: 0.1857 | C42: 0.1172 | D42: 0.118 | E42: =AVERAGE(B42:D42) -> 0.1403 | F42: =STDEV(B42:D42) -> 0.039319588 | G42: =5*(E42-0.1688)/0.0156 -> -9.1346154
A43: M1801-36 | B43: 0.1988 | C43: 0.2269 | D43: 0.2192 | E43: =AVERAGE(B43:D43) -> 0.21496667 | F43: =STDEV(B43:D43) -> 0.014520445 | G43: =5*(E43-0.1688)/0.0156 -> 14.797009
A44: M1801-37 | B44: 0.365 | C44: 0.4984 | D44: 0.353 | E44: =AVERAGE(B44:D44) -> 0.40546667 | F44: =STDEV(B44:D44) -> 0.080705968 | G44: =5*(E44-0.1688)/0.0156 -> 75.854701
A45: M1801-38 | B45: 0.309 | C45: 0.2702 | D45: 0.3679 | E45: =AVERAGE(B45:D45) -> 0.3157 | F45: =STDEV(B45:D45) -> 0.049193394 | G45: =5*(E45-0.1688)/0.0156 -> 47.083333
A46: M1801-39 | B46: 0.3747 | C46: 0.4436 | D46: 0.3738 | E46: =AVERAGE(B46:D46) -> 0.39736667 | F46: =STDEV(B46:D46) -> 0.04004177 | G46: =5*(E46-0.1688)/0.0156 -> 73.258547
A47: M1801-40 | B47: 0.2978 | C47: 0.2134 | D47: 0.2563 | E47: =AVERAGE(B47:D47) -> 0.25583333 | F47: =STDEV(B47:D47) -> 0.042201935 | G47: =5*(E47-0.1688)/0.0156 -> 27.895299
A48: M1801-41 | C48: 2.1891 | D48: 2.4389 | E48: =AVERAGE(B48:D48) -> 2.314 | F48: =STDEV(B48:D48) -> 0.17663527 | G48: =5*(E48-0.1688)/0.0156 -> 687.5641
A49: M1801-42 | B49: 0.2122 | C49: 0.1374 | D49: 0.2531 | E49: =AVERAGE(B49:D49) -> 0.2009 | F49: =STDEV(B49:D49) -> 0.058671884 | G49: =5*(E49-0.1688)/0.0156 -> 10.288462
A50: M1801-43 | B50: 0.2908 | C50: 0.2024 | D50: 0.2449 | E50: =AVERAGE(B50:D50) -> 0.24603333 | F50: =STDEV(B50:D50) -> 0.044210896 | G50: =5*(E50-0.1688)/0.0156 -> 24.754274
A51: M1801-44 | B51: 0.2927 | C51: 0.2519 | D51: 0.2116 | E51: =AVERAGE(B51:D51) -> 0.25206667 | F51: =STDEV(B51:D51) -> 0.040550257 | G51: =5*(E51-0.1688)/0.0156 -> 26.688034
A52: M1801-45 | B52: 0.3234 | C52: 0.3054 | D52: 0.2455 | E52: =AVERAGE(B52:D52) -> 0.29143333 | F52: =STDEV(B52:D52) -> 0.040784842 | G52: =5*(E52-0.1688)/0.0156 -> 39.305556
A53: M1801-46 | B53: 0.3448 | C53: 0.2439 | D53: 0.2927 | E53: =AVERAGE(B53:D53) -> 0.2938 | F53: =STDEV(B53:D53) -> 0.050458993 | G53: =5*(E53-0.1688)/0.0156 -> 40.064103
A54: M1801-47 | B54: 2.9338 | C54: 2.9426 | E54: =AVERAGE(B54:D54) -> 2.9382 | F54: =STDEV(B54:D54) -> 0.0062225397 | G54: =5*(E54-0.1688)/0.0156 -> 887.62821
A55: M1801-48 | B55: 0 | C55: 0 | D55: 0 | E55: =AVERAGE(B55:D55) -> 0 | F55: =STDEV(B55:D55) -> 0 | G55: =5*(E55-0.1688)/0.0156 -> -54.102564
A56: M1801-49 | B56: 0.2651 | C56: 0.1864 | D56: 0.1888 | E56: =AVERAGE(B56:D56) -> 0.21343333 | F56: =STDEV(B56:D56) -> 0.044760734 | G56: =5*(E56-0.1688)/0.0156 -> 14.305556
A57: M1801-50 | B57: 0 | C57: 0 | D57: 0 | E57: =AVERAGE(B57:D57) -> 0 | F57: =STDEV(B57:D57) -> 0 | G57: =5*(E57-0.1688)/0.0156 -> -54.102564
A58: M1801-51 | B58: 0.1063 | C58: 0.1435 | D58: 0.0751 | E58: =AVERAGE(B58:D58) -> 0.1083 | F58: =STDEV(B58:D58) -> 0.034243832 | G58: =5*(E58-0.1688)/0.0156 -> -19.391026
A59: M1801-52 | B59: 0.1957 | C59: 0.0841 | D59: 0.1506 | E59: =AVERAGE(B59:D59) -> 0.14346667 | F59: =STDEV(B59:D59) -> 0.056140924 | G59: =5*(E59-0.1688)/0.0156 -> -8.1196581
A60: M1801-53 | B60: 0.4525 | C60: 0.4108 | D60: 0.3889 | E60: =AVERAGE(B60:D60) -> 0.4174 | F60: =STDEV(B60:D60) -> 0.032309596 | G60: =5*(E60-0.1688)/0.0156 -> 79.679487
A61: M1801-54 | B61: 0.2248 | C61: 0.2416 | D61: 0.2835 | E61: =AVERAGE(B61:D61) -> 0.24996667 | F61: =STDEV(B61:D61) -> 0.030231165 | G61: =5*(E61-0.1688)/0.0156 -> 26.014957
A62: M1801-55 | B62: 0.0872 | C62: 0.1101 | D62: 0.1305 | E62: =AVERAGE(B62:D62) -> 0.10926667 | F62: =STDEV(B62:D62) -> 0.021662025 | G62: =5*(E62-0.1688)/0.0156 -> -19.081197
A63: M1801-56 | C63: 0.1325 | D63: 0.1486 | E63: =AVERAGE(B63:D63) -> 0.14055 | F63: =STDEV(B63:D63) -> 0.011384419 | G63: =5*(E63-0.1688)/0.0156 -> -9.0544872
A64: M1801-57 | B64: 0.2632 | C64: 0.1774 | D64: 0.1648 | E64: =AVERAGE(B64:D64) -> 0.2018 | F64: =STDEV(B64:D64) -> 0.053545868 | G64: =5*(E64-0.1688)/0.0156 -> 10.576923
A65: M1801-58 | B65: 0.2912 | C65: 0.2619 | D65: 0.2437 | E65: =AVERAGE(B65:D65) -> 0.2656 | F65: =STDEV(B65:D65) -> 0.023965183 | G65: =5*(E65-0.1688)/0.0156 -> 31.025641
A66: M1801-59 | B66: 0.0412 | C66: 0.0243 | D66: 0.0382 | E66: =AVERAGE(B66:D66) -> 0.034566667 | F66: =STDEV(B66:D66) -> 0.0090168361 | G66: =5*(E66-0.1688)/0.0156 -> -43.023504
A67: M1801-60 | B67: 2.7187 | C67: 2.6264 | D67: 2.6534 | E67: =AVERAGE(B67:D67) -> 2.6661667 | F67: =STDEV(B67:D67) -> 0.047455909 | G67: =5*(E67-0.1688)/0.0156 -> 800.43803
A68: M1801-61 | B68: 0.4011 | C68: 0.3323 | D68: 0.3524 | E68: =AVERAGE(B68:D68) -> 0.36193333 | F68: =STDEV(B68:D68) -> 0.035376876 | G68: =5*(E68-0.0617)/0.0186 -> 80.707885
A69: M1801-62 | B69: 0.1963 | C69: 0.189 | D69: 0.2006 | E69: =AVERAGE(B69:D69) -> 0.1953 | F69: =STDEV(B69:D69) -> 0.0058642988 | G69: =5*(E69-0.0617)/0.0186 -> 35.913978
A70: M1801-63 | B70: 0.2195 | C70: 0.2397 | D70: 0.1662 | E70: =AVERAGE(B70:D70) -> 0.20846667 | F70: =STDEV(B70:D70) -> 0.037971876 | G70: =5*(E70-0.0617)/0.0186 -> 39.453405
A71: M1801-64 | B71: 0.1786 | C71: 0.1595 | D71: 0.1799 | E71: =AVERAGE(B71:D71) -> 0.17266667 | F71: =STDEV(B71:D71) -> 0.011421179 | G71: =5*(E71-0.0617)/0.0186 -> 29.829749
A72: M1801-65 | B72: 0.1652 | C72: 0.1797 | D72: 0.1545 | E72: =AVERAGE(B72:D72) -> 0.16646667 | F72: =STDEV(B72:D72) -> 0.012647661 | G72: =5*(E72-0.0617)/0.0186 -> 28.163082
A73: M1801-66 | B73: 0.1819 | C73: 0.1668 | D73: 0.1903 | E73: =AVERAGE(B73:D73) -> 0.17966667 | F73: =STDEV(B73:D73) -> 0.01190812 | G73: =5*(E73-0.0617)/0.0186 -> 31.71147
A74: M1801-67 | B74: 0.2086 | C74: 0.2583 | D74: 0.1606 | E74: =AVERAGE(B74:D74) -> 0.20916667 | F74: =STDEV(B74:D74) -> 0.048852465 | G74: =5*(E74-0.0617)/0.0186 -> 39.641577
A75: M1801-68 | B75: 3.169 | C75: 3.2359 | D75: 3.0863 | E75: =AVERAGE(B75:D75) -> 3.1637333 | F75: =STDEV(B75:D75) -> 0.074938931 | G75: =5*(E75-0.0617)/0.0186 -> 833.87993
A76: M1801-69 | B76: 3.2711 | C76: 3.1596 | E76: =AVERAGE(B76:D76) -> 3.21535 | F76: =STDEV(B76:D76) -> 0.078842406 | G76: =5*(E76-0.0617)/0.0186 -> 847.75538
A77: M1801-70 | B77: 3.1433 | C77: 3.1936 | D77: 3.1232 | E77: =AVERAGE(B77:D77) -> 3.1533667 | F77: =STDEV(B77:D77) -> 0.036263526 | G77: =5*(E77-0.0617)/0.0186 -> 831.09319
A78: M1801-71 | B78: 0.1919 | C78: 0.2033 | D78: 0.1771 | E78: =AVERAGE(B78:D78) -> 0.19076667 | F78: =STDEV(B78:D78) -> 0.013136717 | G78: =5*(E78-0.0617)/0.0186 -> 34.695341
A79: M1801-72 | B79: 0.2572 | C79: 0.2377 | D79: 0.1961 | E79: =AVERAGE(B79:D79) -> 0.23033333 | F79: =STDEV(B79:D79) -> 0.031209026 | G79: =5*(E79-0.0617)/0.0186 -> 45.331541
A80: M1801-73 | B80: 0.2572 | C80: 0.2377 | D80: 0.1961 | E80: =AVERAGE(B80:D80) -> 0.23033333 | F80: =STDEV(B80:D80) -> 0.031209026 | G80: =5*(E80-0.0617)/0.0186 -> 45.331541
A81: M1801-74 | B81: 0.0872 | C81: 0.0915 | D81: 0.1136 | E81: =AVERAGE(B81:D81) -> 0.097433333 | F81: =STDEV(B81:D81) -> 0.014164863 | G81: =5*(E81-0.0617)/0.0186 -> 9.6057348
A82: M1801-75 | B82: 0.4351 | C82: 0.4124 | D82: 0.3653 | E82: =AVERAGE(B82:D82) -> 0.40426667 | F82: =STDEV(B82:D82) -> 0.035603698 | G82: =5*(E82-0.0617)/0.0186 -> 92.087814
A83: M1801-76 | B83: 0.4329 | C83: 0.3666 | D83: 0.3666 | E83: =AVERAGE(B83:D83) -> 0.3887 | F83: =STDEV(B83:D83) -> 0.038278323 | G83: =5*(E83-0.0617)/0.0186 -> 87.903226
A84: M1801-77 | B84: 0.1762 | C84: 0.2034 | D84: 0.1837 | E84: =AVERAGE(B84:D84) -> 0.18776667 | F84: =STDEV(B84:D84) -> 0.014048606 | G84: =5*(E84-0.0617)/0.0186 -> 33.888889
A85: M1801-78 | B85: 0.1341 | C85: 0.1581 | D85: 0.1927 | E85: =AVERAGE(B85:D85) -> 0.16163333 | F85: =STDEV(B85:D85) -> 0.029459351 | G85: =5*(E85-0.0617)/0.0186 -> 26.863799
A86: M1801-79 | B86: 0.2058 | C86: 0.1873 | D86: 0.1503 | E86: =AVERAGE(B86:D86) -> 0.18113333 | F86: =STDEV(B86:D86) -> 0.028259217 | G86: =5*(E86-0.0617)/0.0186 -> 32.105735
A87: M1801-80 | B87: 0.1258 | C87: 0.1136 | D87: 0.1182 | E87: =AVERAGE(B87:D87) -> 0.1192 | F87: =STDEV(B87:D87) -> 0.0061611687 | G87: =5*(E87-0.0617)/0.0186 -> 15.456989
A88: M1801-81 | B88: 0.1331 | C88: 0.1183 | D88: 0.1053 | E88: =AVERAGE(B88:D88) -> 0.1189 | F88: =STDEV(B88:D88) -> 0.013909709 | G88: =5*(E88-0.0617)/0.0186 -> 15.376344
... A97: M1801-90 | B97: 0.1797 | C97: 0.0983 | D97: 0.0931 | E97: =AVERAGE(B97:D97) -> 0.1237 | F97: =STDEV(B97:D97) -> 0.048567067 | G97: =5*(E97-0.0617)/0.0186 -> 16.666667
A99: 标准品浓度（pg/mL） | B99: 0 | C99: 7.5 | D99: 15 | E99: 30 | F99: 60 | G99: 120
A100: OD值 | B100: 0 | C100: 0.1758 | D100: 0.3417 | E100: 0.6844 | F100: 1.1393 | G100: 2.0486
A101: OD值 | B101: 0 | C101: 0.3137 | D101: 0.3957 | E101: 0.7588 | F101: 1.2264 | G101: 1.9559
A102: OD值 | B102: 0 | C102: 0.1456 | D102: 0.3369 | E102: 0.6665 | F102: 1.3433 | G102: 2.2051
A104: 0 | B104: 7.5 | C104: 15 | D104: 30 | E104: 60 | F104: 120
A105: 0 | B105: 0.1758 | C105: 0.3417 | D105: 0.6844 | E105: 1.1393 | F105: 2.0486
A108: 0 | B108: 0
A109: 7.5 | B109: 0.1758
A110: 15 | B110: 0.3417
A111: 30 | B111: 0.6844
A112: 60 | B112: 1.1393
A113: 120 | B113: 2.0486
A118: 0 | B118: 0
A119: 7.5 | B119: 0.3137
A120: 15 | B120: 0.3957
A121: 30 | B121: 0.7588
A122: 60 | B122: 1.2264
A123: 120 | B123: 1.9559
... A137: 120 | B137: 2.2051

Sheet IL-12
A1: 实验时间 | B1: 43382
A2: 操作人 | B2: 马霄、刘佳、蔡辉霞
A3: 实验方法：ELISA | B3: ELISA法
A4: 实验结果
A5: 人白细胞介素12（IL-12）
A6: 公司编号 | B6: OD值
B7: 平行1 | C7: 平行2 | D7: 平行3 | E7: 平均值 | F7: 标准差 | G7: 浓度
A8: M1801-01 | B8: 0.1792 | C8: 0.1602 | D8: 0.1489 | E8: =AVERAGE(B8:D8) -> 0.16276667 | F8: =STDEV(B8:D8) -> 0.015312196 | G8: =5*(E8-0.0519)/0.0219 -> 25.312024
A9: M1801-02 | B9: 0.2037 | C9: 0.2065 | D9: 0.2118 | E9: =AVERAGE(B9:D9) -> 0.20733333 | F9: =STDEV(B9:D9) -> 0.0041137979 | G9: =5*(E9-0.0519)/0.0219 -> 35.487062
A10: M1801-03 | B10: 0.0104 | C10: 0.0318 | D10: 0.0011 | E10: =AVERAGE(B10:D10) -> 0.014433333 | F10: =STDEV(B10:D10) -> 0.015742406 | G10: =5*(E10-0.0519)/0.0219 -> -8.5540335
A11: M1801-04 | B11: 0 | C11: 0 | D11: 0 | E11: =AVERAGE(B11:D11) -> 0 | F11: =STDEV(B11:D11) -> 0 | G11: =5*(E11-0.0519)/0.0219 -> -11.849315
A12: M1801-05 | B12: 0.0152 | C12: 0.0582 | D12: 0.0461 | E12: =AVERAGE(B12:D12) -> 0.039833333 | F12: =STDEV(B12:D12) -> 0.022174385 | G12: =5*(E12-0.0519)/0.0219 -> -2.7549467
A13: M1801-06 | B13: 0 | C13: 0 | D13: 0 | E13: =AVERAGE(B13:D13) -> 0 | F13: =STDEV(B13:D13) -> 0 | G13: =5*(E13-0.0519)/0.0219 -> -11.849315
A14: M1801-07 | B14: 0.0518 | C14: 0.1402 | D14: 0.0891 | E14: =AVERAGE(B14:D14) -> 0.0937 | F14: =STDEV(B14:D14) -> 0.044379162 | G14: =5*(E14-0.0519)/0.0219 -> 9.543379
A15: M1801-08 | B15: 0.4776 | C15: 0.3738 | D15: 0.4398 | E15: =AVERAGE(B15:D15) -> 0.4304 | F15: =STDEV(B15:D15) -> 0.05253456 | G15: =5*(E15-0.0519)/0.0219 -> 86.415525
A16: M1801-09 | B16: 0.0334 | C16: 0.0885 | D16: 0.064 | E16: =AVERAGE(B16:D16) -> 0.061966667 | F16: =STDEV(B16:D16) -> 0.027606219 | G16: =5*(E16-0.0519)/0.0219 -> 2.2983257
A17: M1801-10 | B17: 0.1935 | C17: 0.1296 | D17: 0.181 | E17: =AVERAGE(B17:D17) -> 0.16803333 | F17: =STDEV(B17:D17) -> 0.033865961 | G17: =5*(E17-0.0519)/0.0219 -> 26.51446
A18: M1801-11 | C18: 2.2395 | D18: 2.1508 | E18: =AVERAGE(B18:D18) -> 2.19515 | F18: =STDEV(B18:D18) -> 0.062720371 | G18: =5*(E18-0.0519)/0.0219 -> 489.32648
A19: M1801-12 | B19: 0 | C19: 0 | D19: 0 | E19: =AVERAGE(B19:D19) -> 0 | F19: =STDEV(B19:D19) -> 0 | G19: =5*(E19-0.0519)/0.0219 -> -11.849315
A20: M1801-13 | B20: 0 | C20: 0 | D20: 0 | E20: =AVERAGE(B20:D20) -> 0 | F20: =STDEV(B20:D20) -> 0 | G20: =5*(E20-0.0519)/0.0219 -> -11.849315
A21: M1801-14 | B21: 0 | C21: 0 | D21: 0 | E21: =AVERAGE(B21:D21) -> 0 | F21: =STDEV(B21:D21) -> 0 | G21: =5*(E21-0.0519)/0.0219 -> -11.849315
A22: M1801-15 | B22: 0.0831 | C22: 0.1905 | D22: 0.1428 | E22: =AVERAGE(B22:D22) -> 0.1388 | F22: =STDEV(B22:D22) -> 0.053811616 | G22: =5*(E22-0.0519)/0.0219 -> 19.840183
A23: M1801-16 | B23: 0.6075 | C23: 0.4694 | D23: 0.5575 | E23: =AVERAGE(B23:D23) -> 0.5448 | F23: =STDEV(B23:D23) -> 0.069920455 | G23: =5*(E23-0.0519)/0.0219 -> 112.53425
A24: M1801-17 | B24: 0.0717 | C24: 0.0854 | D24: 0.0554 | E24: =AVERAGE(B24:D24) -> 0.070833333 | F24: =STDEV(B24:D24) -> 0.015018766 | G24: =5*(E24-0.0519)/0.0219 -> 4.3226788
A25: M1801-18 | B25: 0.0508 | C25: 0.0531 | D25: 0.0669 | E25: =AVERAGE(B25:D25) -> 0.056933333 | F25: =STDEV(B25:D25) -> 0.0087076595 | G25: =5*(E25-0.0519)/0.0219 -> 1.1491629
A26: M1801-19 | B26: 0 | C26: 0 | D26: 0 | E26: =AVERAGE(B26:D26) -> 0 | F26: =STDEV(B26:D26) -> 0 | G26: =5*(E26-0.0519)/0.0219 -> -11.849315
A27: M1801-20 | B27: 0 | C27: 0 | D27: 0 | E27: =AVERAGE(B27:D27) -> 0 | F27: =STDEV(B27:D27) -> 0 | G27: =5*(E27-0.0519)/0.0219 -> -11.849315
A28: M1801-21 | B28: 0.0215 | C28: 0.0358 | D28: 0.028 | E28: =AVERAGE(B28:D28) -> 0.028433333 | F28: =STDEV(B28:D28) -> 0.0071598417 | G28: =5*(E28-0.0519)/0.0219 -> -5.3576865
A29: M1801-22 | B29: 0 | C29: 0 | D29: 0 | E29: =AVERAGE(B29:D29) -> 0 | F29: =STDEV(B29:D29) -> 0 | G29: =5*(E29-0.0519)/0.0219 -> -11.849315
A30: M1801-23 | B30: 0.0294 | C30: 0.0819 | D30: 0.0769 | E30: =AVERAGE(B30:D30) -> 0.062733333 | F30: =STDEV(B30:D30) -> 0.028975564 | G30: =5*(E30-0.0519)/0.0219 -> 2.4733638
... A37: M1801-30 | B37: 0 | C37: 0 | D37: 0 | E37: =AVERAGE(B37:D37) -> 0 | F37: =STDEV(B37:D37) -> 0 | G37: =5*(E37-0.0519)/0.0219 -> -11.849315
A38: M1801-31 | B38: 0.2676 | C38: 0.2164 | D38: 0.2159 | E38: =AVERAGE(B38:D38) -> 0.2333 | F38: =STDEV(B38:D38) -> 0.029705723 | G38: =5*(E38-0.0316)/0.0261 -> 38.639847
A39: M1801-32 | B39: 0.0028 | C39: 0 | D39: 0.0016 | E39: =AVERAGE(B39:D39) -> 0.0014666667 | F39: =STDEV(B39:D39) -> 0.0014047538 | G39: =5*(E39-0.0316)/0.0261 -> -5.7726692
A40: M1801-33 | B40: 0.0726 | C40: 0.1027 | D40: 0.0861 | E40: =AVERAGE(B40:D40) -> 0.087133333 | F40: =STDEV(B40:D40) -> 0.015076582 | G40: =5*(E40-0.0316)/0.0261 -> 10.63857
A41: M1801-34 | B41: 0.0521 | C41: 0.0582 | D41: 0.0765 | E41: =AVERAGE(B41:D41) -> 0.062266667 | F41: =STDEV(B41:D41) -> 0.012698163 | G41: =5*(E41-0.0316)/0.0261 -> 5.8748404
A42: M1801-35 | B42: 0 | C42: 0 | D42: 0 | E42: =AVERAGE(B42:D42) -> 0 | F42: =STDEV(B42:D42) -> 0 | G42: =5*(E42-0.0316)/0.0261 -> -6.0536398
A43: M1801-36 | B43: 0.0281 | C43: 0.0037 | D43: 0.0157 | E43: =AVERAGE(B43:D43) -> 0.015833333 | F43: =STDEV(B43:D43) -> 0.012200546 | G43: =5*(E43-0.0316)/0.0261 -> -3.0204342
A44: M1801-37 | B44: 0.0891 | C44: 0.1796 | D44: 0.1053 | E44: =AVERAGE(B44:D44) -> 0.12466667 | F44: =STDEV(B44:D44) -> 0.048258298 | G44: =5*(E44-0.0316)/0.0261 -> 17.828863
A45: M1801-38 | B45: 0.1466 | C45: 0.0661 | D45: 0.1533 | E45: =AVERAGE(B45:D45) -> 0.122 | F45: =STDEV(B45:D45) -> 0.048526591 | G45: =5*(E45-0.0316)/0.0261 -> 17.318008
A46: M1801-39 | B46: 0.098 | C46: 0.1224 | D46: 0.0676 | E46: =AVERAGE(B46:D46) -> 0.096 | F46: =STDEV(B46:D46) -> 0.02745469 | G46: =5*(E46-0.0316)/0.0261 -> 12.337165
A47: M1801-40 | B47: 0.0679 | C47: 0.0222 | D47: 0.0538 | E47: =AVERAGE(B47:D47) -> 0.047966667 | F47: =STDEV(B47:D47) -> 0.023401781 | G47: =5*(E47-0.0316)/0.0261 -> 3.1353768
A48: M1801-41 | B48: 1.0755 | C48: 1.2005 | D48: 1.2236 | E48: =AVERAGE(B48:D48) -> 1.1665333 | F48: =STDEV(B48:D48) -> 0.079678751 | G48: =5*(E48-0.0316)/0.0261 -> 217.42018
A49: M1801-42 | B49: 0.0313 | C49: 0.0107 | D49: 0.0317 | E49: =AVERAGE(B49:D49) -> 0.024566667 | F49: =STDEV(B49:D49) -> 0.012010551 | G49: =5*(E49-0.0316)/0.0261 -> -1.3473819
... A66: M1801-59 | B66: 0 | C66: 0 | D66: 0 | E66: =AVERAGE(B66:D66) -> 0 | F66: =STDEV(B66:D66) -> 0 | G66: =5*(E66-0.0316)/0.0261 -> -6.0536398
A67: M1801-60 | B67: 1.858 | D67: 1.7648 | E67: =AVERAGE(B67:D67) -> 1.8114 | F67: =STDEV(B67:D67) -> 0.065902352 | G67: =5*(E67-0.0316)/0.0261 -> 340.95785
A68: M1801-61 | B68: 0.3403 | C68: 0.2817 | D68: 0.242 | E68: =AVERAGE(B68:D68) -> 0.288 | F68: =STDEV(B68:D68) -> 0.049451896 | G68: =5*(E68-0.0608)/0.036 -> 31.555556
A69: M1801-62 | B69: 0.2111 | C69: 0.1853 | D69: 0.1794 | E69: =AVERAGE(B69:D69) -> 0.19193333 | F69: =STDEV(B69:D69) -> 0.016858924 | G69: =5*(E69-0.0608)/0.036 -> 18.212963
A70: M1801-63 | B70: 0.1414 | C70: 0.1514 | D70: 0.1348 | E70: =AVERAGE(B70:D70) -> 0.14253333 | F70: =STDEV(B70:D70) -> 0.0083578307 | G70: =5*(E70-0.0608)/0.036 -> 11.351852
A71: M1801-64 | B71: 0.1025 | C71: 0.1087 | D71: 0.103 | E71: =AVERAGE(B71:D71) -> 0.10473333 | F71: =STDEV(B71:D71) -> 0.003444319 | G71: =5*(E71-0.0608)/0.036 -> 6.1018519
A72: M1801-65 | B72: 0.1476 | C72: 0.1761 | D72: 0.1444 | E72: =AVERAGE(B72:D72) -> 0.15603333 | F72: =STDEV(B72:D72) -> 0.017451743 | G72: =5*(E72-0.0608)/0.036 -> 13.226852
A73: M1801-66 | B73: 0.1336 | C73: 0.1346 | D73: 0.1108 | E73: =AVERAGE(B73:D73) -> 0.12633333 | F73: =STDEV(B73:D73) -> 0.01346155 | G73: =5*(E73-0.0608)/0.036 -> 9.1018519
A74: M1801-67 | B74: 0.1523 | C74: 0.2242 | D74: 0.1639 | E74: =AVERAGE(B74:D74) -> 0.18013333 | F74: =STDEV(B74:D74) -> 0.038601079 | G74: =5*(E74-0.0608)/0.036 -> 16.574074
A75: M1801-68 | C75: 2.4219 | D75: 2.3829 | E75: =AVERAGE(B75:D75) -> 2.4024 | F75: =STDEV(B75:D75) -> 0.027577164 | G75: =5*(E75-0.0608)/0.036 -> 325.22222
A76: M1801-69 | B76: 2.7213 | C76: 2.7816 | D76: 2.7179 | E76: =AVERAGE(B76:D76) -> 2.7402667 | F76: =STDEV(B76:D76) -> 0.035836062 | G76: =5*(E76-0.0608)/0.036 -> 372.14815
A77: M1801-70 | B77: 2.8517 | C77: 2.7425 | D77: 2.8162 | E77: =AVERAGE(B77:D77) -> 2.8034667 | F77: =STDEV(B77:D77) -> 0.055702454 | G77: =5*(E77-0.0608)/0.036 -> 380.92593
A78: M1801-71 | B78: 0.101 | C78: 0.0875 | D78: 0.0761 | E78: =AVERAGE(B78:D78) -> 0.0882 | F78: =STDEV(B78:D78) -> 0.01246475 | G78: =5*(E78-0.0608)/0.036 -> 3.8055556
A79: M1801-72 | B79: 0.1997 | C79: 0.1651 | D79: 0.1987 | E79: =AVERAGE(B79:D79) -> 0.18783333 | F79: =STDEV(B79:D79) -> 0.019693992 | G79: =5*(E79-0.0608)/0.036 -> 17.643519
A80: M1801-73 | B80: 0.0028 | C80: 0.0302 | D80: 0.0198 | E80: =AVERAGE(B80:D80) -> 0.0176 | F80: =STDEV(B80:D80) -> 0.013831847 | G80: =5*(E80-0.0608)/0.036 -> -6
A81: M1801-74 | B81: 0.0986 | C81: 0.0239 | D81: 0.0467 | E81: =AVERAGE(B81:D81) -> 0.0564 | F81: =STDEV(B81:D81) -> 0.038283025 | G81: =5*(E81-0.0608)/0.036 -> -0.61111111
A82: M1801-75 | B82: 0.2436 | C82: 0.3045 | D82: 0.3049 | E82: =AVERAGE(B82:D82) -> 0.28433333 | F82: =STDEV(B82:D82) -> 0.035276668 | G82: =5*(E82-0.0608)/0.036 -> 31.046296
A83: M1801-76 | B83: 0.2957 | C83: 0.2922 | D83: 0.3251 | E83: =AVERAGE(B83:D83) -> 0.30433333 | F83: =STDEV(B83:D83) -> 0.018069403 | G83: =5*(E83-0.0608)/0.036 -> 33.824074
A84: M1801-77 | B84: 0.1551 | C84: 0.1737 | D84: 0.1432 | E84: =AVERAGE(B84:D84) -> 0.15733333 | F84: =STDEV(B84:D84) -> 0.015372161 | G84: =5*(E84-0.0608)/0.036 -> 13.407407
A85: M1801-78 | B85: 0.1598 | C85: 0.1144 | D85: 0.1451 | E85: =AVERAGE(B85:D85) -> 0.13976667 | F85: =STDEV(B85:D85) -> 0.023165132 | G85: =5*(E85-0.0608)/0.036 -> 10.967593
A86: M1801-79 | B86: 0.0566 | C86: 0.0922 | D86: 0.1098 | E86: =AVERAGE(B86:D86) -> 0.0862 | F86: =STDEV(B86:D86) -> 0.027102767 | G86: =5*(E86-0.0608)/0.036 -> 3.5277778
A87: M1801-80 | B87: 0.0834 | C87: 0.0646 | D87: 0.0694 | E87: =AVERAGE(B87:D87) -> 0.072466667 | F87: =STDEV(B87:D87) -> 0.0097679749 | G87: =5*(E87-0.0608)/0.036 -> 1.6203704
... A91: M1801-84 | B91: 0.1496 | C91: 0.1005 | D91: 0.1499 | E91: =AVERAGE(B91:D91) -> 0.13333333 | F91: =STDEV(B91:D91) -> 0.028434896 | G91: =5*(E91-0.0608)/0.036 -> 10.074074
A92: M1801-85 | B92: 2.5578 | D92: 2.5401 | E92: =AVERAGE(B92:D92) -> 2.54895 | F92: =STDEV(B92:D92) -> 0.01251579 | G92: =5*(E92-0.0608)/0.036 -> 345.57639
A93: M1801-86 | B93: 0.4923 | D93: 0.4401 | E93: =AVERAGE(B93:D93) -> 0.4662 | F93: =STDEV(B93:D93) -> 0.036910974 | G93: =5*(E93-0.0608)/0.036 -> 56.305556
A94: M1801-87 | B94: 0 | C94: 0 | D94: 0 | E94: =AVERAGE(B94:D94) -> 0 | F94: =STDEV(B94:D94) -> 0 | G94: =5*(E94-0.0608)/0.036 -> -8.4444444
A95: M1801-88 | B95: 0.1437 | C95: 0.1162 | D95: 0.1178 | E95: =AVERAGE(B95:D95) -> 0.1259 | F95: =STDEV(B95:D95) -> 0.015435997 | G95: =5*(E95-0.0608)/0.036 -> 9.0416667
A96: M1801-89 | B96: 0.0438 | C96: 0.0421 | D96: 0.0754 | E96: =AVERAGE(B96:D96) -> 0.053766667 | F96: =STDEV(B96:D96) -> 0.018754288 | G96: =5*(E96-0.0608)/0.036 -> -0.97685185
A97: M1801-90 | B97: 0.0785 | C97: 0.0867 | D97: 0.0695 | E97: =AVERAGE(B97:D97) -> 0.078233333 | F97: =STDEV(B97:D97) -> 0.0086031002 | G97: =5*(E97-0.0608)/0.036 -> 2.4212963
A99: 标准品浓度（pg/mL） | B99: 0 | C99: 3 | D99: 6 | E99: 12 | F99: 24 | G99: 48
A100: OD值 | B100: 0 | C100: 0.0991 | D100: 0.1773 | E100: 0.3528 | F100: 0.6698 | G100: 1.0495
A101: OD值 | B101: 0 | C101: 0.087 | D101: 0.2007 | E101: 0.3696 | F101: 0.704 | G101: 1.2539
A102: OD值 | B102: 0 | C102: 0.1302 | D102: 0.2699 | E102: 0.527 | F102: 1.0786 | G102: 1.7059
A104: 0 | B104: 0
A105: 3 | B105: 0.0991
A106: 6 | B106: 0.1773
A107: 12 | B107: 0.3528
A108: 24 | B108: 0.6698
A109: 48 | B109: 1.0495
A114: 0 | B114: 0
A115: 3 | B115: 0.087
A116: 6 | B116: 0.2007
A117: 12 | B117: 0.3696
A118: 24 | B118: 0.704
A119: 48 | B119: 1.2539
... A130: 48 | B130: 1.7059

Sheet IL-13
A1: 实验时间 | B1: 43383
A2: 操作人 | B2: 马霄、刘佳、蔡辉霞
A3: 实验方法：ELISA | B3: ELISA法
A4: 实验结果
A5: 人白细胞介素13（IL-13）
A6: 公司编号 | B6: OD值
B7: 平行1 | C7: 平行2 | D7: 平行3 | E7: 平均值 | F7: 标准差 | G7: 浓度
A8: M1801-01 | B8: 0.2143 | C8: 0.207 | D8: 0.1604 | E8: =AVERAGE(B8:D8) -> 0.1939 | F8: =STDEV(B8:D8) -> 0.029240554 | G8: =5*(E8-0.0145)/0.0063 -> 142.38095
A9: M1801-02 | B9: 0.2012 | C9: 0.2303 | D9: 0.2156 | E9: =AVERAGE(B9:D9) -> 0.2157 | F9: =STDEV(B9:D9) -> 0.014550258 | G9: =5*(E9-0.0145)/0.0063 -> 159.68254
A10: M1801-03 | B10: 0.0372 | C10: 0.0049 | D10: 0.0845 | E10: =AVERAGE(B10:D10) -> 0.0422 | F10: =STDEV(B10:D10) -> 0.04003486 | G10: =5*(E10-0.0145)/0.0063 -> 21.984127
A11: M1801-04 | B11: 0.0015 | C11: 0.0036 | D11: 0.0193 | E11: =AVERAGE(B11:D11) -> 0.0081333333 | F11: =STDEV(B11:D11) -> 0.0097274526 | G11: =5*(E11-0.0145)/0.0063 -> -5.0529101
A12: M1801-05 | B12: 0.1033 | C12: 0.0612 | D12: 0.1457 | E12: =AVERAGE(B12:D12) -> 0.1034 | F12: =STDEV(B12:D12) -> 0.042250089 | G12: =5*(E12-0.0145)/0.0063 -> 70.555556
A13: M1801-06 | B13: 0.0358 | C13: 0.0191 | D13: 0.015 | E13: =AVERAGE(B13:D13) -> 0.0233 | F13: =STDEV(B13:D13) -> 0.011017713 | G13: =5*(E13-0.0145)/0.0063 -> 6.984127
A14: M1801-07 | B14: 0.0892 | C14: 0.1521 | D14: 0.1161 | E14: =AVERAGE(B14:D14) -> 0.11913333 | F14: =STDEV(B14:D14) -> 0.03155952 | G14: =5*(E14-0.0145)/0.0063 -> 83.042328
A15: M1801-08 | B15: 0.4401 | C15: 0.4365 | D15: 0.5436 | E15: =AVERAGE(B15:D15) -> 0.4734 | F15: =STDEV(B15:D15) -> 0.060821624 | G15: =5*(E15-0.0145)/0.0063 -> 364.20635
A16: M1801-09 | B16: 0.0478 | C16: 0.1567 | D16: 0 | E16: =AVERAGE(B16:D16) -> 0.068166667 | F16: =STDEV(B16:D16) -> 0.080310792 | G16: =5*(E16-0.0145)/0.0063 -> 42.592593
A17: M1801-10 | B17: 0.2153 | C17: 0.1979 | D17: 0.224 | E17: =AVERAGE(B17:D17) -> 0.2124 | F17: =STDEV(B17:D17) -> 0.01328947 | G17: =5*(E17-0.0145)/0.0063 -> 157.06349
A18: M1801-11 | B18: 2.0692 | C18: 2.0892 | D18: 2.1869 | E18: =AVERAGE(B18:D18) -> 2.1151 | F18: =STDEV(B18:D18) -> 0.0629796 | G18: =5*(E18-0.0145)/0.0063 -> 1667.1429
A19: M1801-12 | B19: 0.0378 | C19: 0.01 | D19: 0.0256 | E19: =AVERAGE(B19:D19) -> 0.024466667 | F19: =STDEV(B19:D19) -> 0.013934609 | G19: =5*(E19-0.0145)/0.0063 -> 7.9100529
... A37: M1801-30 | B37: 0 | C37: 0 | D37: 0 | E37: =AVERAGE(B37:D37) -> 0 | F37: =STDEV(B37:D37) -> 0 | G37: =5*(E37-0.0145)/0.0063 -> -11.507937
A38: M1801-31 | B38: 0.1176 | C38: 0.0806 | D38: 0.0622 | E38: =AVERAGE(B38:D38) -> 0.0868 | F38: =STDEV(B38:D38) -> 0.028215599 | G38: =5*(E38-0.0062)/0.0033 -> 122.12121
A39: M1801-32 | B39: 0 | C39: 0 | D39: 0 | E39: =AVERAGE(B39:D39) -> 0 | F39: =STDEV(B39:D39) -> 0 | G39: =5*(E39-0.0062)/0.0033 -> -9.3939394
A40: M1801-33 | B40: 0 | C40: 0 | D40: 0 | E40: =AVERAGE(B40:D40) -> 0 | F40: =STDEV(B40:D40) -> 0 | G40: =5*(E40-0.0062)/0.0033 -> -9.3939394
A41: M1801-34 | B41: 0 | C41: 0 | D41: 0 | E41: =AVERAGE(B41:D41) -> 0 | F41: =STDEV(B41:D41) -> 0 | G41: =5*(E41-0.0062)/0.0033 -> -9.3939394
A42: M1801-35 | B42: 0 | C42: 0 | D42: 0 | E42: =AVERAGE(B42:D42) -> 0 | F42: =STDEV(B42:D42) -> 0 | G42: =5*(E42-0.0062)/0.0033 -> -9.3939394
A43: M1801-36 | B43: 0 | C43: 0 | D43: 0 | E43: =AVERAGE(B43:D43) -> 0 | F43: =STDEV(B43:D43) -> 0 | G43: =5*(E43-0.0062)/0.0033 -> -9.3939394
A44: M1801-37 | B44: 0.0038 | C44: 0.0452 | D44: 0.0012 | E44: =AVERAGE(B44:D44) -> 0.016733333 | F44: =STDEV(B44:D44) -> 0.024687109 | G44: =5*(E44-0.0062)/0.0033 -> 15.959596
A45: M1801-38 | B45: 0.0214 | C45: 0.0225 | D45: 0.0382 | E45: =AVERAGE(B45:D45) -> 0.027366667 | F45: =STDEV(B45:D45) -> 0.0093980494 | G45: =5*(E45-0.0062)/0.0033 -> 32.070707
A46: M1801-39 | B46: 0 | C46: 0 | D46: 0 | E46: =AVERAGE(B46:D46) -> 0 | F46: =STDEV(B46:D46) -> 0 | G46: =5*(E46-0.0062)/0.0033 -> -9.3939394
A47: M1801-40 | B47: 0 | C47: 0 | D47: 0 | E47: =AVERAGE(B47:D47) -> 0 | F47: =STDEV(B47:D47) -> 0 | G47: =5*(E47-0.0062)/0.0033 -> -9.3939394
A48: M1801-41 | B48: 0.689 | C48: 0.7177 | D48: 0.6571 | E48: =AVERAGE(B48:D48) -> 0.68793333 | F48: =STDEV(B48:D48) -> 0.030314078 | G48: =5*(E48-0.0062)/0.0033 -> 1032.9293
A49: M1801-42 | B49: 0 | C49: 0 | D49: 0 | E49: =AVERAGE(B49:D49) -> 0 | F49: =STDEV(B49:D49) -> 0 | G49: =5*(E49-0.0062)/0.0033 -> -9.3939394
... A67: M1801-60 | B67: 1.0946 | C67: 0.7234 | D67: 0.88 | E67: =AVERAGE(B67:D67) -> 0.89933333 | F67: =STDEV(B67:D67) -> 0.18635368 | G67: =5*(E67-0.0062)/0.0033 -> 1353.2323
A68: M1801-61 | B68: 0.2131 | C68: 0.1955 | D68: 0.1889 | E68: =AVERAGE(B68:D68) -> 0.19916667 | F68: =STDEV(B68:D68) -> 0.01250973 | G68: =5*(E68-0.0153)/0.0071 -> 129.48357
A69: M1801-62 | B69: 0.0967 | C69: 0.074 | D69: 0.0586 | E69: =AVERAGE(B69:D69) -> 0.076433333 | F69: =STDEV(B69:D69) -> 0.019166203 | G69: =5*(E69-0.0153)/0.0071 -> 43.051643
A70: M1801-63 | B70: 0.1166 | C70: 0.0879 | D70: 0.0897 | E70: =AVERAGE(B70:D70) -> 0.098066667 | F70: =STDEV(B70:D70) -> 0.016075551 | G70: =5*(E70-0.0153)/0.0071 -> 58.286385
A71: M1801-64 | B71: 0.0555 | C71: 0.0851 | D71: 0.0506 | E71: =AVERAGE(B71:D71) -> 0.063733333 | F71: =STDEV(B71:D71) -> 0.018665565 | G71: =5*(E71-0.0153)/0.0071 -> 34.107981
A72: M1801-65 | B72: 0.0691 | C72: 0.0402 | D72: 0.0378 | E72: =AVERAGE(B72:D72) -> 0.049033333 | F72: =STDEV(B72:D72) -> 0.017419625 | G72: =5*(E72-0.0153)/0.0071 -> 23.755869
A73: M1801-66 | B73: 0.0449 | C73: 0.0393 | D73: 0.0551 | E73: =AVERAGE(B73:D73) -> 0.046433333 | F73: =STDEV(B73:D73) -> 0.008010826 | G73: =5*(E73-0.0153)/0.0071 -> 21.924883
A74: M1801-67 | B74: 0.0857 | C74: 0.1417 | D74: 0.0872 | E74: =AVERAGE(B74:D74) -> 0.10486667 | F74: =STDEV(B74:D74) -> 0.031907418 | G74: =5*(E74-0.0153)/0.0071 -> 63.075117
A75: M1801-68 | B75: 2.031 | C75: 1.9067 | D75: 2.0297 | E75: =AVERAGE(B75:D75) -> 1.9891333 | F75: =STDEV(B75:D75) -> 0.07139232 | G75: =5*(E75-0.0153)/0.0071 -> 1390.0235
A76: M1801-69 | B76: 2.2973 | C76: 2.3637 | E76: =AVERAGE(B76:D76) -> 2.3305 | F76: =STDEV(B76:D76) -> 0.04695189 | G76: =5*(E76-0.0153)/0.0071 -> 1630.4225
A77: M1801-70 | B77: 2.343 | C77: 2.3917 | E77: =AVERAGE(B77:D77) -> 2.36735 | F77: =STDEV(B77:D77) -> 0.0344361 | G77: =5*(E77-0.0153)/0.0071 -> 1656.3732
A78: M1801-71 | B78: 0.0577 | C78: 0.0553 | D78: 0.0362 | E78: =AVERAGE(B78:D78) -> 0.049733333 | F78: =STDEV(B78:D78) -> 0.011781483 | G78: =5*(E78-0.0153)/0.0071 -> 24.248826
A79: M1801-72 | B79: 0.1016 | C79: 0.0723 | D79: 0.0945 | E79: =AVERAGE(B79:D79) -> 0.089466667 | F79: =STDEV(B79:D79) -> 0.015284742 | G79: =5*(E79-0.0153)/0.0071 -> 52.230047
A80: M1801-73 | B80: 0 | C80: 0 | D80: 0 | E80: =AVERAGE(B80:D80) -> 0 | F80: =STDEV(B80:D80) -> 0 | G80: =5*(E80-0.0153)/0.0071 -> -10.774648
A81: M1801-74 | B81: 0 | C81: 0 | D81: 0 | E81: =AVERAGE(B81:D81) -> 0 | F81: =STDEV(B81:D81) -> 0 | G81: =5*(E81-0.0153)/0.0071 -> -10.774648
A82: M1801-75 | B82: 0.1647 | C82: 0.1892 | D82: 0.1577 | E82: =AVERAGE(B82:D82) -> 0.17053333 | F82: =STDEV(B82:D82) -> 0.016540355 | G82: =5*(E82-0.0153)/0.0071 -> 109.31925
A83: M1801-76 | B83: 0.1705 | C83: 0.1192 | D83: 0.1567 | E83: =AVERAGE(B83:D83) -> 0.1488 | F83: =STDEV(B83:D83) -> 0.026546751 | G83: =5*(E83-0.0153)/0.0071 -> 94.014085
A84: M1801-77 | B84: 0.054 | C84: 0.0751 | D84: 0.0259 | E84: =AVERAGE(B84:D84) -> 0.051666667 | F84: =STDEV(B84:D84) -> 0.024682855 | G84: =5*(E84-0.0153)/0.0071 -> 25.610329
A85: M1801-78 | B85: 0.0792 | C85: 0.0344 | D85: 0.0396 | E85: =AVERAGE(B85:D85) -> 0.051066667 | F85: =STDEV(B85:D85) -> 0.024502517 | G85: =5*(E85-0.0153)/0.0071 -> 25.187793
A86: M1801-79 | B86: 0.0468 | C86: 0.071 | D86: 0.0706 | E86: =AVERAGE(B86:D86) -> 0.0628 | F86: =STDEV(B86:D86) -> 0.01385785 | G86: =5*(E86-0.0153)/0.0071 -> 33.450704
A87: M1801-80 | B87: 0.0526 | C87: 0.0356 | D87: 0.0288 | E87: =AVERAGE(B87:D87) -> 0.039 | F87: =STDEV(B87:D87) -> 0.012258874 | G87: =5*(E87-0.0153)/0.0071 -> 16.690141
A88: M1801-81 | B88: 0.0346 | C88: 0.0296 | D88: 0.0271 | E88: =AVERAGE(B88:D88) -> 0.030433333 | F88: =STDEV(B88:D88) -> 0.0038188131 | G88: =5*(E88-0.0153)/0.0071 -> 10.657277
A89: M1801-82 | B89: 1.2234 | C89: 1.1658 | D89: 1.2226 | E89: =AVERAGE(B89:D89) -> 1.2039333 | F89: =STDEV(B89:D89) -> 0.033026858 | G89: =5*(E89-0.0153)/0.0071 -> 837.06573
... A97: M1801-90 | B97: 0.0808 | C97: 0.0736 | D97: 0.0775 | E97: =AVERAGE(B97:D97) -> 0.0773 | F97: =STDEV(B97:D97) -> 0.0036041643 | G97: =5*(E97-0.0153)/0.0071 -> 43.661972
A99: 标准品浓度（pg/mL） | B99: 0 | C99: 12.5 | D99: 25 | E99: 50 | F99: 100 | G99: 200
A100: OD值 | B100: 0 | C100: 0.1034 | D100: 0.1751 | E100: 0.3794 | F100: 0.5648 | G100: 1.2905
A101: OD值 | B101: 0 | C101: 0.0418 | D101: 0.0886 | E101: 0.1883 | F101: 0.3441 | G101: 0.6695
A102: OD值 | B102: 0 | C102: 0.1045 | D102: 0.1801 | E102: 0.3968 | F102: 0.7385 | G102: 1.4248
A104: 0 | B104: 0
A105: 12.5 | B105: 0.1034
A106: 25 | B106: 0.1751
A107: 50 | B107: 0.3794
A108: 100 | B108: 0.5648
A109: 200 | B109: 1.2905
A114: 0 | B114: 0
A115: 12.5 | B115: 0.0418
A116: 25 | B116: 0.0886
A117: 50 | B117: 0.1883
A118: 100 | B118: 0.3441
A119: 200 | B119: 0.6695
... A131: 200 | B131: 1.4248

Sheet IL-18
A1: 实验时间 | B1: 43384
A2: 操作人 | B2: 马霄、刘佳、蔡辉霞
A3: 实验方法：ELISA | B3: ELISA法
A4: 实验结果
A5: 人白细胞介素18（IL-18）
A6: 公司编号 | B6: OD值
B7: 平行1 | C7: 平行2 | D7: 第三次 | E7: 平均值 | F7: 标准差 | G7: 浓度
A8: M1801-01 | B8: 0.451 | C8: 0.4113 | D8: 0.437 | E8: =AVERAGE(B8:D8) -> 0.4331 | F8: =_xlfn.STDEV.S(B8:D8) -> 0.020135292 | G8: =5*(E8-0.1029)/0.0131 -> 126.03053 | K8: y = 0.0131x + 0.1029
A9: M1801-02 | B9: 0.5573 | C9: 0.5197 | D9: 0.5564 | E9: =AVERAGE(B9:D9) -> 0.54446667 | F9: =_xlfn.STDEV.S(B9:D9) -> 0.021453283 | G9: =5*(E9-0.1029)/0.0131 -> 168.5369 | K9: R² = 0.9781
A10: M1801-03 | B10: 0.283 | C10: 0.2683 | D10: 0.2785 | E10: =AVERAGE(B10:D10) -> 0.2766 | F10: =_xlfn.STDEV.S(B10:D10) -> 0.007531932 | G10: =5*(E10-0.1029)/0.0131 -> 66.29771
A11: M1801-04 | B11: 0.2892 | C11: 0.2973 | D11: 0.3029 | E11: =AVERAGE(B11:D11) -> 0.29646667 | F11: =_xlfn.STDEV.S(B11:D11) -> 0.0068879121 | G11: =5*(E11-0.1029)/0.0131 -> 73.880407
A12: M1801-05 | B12: 0.3711 | C12: 0.4134 | D12: 0.3176 | E12: =AVERAGE(B12:D12) -> 0.36736667 | F12: =_xlfn.STDEV.S(B12:D12) -> 0.048008992 | G12: =5*(E12-0.1029)/0.0131 -> 100.94148
A13: M1801-06 | B13: 0.2647 | C13: 0.2931 | D13: 0.2618 | E13: =AVERAGE(B13:D13) -> 0.2732 | F13: =_xlfn.STDEV.S(B13:D13) -> 0.017294797 | G13: =5*(E13-0.1029)/0.0131 -> 65
A14: M1801-07 | B14: 0.3962 | C14: 0.4487 | D14: 0.3738 | E14: =AVERAGE(B14:D14) -> 0.40623333 | F14: =_xlfn.STDEV.S(B14:D14) -> 0.038444809 | G14: =5*(E14-0.1029)/0.0131 -> 115.77608
A15: M1801-08 | B15: 1.0222 | C15: 0.9565 | D15: 1.0471 | E15: =AVERAGE(B15:D15) -> 1.0086 | F15: =_xlfn.STDEV.S(B15:D15) -> 0.046806089 | G15: =5*(E15-0.1029)/0.0131 -> 345.68702
A16: M1801-09 | B16: 0.3166 | C16: 0.2866 | D16: 0.2958 | E16: =AVERAGE(B16:D16) -> 0.29966667 | F16: =_xlfn.STDEV.S(B16:D16) -> 0.015369233 | G16: =5*(E16-0.1029)/0.0131 -> 75.101781
A17: M1801-10 | B17: 0.6167 | C17: 0.6412 | D17: 0.6606 | E17: =AVERAGE(B17:D17) -> 0.6395 | F17: =_xlfn.STDEV.S(B17:D17) -> 0.021999318 | G17: =5*(E17-0.1029)/0.0131 -> 204.80916
A18: M1801-11 | C18: 3.0492 | D18: 3.1435 | E18: =AVERAGE(B18:D18) -> 3.09635 | F18: =STDEV(B18:D18) -> 0.066680169 | G18: =5*(E18-0.1029)/0.0131 -> 1142.5382
A19: M1801-12 | C19: 0.3178 | D19: 0.2503 | E19: =AVERAGE(B19:D19) -> 0.28405 | F19: =STDEV(B19:D19) -> 0.047729708 | G19: =5*(E19-0.1029)/0.0131 -> 69.141221
A20: M1801-13 | B20: 0.2808 | C20: 0.195 | D20: 0.2135 | E20: =AVERAGE(B20:D20) -> 0.22976667 | F20: =_xlfn.STDEV.S(B20:D20) -> 0.045153774 | G20: =5*(E20-0.1029)/0.0131 -> 48.422392
A21: M1801-14 | B21: 0.2946 | C21: 0.2566 | D21: 0.2535 | E21: =AVERAGE(B21:D21) -> 0.26823333 | F21: =_xlfn.STDEV.S(B21:D21) -> 0.02288675 | G21: =5*(E21-0.1029)/0.0131 -> 63.104326
A22: M1801-15 | B22: 0.4495 | C22: 0.4598 | D22: 0.4575 | E22: =AVERAGE(B22:D22) -> 0.4556 | F22: =_xlfn.STDEV.S(B22:D22) -> 0.0054064776 | G22: =5*(E22-0.1029)/0.0131 -> 134.61832
A23: M1801-16 | B23: 1.0122 | C23: 1.0414 | D23: 1.0605 | E23: =AVERAGE(B23:D23) -> 1.0380333 | F23: =_xlfn.STDEV.S(B23:D23) -> 0.024325364 | G23: =5*(E23-0.1029)/0.0131 -> 356.92112
A24: M1801-17 | B24: 0.334 | C24: 0.3477 | D24: 0.3102 | E24: =AVERAGE(B24:D24) -> 0.33063333 | F24: =_xlfn.STDEV.S(B24:D24) -> 0.018975335 | G24: =5*(E24-0.1029)/0.0131 -> 86.92112
A25: M1801-18 | B25: 0.3151 | C25: 0.2871 | D25: 0.32 | E25: =AVERAGE(B25:D25) -> 0.3074 | F25: =_xlfn.STDEV.S(B25:D25) -> 0.017750211 | G25: =5*(E25-0.1029)/0.0131 -> 78.053435
A26: M1801-19 | B26: 0.2173 | C26: 0.2358 | D26: 0.2415 | E26: =AVERAGE(B26:D26) -> 0.23153333 | F26: =_xlfn.STDEV.S(B26:D26) -> 0.012651614 | G26: =5*(E26-0.1029)/0.0131 -> 49.096692
A27: M1801-20 | B27: 0.2537 | C27: 0.2695 | D27: 0.2265 | E27: =AVERAGE(B27:D27) -> 0.2499 | F27: =_xlfn.STDEV.S(B27:D27) -> 0.021750402 | G27: =5*(E27-0.1029)/0.0131 -> 56.10687
A28: M1801-21 | B28: 0.2927 | C28: 0.2794 | D28: 0.2506 | E28: =AVERAGE(B28:D28) -> 0.27423333 | F28: =_xlfn.STDEV.S(B28:D28) -> 0.0215203 | G28: =5*(E28-0.1029)/0.0131 -> 65.394402
A29: M1801-22 | B29: 0.1902 | C29: 0.1518 | D29: 0.1499 | E29: =AVERAGE(B29:D29) -> 0.16396667 | F29: =_xlfn.STDEV.S(B29:D29) -> 0.022738587 | G29: =5*(E29-0.1029)/0.0131 -> 23.307888
A30: M1801-23 | B30: 0.3071 | C30: 0.3688 | D30: 0.3415 | E30: =AVERAGE(B30:D30) -> 0.33913333 | F30: =_xlfn.STDEV.S(B30:D30) -> 0.03091801 | G30: =5*(E30-0.1029)/0.0131 -> 90.165394
A31: M1801-24 | B31: 0.1279 | C31: 0.0983 | D31: 0.1054 | E31: =AVERAGE(B31:D31) -> 0.11053333 | F31: =_xlfn.STDEV.S(B31:D31) -> 0.015453263 | G31: =5*(E31-0.1029)/0.0131 -> 2.913486
... A37: M1801-30 | B37: 0.1837 | C37: 0.1684 | D37: 0.1843 | E37: =AVERAGE(B37:D37) -> 0.1788 | F37: =_xlfn.STDEV.S(B37:D37) -> 0.0090116591 | G37: =5*(E37-0.1029)/0.0131 -> 28.969466
A38: M1801-31 | B38: 0.4922 | C38: 0.5625 | D38: 0.5144 | E38: =AVERAGE(B38:D38) -> 0.52303333 | F38: =_xlfn.STDEV.S(B38:D38) -> 0.035936379 | G38: =5*(E38-0.1411)/0.0145 -> 131.70115 | K38: y = 0.0145x + 0.1411
A39: M1801-32 | B39: 0.0386 | C39: 0.0201 | D39: 0.0393 | E39: =AVERAGE(B39:D39) -> 0.032666667 | F39: =_xlfn.STDEV.S(B39:D39) -> 0.010888679 | G39: =5*(E39-0.1411)/0.0145 -> -37.390805 | K39: R² = 0.9688
A40: M1801-33 | B40: 0.3672 | C40: 0.3538 | D40: 0.2855 | E40: =AVERAGE(B40:D40) -> 0.3355 | F40: =_xlfn.STDEV.S(B40:D40) -> 0.043816549 | G40: =5*(E40-0.1411)/0.0145 -> 67.034483
A41: M1801-34 | B41: 0.2124 | C41: 0.253 | D41: 0.2243 | E41: =AVERAGE(B41:D41) -> 0.2299 | F41: =_xlfn.STDEV.S(B41:D41) -> 0.020871272 | G41: =5*(E41-0.1411)/0.0145 -> 30.62069
A42: M1801-35 | B42: 0.0987 | C42: 0.1225 | D42: 0.1121 | E42: =AVERAGE(B42:D42) -> 0.1111 | F42: =_xlfn.STDEV.S(B42:D42) -> 0.011931471 | G42: =5*(E42-0.1411)/0.0145 -> -10.344828
A43: M1801-36 | B43: 0.1813 | C43: 0.1912 | D43: 0.2249 | E43: =AVERAGE(B43:D43) -> 0.19913333 | F43: =_xlfn.STDEV.S(B43:D43) -> 0.022857019 | G43: =5*(E43-0.1411)/0.0145 -> 20.011494
A44: M1801-37 | B44: 0.3344 | C44: 0.3615 | D44: 0.2621 | E44: =AVERAGE(B44:D44) -> 0.31933333 | F44: =_xlfn.STDEV.S(B44:D44) -> 0.051384271 | G44: =5*(E44-0.1411)/0.0145 -> 61.45977
A45: M1801-38 | B45: 0.2143 | C45: 0.1905 | D45: 0.2455 | E45: =AVERAGE(B45:D45) -> 0.21676667 | F45: =_xlfn.STDEV.S(B45:D45) -> 0.027582845 | G45: =5*(E45-0.1411)/0.0145 -> 26.091954
A46: M1801-39 | B46: 0.3285 | C46: 0.3224 | D46: 0.2906 | E46: =AVERAGE(B46:D46) -> 0.31383333 | F46: =_xlfn.STDEV.S(B46:D46) -> 0.020350512 | G46: =5*(E46-0.1411)/0.0145 -> 59.563218
A47: M1801-40 | B47: 0.2119 | C47: 0.1746 | D47: 0.2022 | E47: =AVERAGE(B47:D47) -> 0.19623333 | F47: =_xlfn.STDEV.S(B47:D47) -> 0.019352605 | G47: =5*(E47-0.1411)/0.0145 -> 19.011494
A48: M1801-41 | B48: 2.6669 | C48: 2.5961 | D48: 2.3579 | E48: =AVERAGE(B48:D48) -> 2.5403 | F48: =_xlfn.STDEV.S(B48:D48) -> 0.16188107 | G48: =5*(E48-0.1411)/0.0145 -> 827.31034
A49: M1801-42 | B49: 0.1952 | C49: 0.1589 | D49: 0.1758 | E49: =AVERAGE(B49:D49) -> 0.17663333 | F49: =_xlfn.STDEV.S(B49:D49) -> 0.018164342 | G49: =5*(E49-0.1411)/0.0145 -> 12.252874
A50: M1801-43 | B50: 0.219 | C50: 0.1905 | D50: 0.1877 | E50: =AVERAGE(B50:D50) -> 0.19906667 | F50: =_xlfn.STDEV.S(B50:D50) -> 0.01731945 | G50: =5*(E50-0.1411)/0.0145 -> 19.988506
A51: M1801-44 | B51: 0.2476 | C51: 0.2358 | D51: 0.2827 | E51: =AVERAGE(B51:D51) -> 0.25536667 | F51: =_xlfn.STDEV.S(B51:D51) -> 0.02439556 | G51: =5*(E51-0.1411)/0.0145 -> 39.402299
... A67: M1801-60 | B67: 2.9239 | C67: 2.9287 | D67: 3.0337 | E67: =AVERAGE(B67:D67) -> 2.9621 | F67: =_xlfn.STDEV.S(B67:D67) -> 0.062053848 | G67: =5*(E67-0.1411)/0.0145 -> 972.75862
A68: M1801-61 | B68: 0.2131 | C68: 0.1955 | D68: 0.1889 | E68: =AVERAGE(B68:D68) -> 0.19916667 | F68: =_xlfn.STDEV.S(B68:D68) -> 0.01250973 | G68: =5*(E68-0.0153)/0.0089 -> 103.29588 | K68: y = 0.0089x + 0.0153
A69: M1801-62 | B69: 0.0967 | C69: 0.074 | D69: 0.0586 | E69: =AVERAGE(B69:D69) -> 0.076433333 | F69: =_xlfn.STDEV.S(B69:D69) -> 0.019166203 | G69: =5*(E69-0.0153)/0.0089 -> 34.344569 | K69: R² = 0.999
A70: M1801-63 | B70: 0.1166 | C70: 0.0879 | D70: 0.0897 | E70: =AVERAGE(B70:D70) -> 0.098066667 | F70: =_xlfn.STDEV.S(B70:D70) -> 0.016075551 | G70: =5*(E70-0.0153)/0.0089 -> 46.498127
A71: M1801-64 | B71: 0.0555 | C71: 0.0851 | D71: 0.0506 | E71: =AVERAGE(B71:D71) -> 0.063733333 | F71: =_xlfn.STDEV.S(B71:D71) -> 0.018665565 | G71: =5*(E71-0.0153)/0.0089 -> 27.209738
A72: M1801-65 | B72: 0.0691 | C72: 0.0402 | D72: 0.0378 | E72: =AVERAGE(B72:D72) -> 0.049033333 | F72: =_xlfn.STDEV.S(B72:D72) -> 0.017419625 | G72: =5*(E72-0.0153)/0.0089 -> 18.951311
A73: M1801-66 | B73: 0.0449 | C73: 0.0393 | D73: 0.0551 | E73: =AVERAGE(B73:D73) -> 0.046433333 | F73: =_xlfn.STDEV.S(B73:D73) -> 0.008010826 | G73: =5*(E73-0.0153)/0.0089 -> 17.490637
A74: M1801-67 | B74: 0.0857 | C74: 0.1417 | D74: 0.0872 | E74: =AVERAGE(B74:D74) -> 0.10486667 | F74: =_xlfn.STDEV.S(B74:D74) -> 0.031907418 | G74: =5*(E74-0.0153)/0.0089 -> 50.318352
A75: M1801-68 | B75: 0.1016 | C75: 0.0723 | D75: 0.0945 | E75: =AVERAGE(B75:D75) -> 0.089466667 | F75: =_xlfn.STDEV.S(B75:D75) -> 0.015284742 | G75: =5*(E75-0.0153)/0.0089 -> 41.666667
A76: M1801-69 | B76: 2.031 | C76: 1.9067 | D76: 2.0297 | E76: =AVERAGE(B76:D76) -> 1.9891333 | F76: =_xlfn.STDEV.S(B76:D76) -> 0.07139232 | G76: =5*(E76-0.0153)/0.0089 -> 1108.8951
A77: M1801-70 | B77: 2.2973 | C77: 2.3637 | E77: =AVERAGE(B77:D77) -> 2.3305 | F77: =STDEV(B77:D77) -> 0.04695189 | G77: =5*(E77-0.0153)/0.0089 -> 1300.6742
A78: M1801-71 | B78: 2.343 | C78: 2.3917 | D78: 2.189 | E78: =AVERAGE(B78:D78) -> 2.3079 | F78: =_xlfn.STDEV.S(B78:D78) -> 0.10581035 | G78: =5*(E78-0.0153)/0.0089 -> 1287.9775
A79: M1801-72 | B79: 0.0577 | C79: 0.0553 | D79: 0.0362 | E79: =AVERAGE(B79:D79) -> 0.049733333 | F79: =_xlfn.STDEV.S(B79:D79) -> 0.011781483 | G79: =5*(E79-0.0153)/0.0089 -> 19.344569
A80: M1801-73 | B80: 0 | C80: 0 | D80: 0 | E80: =AVERAGE(B80:D80) -> 0 | F80: =_xlfn.STDEV.S(B80:D80) -> 0 | G80: =5*(E80-0.0153)/0.0089 -> -8.5955056
A81: M1801-74 | B81: 0 | C81: 0 | D81: 0 | E81: =AVERAGE(B81:D81) -> 0 | F81: =_xlfn.STDEV.S(B81:D81) -> 0 | G81: =5*(E81-0.0153)/0.0089 -> -8.5955056
A82: M1801-75 | B82: 0.1647 | C82: 0.1892 | D82: 0.1577 | E82: =AVERAGE(B82:D82) -> 0.17053333 | F82: =_xlfn.STDEV.S(B82:D82) -> 0.016540355 | G82: =5*(E82-0.0153)/0.0089 -> 87.209738
A83: M1801-76 | B83: 0.1705 | C83: 0.1192 | D83: 0.1567 | E83: =AVERAGE(B83:D83) -> 0.1488 | F83: =_xlfn.STDEV.S(B83:D83) -> 0.026546751 | G83: =5*(E83-0.0153)/0.0089 -> 75
A84: M1801-77 | B84: 0.054 | C84: 0.0751 | D84: 0.0259 | E84: =AVERAGE(B84:D84) -> 0.051666667 | F84: =_xlfn.STDEV.S(B84:D84) -> 0.024682855 | G84: =5*(E84-0.0153)/0.0089 -> 20.430712
A85: M1801-78 | B85: 0.0792 | C85: 0.0344 | D85: 0.0396 | E85: =AVERAGE(B85:D85) -> 0.051066667 | F85: =_xlfn.STDEV.S(B85:D85) -> 0.024502517 | G85: =5*(E85-0.0153)/0.0089 -> 20.093633
A86: M1801-79 | B86: 0.0468 | C86: 0.071 | D86: 0.0706 | E86: =AVERAGE(B86:D86) -> 0.0628 | F86: =_xlfn.STDEV.S(B86:D86) -> 0.01385785 | G86: =5*(E86-0.0153)/0.0089 -> 26.685393
A87: M1801-80 | B87: 0.0526 | D87: 0.0288 | E87: =AVERAGE(B87:D87) -> 0.0407 | F87: =STDEV(B87:D87) -> 0.016829141 | G87: =5*(E87-0.0153)/0.0089 -> 14.269663
A88: M1801-81 | B88: 0.0346 | C88: 0.0296 | D88: 0.0271 | E88: =AVERAGE(B88:D88) -> 0.030433333 | F88: =_xlfn.STDEV.S(B88:D88) -> 0.0038188131 | G88: =5*(E88-0.0153)/0.0089 -> 8.5018727
A89: M1801-82 | B89: 1.2234 | C89: 1.1658 | D89: 1.2226 | E89: =AVERAGE(B89:D89) -> 1.2039333 | F89: =_xlfn.STDEV.S(B89:D89) -> 0.033026858 | G89: =5*(E89-0.0153)/0.0089 -> 667.77154
A90: M1801-83 | B90: 0.0719 | C90: 0.13 | D90: 0.097 | E90: =AVERAGE(B90:D90) -> 0.099633333 | F90: =_xlfn.STDEV.S(B90:D90) -> 0.029139378 | G90: =5*(E90-0.0153)/0.0089 -> 47.378277
A91: M1801-84 | B91: 0.09 | C91: 0.0476 | D91: 0.1099 | E91: =AVERAGE(B91:D91) -> 0.0825 | F91: =_xlfn.STDEV.S(B91:D91) -> 0.031819962 | G91: =5*(E91-0.0153)/0.0089 -> 37.752809
A92: M1801-85 | B92: 2.2667 | C92: 2.2139 | D92: 2.1382 | E92: =AVERAGE(B92:D92) -> 2.2062667 | F92: =_xlfn.STDEV.S(B92:D92) -> 0.064589189 | G92: =5*(E92-0.0153)/0.0089 -> 1230.8801
A93: M1801-86 | B93: 0.3304 | C93: 0.2757 | D93: 0.2874 | E93: =AVERAGE(B93:D93) -> 0.29783333 | F93: =_xlfn.STDEV.S(B93:D93) -> 0.028803877 | G93: =5*(E93-0.0153)/0.0089 -> 158.72659
A94: M1801-87 | B94: 0.0213 | C94: 0.0328 | D94: 0.0259 | E94: =AVERAGE(B94:D94) -> 0.026666667 | F94: =_xlfn.STDEV.S(B94:D94) -> 0.0057882064 | G94: =5*(E94-0.0153)/0.0089 -> 6.3857678
A95: M1801-88 | B95: 0.1427 | C95: 0.1474 | D95: 0.1294 | E95: =AVERAGE(B95:D95) -> 0.13983333 | F95: =_xlfn.STDEV.S(B95:D95) -> 0.0093361305 | G95: =5*(E95-0.0153)/0.0089 -> 69.962547
A96: M1801-89 | B96: 0.0583 | C96: 0.074 | D96: 0.063 | E96: =AVERAGE(B96:D96) -> 0.0651 | F96: =_xlfn.STDEV.S(B96:D96) -> 0.0080579154 | G96: =5*(E96-0.0153)/0.0089 -> 27.977528
A97: M1801-90 | B97: 0.0808 | C97: 0.0736 | D97: 0.0775 | E97: =AVERAGE(B97:D97) -> 0.0773 | F97: =_xlfn.STDEV.S(B97:D97) -> 0.0036041643 | G97: =5*(E97-0.0153)/0.0089 -> 34.831461
A99: 标准品浓度（pg/mL） | B99: 0 | C99: 10 | D99: 20 | E99: 40 | F99: 80 | G99: 160
A100: OD值 | B100: 0 | C100: 0.1483 | D100: 0.3627 | E100: 0.7943 | F100: 1.2725 | G100: 2.1048
A101: OD值 | B101: 0 | C101: 0.2346 | D101: 0.4446 | E101: 0.774 | F101: 1.5715 | G101: 2.3086
A102: OD值 | B102: 0 | C102: 0.1045 | D102: 0.1801 | E102: 0.3968 | F102: 0.7385 | G102: 1.4248
A104: 0 | B104: 0
A105: 10 | B105: 0.1483
A106: 20 | B106: 0.3627
A107: 40 | B107: 0.7943
A108: 80 | B108: 1.2725
A109: 160 | B109: 2.1048
A113: 0 | B113: 0
A114: 10 | B114: 0.2346
A115: 20 | B115: 0.4446
A116: 40 | B116: 0.774
A117: 80 | B117: 1.5715
A118: 160 | B118: 2.3086
... A130: 160 | B130: 1.4248

Sheet IP-10
A1: 实验时间 | B1: 43385
A2: 操作人 | B2: 马霄、刘佳、蔡辉霞
A3: 实验方法：ELISA | B3: ELISA法
A4: 实验结果
A5: 人干扰素诱导蛋白10（IP-10）
A6: 公司编号 | B6: OD值
B7: 平行1 | C7: 平行2 | D7: 平行3 | E7: 平均值 | F7: 标准差 | G7: 浓度
A8: M1801-01 | B8: 0.1987 | C8: 0.2008 | D8: 0.1476 | E8: =AVERAGE(B8:D8) -> 0.18236667 | F8: =STDEV(B8:D8) -> 0.03012712 | G8: =5*(E8-0.0139)/0.012 -> 70.194444 | K8: y = 0.012x + 0.0139
A9: M1801-02 | B9: 0.3375 | C9: 0.2503 | D9: 0.248 | E9: =AVERAGE(B9:D9) -> 0.2786 | F9: =STDEV(B9:D9) -> 0.051021858 | G9: =5*(E9-0.0139)/0.012 -> 110.29167 | K9: R² = 0.9881
A10: M1801-03 | B10: 0.0179 | C10: 0.0794 | D10: 0.0342 | E10: =AVERAGE(B10:D10) -> 0.043833333 | F10: =STDEV(B10:D10) -> 0.031861628 | G10: =5*(E10-0.0139)/0.012 -> 12.472222
A11: M1801-04 | B11: 0.0767 | C11: 0.0944 | D11: 0.082 | E11: =AVERAGE(B11:D11) -> 0.084366667 | F11: =STDEV(B11:D11) -> 0.0090842354 | G11: =5*(E11-0.0139)/0.012 -> 29.361111
A12: M1801-05 | B12: 0.1747 | C12: 0.18 | D12: 0.21 | E12: =AVERAGE(B12:D12) -> 0.18823333 | F12: =STDEV(B12:D12) -> 0.019035843 | G12: =5*(E12-0.0139)/0.012 -> 72.638889
A13: M1801-06 | B13: 0.1054 | C13: 0 | D13: 0.0703 | E13: =AVERAGE(B13:D13) -> 0.058566667 | F13: =STDEV(B13:D13) -> 0.053670693 | G13: =5*(E13-0.0139)/0.012 -> 18.611111
A14: M1801-07 | B14: 0.1841 | C14: 0.1899 | D14: 0.1233 | E14: =AVERAGE(B14:D14) -> 0.16576667 | F14: =STDEV(B14:D14) -> 0.036891372 | G14: =5*(E14-0.0139)/0.012 -> 63.277778
A15: M1801-08 | B15: 0.6962 | C15: 0.5428 | D15: 0.6741 | E15: =AVERAGE(B15:D15) -> 0.6377 | F15: =STDEV(B15:D15) -> 0.082925328 | G15: =5*(E15-0.0139)/0.012 -> 259.91667
A16: M1801-09 | B16: 0.1007 | C16: 0.1537 | D16: 0.0948 | E16: =AVERAGE(B16:D16) -> 0.1164 | F16: =STDEV(B16:D16) -> 0.03243717 | G16: =5*(E16-0.0139)/0.012 -> 42.708333
A17: M1801-10 | B17: 0.3189 | C17: 0.2967 | D17: 0.302 | E17: =AVERAGE(B17:D17) -> 0.30586667 | F17: =STDEV(B17:D17) -> 0.011594108 | G17: =5*(E17-0.0139)/0.012 -> 121.65278
A18: M1801-11 | B18: 2.9034 | D18: 2.8913 | E18: =AVERAGE(B18:D18) -> 2.89735 | F18: =STDEV(B18:D18) -> 0.0085559921 | G18: =5*(E18-0.0139)/0.012 -> 1201.4375
A19: M1801-12 | B19: 0.0567 | C19: 0.0889 | D19: 0.1399 | E19: =AVERAGE(B19:D19) -> 0.095166667 | F19: =STDEV(B19:D19) -> 0.041952513 | G19: =5*(E19-0.0139)/0.012 -> 33.861111
A20: M1801-13 | B20: 0.0319 | C20: 0.0862 | D20: 0.0696 | E20: =AVERAGE(B20:D20) -> 0.062566667 | F20: =STDEV(B20:D20) -> 0.027824869 | G20: =5*(E20-0.0139)/0.012 -> 20.277778
A21: M1801-14 | B21: 0.059 | C21: 0.1023 | D21: 0.0957 | E21: =AVERAGE(B21:D21) -> 0.085666667 | F21: =STDEV(B21:D21) -> 0.023328595 | G21: =5*(E21-0.0139)/0.012 -> 29.902778
A22: M1801-15 | B22: 0.166 | C22: 0.2322 | D22: 0.1927 | E22: =AVERAGE(B22:D22) -> 0.19696667 | F22: =STDEV(B22:D22) -> 0.033305605 | G22: =5*(E22-0.0139)/0.012 -> 76.277778
A23: M1801-16 | C23: 0.3879 | D23: 0.4493 | E23: =AVERAGE(B23:D23) -> 0.4186 | F23: =STDEV(B23:D23) -> 0.043416356 | G23: =5*(E23-0.0139)/0.012 -> 168.625
A24: M1801-17 | B24: 0.0492 | C24: 0.1393 | D24: 0.113 | E24: =AVERAGE(B24:D24) -> 0.1005 | F24: =STDEV(B24:D24) -> 0.046332386 | G24: =5*(E24-0.0139)/0.012 -> 36.083333
A25: M1801-18 | B25: 0.1179 | C25: 0.1037 | D25: 0.1128 | E25: =AVERAGE(B25:D25) -> 0.11146667 | F25: =STDEV(B25:D25) -> 0.0071932839 | G25: =5*(E25-0.0139)/0.012 -> 40.652778
A26: M1801-19 | B26: 0.043 | C26: 0.0993 | D26: 0.0767 | E26: =AVERAGE(B26:D26) -> 0.073 | F26: =STDEV(B26:D26) -> 0.028331784 | G26: =5*(E26-0.0139)/0.012 -> 24.625
A27: M1801-20 | B27: 0.0306 | C27: 0.0514 | D27: 0.0864 | E27: =AVERAGE(B27:D27) -> 0.056133333 | F27: =STDEV(B27:D27) -> 0.028199527 | G27: =5*(E27-0.0139)/0.012 -> 17.597222
A28: M1801-21 | B28: 0.0935 | C28: 0.0879 | D28: 0.1023 | E28: =AVERAGE(B28:D28) -> 0.094566667 | F28: =STDEV(B28:D28) -> 0.0072590174 | G28: =5*(E28-0.0139)/0.012 -> 33.611111
A29: M1801-22 | B29: 0.0517 | C29: 0.0547 | D29: 0.035 | E29: =AVERAGE(B29:D29) -> 0.047133333 | F29: =STDEV(B29:D29) -> 0.010614299 | G29: =5*(E29-0.0139)/0.012 -> 13.847222
A30: M1801-23 | B30: 0.1613 | C30: 0.2122 | D30: 0.1541 | E30: =AVERAGE(B30:D30) -> 0.17586667 | F30: =STDEV(B30:D30) -> 0.031670859 | G30: =5*(E30-0.0139)/0.012 -> 67.486111
A31: M1801-24 | B31: 0.0722 | C31: 0.0287 | D31: 0.0642 | E31: =AVERAGE(B31:D31) -> 0.055033333 | F31: =STDEV(B31:D31) -> 0.023153473 | G31: =5*(E31-0.0139)/0.012 -> 17.138889
A32: M1801-25 | B32: 0.0525 | C32: 0.0585 | D32: 0.0702 | E32: =AVERAGE(B32:D32) -> 0.0604 | F32: =STDEV(B32:D32) -> 0.0090016665 | G32: =5*(E32-0.0139)/0.012 -> 19.375
A33: M1801-26 | B33: 0.1992 | C33: 0.1262 | D33: 0.1446 | E33: =AVERAGE(B33:D33) -> 0.15666667 | F33: =STDEV(B33:D33) -> 0.037966476 | G33: =5*(E33-0.0139)/0.012 -> 59.486111
A34: M1801-27 | B34: 0.1349 | C34: 0.1071 | D34: 0.108 | E34: =AVERAGE(B34:D34) -> 0.11666667 | F34: =STDEV(B34:D34) -> 0.015796941 | G34: =5*(E34-0.0139)/0.012 -> 42.819444
A35: M1801-28 | B35: 0.1042 | C35: 0.0801 | D35: 0.0366 | E35: =AVERAGE(B35:D35) -> 0.073633333 | F35: =STDEV(B35:D35) -> 0.034260813 | G35: =5*(E35-0.0139)/0.012 -> 24.888889
A36: M1801-29 | B36: 0.1401 | C36: 0.1097 | D36: 0.152 | E36: =AVERAGE(B36:D36) -> 0.13393333 | F36: =_xlfn.STDEV.S(B36:D36) -> 0.021813834 | G36: =5*(E36-0.0139)/0.012 -> 50.013889
A37: M1801-30 | B37: 0.0577 | C37: 0.0794 | D37: 0.0497 | E37: =AVERAGE(B37:D37) -> 0.062266667 | F37: =_xlfn.STDEV.S(B37:D37) -> 0.015367607 | G37: =5*(E37-0.0139)/0.012 -> 20.152778
A38: M1801-31 | B38: 0.4452 | C38: 0.4074 | D38: 0.3971 | E38: =AVERAGE(B38:D38) -> 0.41656667 | F38: =_xlfn.STDEV.S(B38:D38) -> 0.025326337 | G38: =5*(E38-0.0513)/0.0156 -> 117.07265 | K38: y = 0.0156x + 0.0513
A39: M1801-32 | B39: 0.1065 | C39: 0.1128 | D39: 0.1117 | E39: =AVERAGE(B39:D39) -> 0.11033333 | F39: =_xlfn.STDEV.S(B39:D39) -> 0.0033650161 | G39: =5*(E39-0.0513)/0.0156 -> 18.92094 | K39: R² = 0.9908
A40: M1801-33 | B40: 0.1583 | C40: 0.1885 | D40: 0.2466 | E40: =AVERAGE(B40:D40) -> 0.1978 | F40: =_xlfn.STDEV.S(B40:D40) -> 0.044878614 | G40: =5*(E40-0.0513)/0.0156 -> 46.955128
A41: M1801-34 | B41: 0.205 | C41: 0.1558 | D41: 0.1837 | E41: =AVERAGE(B41:D41) -> 0.1815 | F41: =_xlfn.STDEV.S(B41:D41) -> 0.02467367 | G41: =5*(E41-0.0513)/0.0156 -> 41.730769
A42: M1801-35 | B42: 0.1086 | C42: 0.1214 | D42: 0.0944 | E42: =AVERAGE(B42:D42) -> 0.10813333 | F42: =_xlfn.STDEV.S(B42:D42) -> 0.013506048 | G42: =5*(E42-0.0513)/0.0156 -> 18.215812
A43: M1801-36 | B43: 0.1474 | C43: 0.1411 | D43: 0.1353 | E43: =AVERAGE(B43:D43) -> 0.14126667 | F43: =_xlfn.STDEV.S(B43:D43) -> 0.0060517215 | G43: =5*(E43-0.0513)/0.0156 -> 28.83547
A44: M1801-37 | B44: 0.206 | C44: 0.2737 | D44: 0.262 | E44: =AVERAGE(B44:D44) -> 0.24723333 | F44: =_xlfn.STDEV.S(B44:D44) -> 0.036185126 | G44: =5*(E44-0.0513)/0.0156 -> 62.799145
A45: M1801-38 | B45: 0.2754 | C45: 0.2359 | D45: 0.2999 | E45: =AVERAGE(B45:D45) -> 0.2704 | F45: =_xlfn.STDEV.S(B45:D45) -> 0.03229164 | G45: =5*(E45-0.0513)/0.0156 -> 70.224359
A46: M1801-39 | B46: 0.2916 | C46: 0.3473 | D46: 0.2602 | E46: =AVERAGE(B46:D46) -> 0.2997 | F46: =_xlfn.STDEV.S(B46:D46) -> 0.044111336 | G46: =5*(E46-0.0513)/0.0156 -> 79.615385
A47: M1801-40 | B47: 0.2429 | C47: 0.1567 | D47: 0.2255 | E47: =AVERAGE(B47:D47) -> 0.20836667 | F47: =_xlfn.STDEV.S(B47:D47) -> 0.045582599 | G47: =5*(E47-0.0513)/0.0156 -> 50.34188
A48: M1801-41 | B48: 1.9064 | C48: 2.0151 | E48: =AVERAGE(B48:D48) -> 1.96075 | F48: =STDEV(B48:D48) -> 0.076862507 | G48: =5*(E48-0.0513)/0.0156 -> 612.00321
A49: M1801-42 | B49: 0.1638 | C49: 0.1134 | D49: 0.1567 | E49: =AVERAGE(B49:D49) -> 0.14463333 | F49: =_xlfn.STDEV.S(B49:D49) -> 0.027280824 | G49: =5*(E49-0.0513)/0.0156 -> 29.91453
A50: M1801-43 | B50: 0.0968 | C50: 0.1048 | D50: 0.1533 | E50: =AVERAGE(B50:D50) -> 0.1183 | F50: =_xlfn.STDEV.S(B50:D50) -> 0.030573681 | G50: =5*(E50-0.0513)/0.0156 -> 21.474359
A51: M1801-44 | B51: 0.229 | C51: 0.1692 | D51: 0.2036 | E51: =AVERAGE(B51:D51) -> 0.2006 | F51: =_xlfn.STDEV.S(B51:D51) -> 0.030012664 | G51: =5*(E51-0.0513)/0.0156 -> 47.852564
A52: M1801-45 | B52: 0.1866 | C52: 0.1989 | D52: 0.208 | E52: =AVERAGE(B52:D52) -> 0.19783333 | F52: =_xlfn.STDEV.S(B52:D52) -> 0.010739801 | G52: =5*(E52-0.0513)/0.0156 -> 46.965812
A53: M1801-46 | B53: 0.2687 | C53: 0.1996 | D53: 0.3093 | E53: =AVERAGE(B53:D53) -> 0.2592 | F53: =_xlfn.STDEV.S(B53:D53) -> 0.055463592 | G53: =5*(E53-0.0513)/0.0156 -> 66.634615
A54: M1801-47 | C54: 2.686 | D54: 2.8648 | E54: =AVERAGE(B54:D54) -> 2.7754 | F54: =STDEV(B54:D54) -> 0.12643069 | G54: =5*(E54-0.0513)/0.0156 -> 873.10897
A55: M1801-48 | B55: 0.0141 | C55: 0.0121 | D55: 0.012 | E55: =AVERAGE(B55:D55) -> 0.012733333 | F55: =_xlfn.STDEV.S(B55:D55) -> 0.0011846237 | G55: =5*(E55-0.0513)/0.0156 -> -12.361111
A56: M1801-49 | B56: 0.1612 | C56: 0.1708 | D56: 0.1434 | E56: =AVERAGE(B56:D56) -> 0.15846667 | F56: =_xlfn.STDEV.S(B56:D56) -> 0.013902997 | G56: =5*(E56-0.0513)/0.0156 -> 34.348291
A57: M1801-50 | B57: 0.0105 | C57: 0.0113 | D57: 0.0158 | E57: =AVERAGE(B57:D57) -> 0.012533333 | F57: =_xlfn.STDEV.S(B57:D57) -> 0.0028571548 | G57: =5*(E57-0.0513)/0.0156 -> -12.425214
A58: M1801-51 | B58: 0.0543 | C58: 0.1344 | D58: 0.0699 | E58: =AVERAGE(B58:D58) -> 0.0862 | F58: =_xlfn.STDEV.S(B58:D58) -> 0.042464927 | G58: =5*(E58-0.0513)/0.0156 -> 11.185897
A59: M1801-52 | B59: 0.1205 | C59: 0.1078 | D59: 0.1255 | E59: =AVERAGE(B59:D59) -> 0.11793333 | F59: =_xlfn.STDEV.S(B59:D59) -> 0.0091248744 | G59: =5*(E59-0.0513)/0.0156 -> 21.356838
A60: M1801-53 | B60: 0.1964 | C60: 0.2617 | D60: 0.2602 | E60: =AVERAGE(B60:D60) -> 0.23943333 | F60: =_xlfn.STDEV.S(B60:D60) -> 0.037275506 | G60: =5*(E60-0.0513)/0.0156 -> 60.299145
A61: M1801-54 | B61: 0.2275 | C61: 0.2052 | D61: 0.2325 | E61: =AVERAGE(B61:D61) -> 0.22173333 | F61: =_xlfn.STDEV.S(B61:D61) -> 0.014534901 | G61: =5*(E61-0.0513)/0.0156 -> 54.626068
A62: M1801-55 | B62: 0.0822 | C62: 0.1105 | D62: 0.0755 | E62: =AVERAGE(B62:D62) -> 0.0894 | F62: =_xlfn.STDEV.S(B62:D62) -> 0.018577675 | G62: =5*(E62-0.0513)/0.0156 -> 12.211538
A63: M1801-56 | B63: 0.1739 | C63: 0.1238 | D63: 0.1676 | E63: =AVERAGE(B63:D63) -> 0.1551 | F63: =_xlfn.STDEV.S(B63:D63) -> 0.027289009 | G63: =5*(E63-0.0513)/0.0156 -> 33.269231
A64: M1801-57 | B64: 0.1187 | C64: 0.0865 | D64: 0.0691 | E64: =AVERAGE(B64:D64) -> 0.091433333 | F64: =_xlfn.STDEV.S(B64:D64) -> 0.02516532 | G64: =5*(E64-0.0513)/0.0156 -> 12.863248
A65: M1801-58 | B65: 0.1982 | C65: 0.1695 | D65: 0.1492 | E65: =AVERAGE(B65:D65) -> 0.1723 | F65: =_xlfn.STDEV.S(B65:D65) -> 0.024619708 | G65: =5*(E65-0.0513)/0.0156 -> 38.782051
A66: M1801-59 | B66: 0.0078 | C66: 0.0121 | D66: 0.0123 | E66: =AVERAGE(B66:D66) -> 0.010733333 | F66: =_xlfn.STDEV.S(B66:D66) -> 0.0025423087 | G66: =5*(E66-0.0513)/0.0156 -> -13.002137
A67: M1801-60 | B67: 2.4372 | C67: 2.7272 | D67: 2.7146 | E67: =AVERAGE(B67:D67) -> 2.6263333 | F67: =_xlfn.STDEV.S(B67:D67) -> 0.16391538 | G67: =5*(E67-0.0513)/0.0156 -> 825.3312
A68: M1801-61 | B68: 0.2526 | C68: 0.215 | D68: 0.2201 | E68: =AVERAGE(B68:D68) -> 0.22923333 | F68: =_xlfn.STDEV.S(B68:D68) -> 0.02039616 | G68: =5*(E68-0.0197)/0.0145 -> 72.252874 | K68: y = 0.0145x + 0.0197
A69: M1801-62 | B69: 0.0795 | C69: 0.0771 | D69: 0.1132 | E69: =AVERAGE(B69:D69) -> 0.089933333 | F69: =_xlfn.STDEV.S(B69:D69) -> 0.020185226 | G69: =5*(E69-0.0197)/0.0145 -> 24.218391 | K69: R² = 0.9887
A70: M1801-63 | B70: 0.1232 | C70: 0.1411 | D70: 0.1298 | E70: =AVERAGE(B70:D70) -> 0.13136667 | F70: =_xlfn.STDEV.S(B70:D70) -> 0.0090522557 | G70: =5*(E70-0.0197)/0.0145 -> 38.505747
A71: M1801-64 | B71: 0.0736 | C71: 0.0361 | D71: 0.0436 | E71: =AVERAGE(B71:D71) -> 0.0511 | F71: =_xlfn.STDEV.S(B71:D71) -> 0.019843135 | G71: =5*(E71-0.0197)/0.0145 -> 10.827586
A72: M1801-65 | B72: 0.07 | C72: 0.0791 | D72: 0.0607 | E72: =AVERAGE(B72:D72) -> 0.069933333 | F72: =_xlfn.STDEV.S(B72:D72) -> 0.0092001812 | G72: =5*(E72-0.0197)/0.0145 -> 17.321839
A73: M1801-66 | B73: 0.0761 | C73: 0.0775 | D73: 0.0747 | E73: =AVERAGE(B73:D73) -> 0.0761 | F73: =_xlfn.STDEV.S(B73:D73) -> 0.0014 | G73: =5*(E73-0.0197)/0.0145 -> 19.448276
A74: M1801-67 | B74: 0.1009 | C74: 0.1342 | D74: 0.1023 | E74: =AVERAGE(B74:D74) -> 0.11246667 | F74: =_xlfn.STDEV.S(B74:D74) -> 0.018834631 | G74: =5*(E74-0.0197)/0.0145 -> 31.988506
A75: M1801-68 | B75: 2.5715 | C75: 2.4503 | E75: =AVERAGE(B75:D75) -> 2.5109 | F75: =STDEV(B75:D75) -> 0.085701342 | G75: =5*(E75-0.0197)/0.0145 -> 859.03448
A76: M1801-69 | B76: 2.6359 | C76: 2.717 | D76: 2.6596 | E76: =AVERAGE(B76:D76) -> 2.6708333 | F76: =_xlfn.STDEV.S(B76:D76) -> 0.041700639 | G76: =5*(E76-0.0197)/0.0145 -> 914.18391
A77: M1801-70 | B77: 2.6021 | C77: 2.4421 | D77: 2.4338 | E77: =AVERAGE(B77:D77) -> 2.4926667 | F77: =_xlfn.STDEV.S(B77:D77) -> 0.094862866 | G77: =5*(E77-0.0197)/0.0145 -> 852.74713
A78: M1801-71 | B78: 0.0624 | C78: 0.1052 | D78: 0.0532 | E78: =AVERAGE(B78:D78) -> 0.0736 | F78: =_xlfn.STDEV.S(B78:D78) -> 0.027750315 | G78: =5*(E78-0.0197)/0.0145 -> 18.586207
A79: M1801-72 | B79: 0.1253 | C79: 0.0916 | D79: 0.1136 | E79: =AVERAGE(B79:D79) -> 0.11016667 | F79: =_xlfn.STDEV.S(B79:D79) -> 0.017110328 | G79: =5*(E79-0.0197)/0.0145 -> 31.195402
A80: M1801-73 | B80: 0 | C80: 0 | D80: 0 | E80: =AVERAGE(B80:D80) -> 0 | F80: =_xlfn.STDEV.S(B80:D80) -> 0 | G80: =5*(E80-0.0197)/0.0145 -> -6.7931034
A81: M1801-74 | B81: 0.0204 | C81: 0.0117 | D81: 0.025 | E81: =AVERAGE(B81:D81) -> 0.019033333 | F81: =_xlfn.STDEV.S(B81:D81) -> 0.0067545047 | G81: =5*(E81-0.0197)/0.0145 -> -0.22988506
A82: M1801-75 | B82: 0.1689 | C82: 0.2361 | D82: 0.1376 | E82: =AVERAGE(B82:D82) -> 0.18086667 | F82: =_xlfn.STDEV.S(B82:D82) -> 0.050328554 | G82: =5*(E82-0.0197)/0.0145 -> 55.574713
A83: M1801-76 | B83: 0.1833 | C83: 0.1647 | D83: 0.1992 | E83: =AVERAGE(B83:D83) -> 0.1824 | F83: =_xlfn.STDEV.S(B83:D83) -> 0.0172676 | G83: =5*(E83-0.0197)/0.0145 -> 56.103448
A84: M1801-77 | B84: 0.0602 | C84: 0.0985 | D84: 0.0688 | E84: =AVERAGE(B84:D84) -> 0.075833333 | F84: =_xlfn.STDEV.S(B84:D84) -> 0.020095356 | G84: =5*(E84-0.0197)/0.0145 -> 19.356322
A85: M1801-78 | B85: 0.0758 | C85: 0.0243 | D85: 0.0696 | E85: =AVERAGE(B85:D85) -> 0.056566667 | F85: =_xlfn.STDEV.S(B85:D85) -> 0.02811518 | G85: =5*(E85-0.0197)/0.0145 -> 12.712644
A86: M1801-79 | B86: 0.0847 | C86: 0.0835 | D86: 0.0865 | E86: =AVERAGE(B86:D86) -> 0.0849 | F86: =_xlfn.STDEV.S(B86:D86) -> 0.0015099669 | G86: =5*(E86-0.0197)/0.0145 -> 22.482759
A87: M1801-80 | B87: 0.0247 | C87: 0.0265 | D87: 0.0498 | E87: =AVERAGE(B87:D87) -> 0.033666667 | F87: =_xlfn.STDEV.S(B87:D87) -> 0.014000833 | G87: =5*(E87-0.0197)/0.0145 -> 4.816092
A88: M1801-81 | B88: 0.0759 | C88: 0.0661 | D88: 0.0635 | E88: =AVERAGE(B88:D88) -> 0.0685 | F88: =_xlfn.STDEV.S(B88:D88) -> 0.0065391131 | G88: =5*(E88-0.0197)/0.0145 -> 16.827586
A89: M1801-82 | C89: 1.2442 | D89: 1.0244 | E89: =AVERAGE(B89:D89) -> 1.1343 | F89: =STDEV(B89:D89) -> 0.15542207 | G89: =5*(E89-0.0197)/0.0145 -> 384.34483
A90: M1801-83 | B90: 0.0903 | C90: 0.1338 | D90: 0.1076 | E90: =AVERAGE(B90:D90) -> 0.11056667 | F90: =_xlfn.STDEV.S(B90:D90) -> 0.021901218 | G90: =5*(E90-0.0197)/0.0145 -> 31.333333
A91: M1801-84 | B91: 0.0838 | C91: 0.0542 | D91: 0.0744 | E91: =AVERAGE(B91:D91) -> 0.0708 | F91: =_xlfn.STDEV.S(B91:D91) -> 0.015124814 | G91: =5*(E91-0.0197)/0.0145 -> 17.62069
A92: M1801-85 | B92: 2.8716 | C92: 2.6578 | E92: =AVERAGE(B92:D92) -> 2.7647 | F92: =STDEV(B92:D92) -> 0.15117943 | G92: =5*(E92-0.0197)/0.0145 -> 946.55172
A93: M1801-86 | B93: 0.4994 | C93: 0.3544 | D93: 0.4674 | E93: =AVERAGE(B93:D93) -> 0.4404 | F93: =_xlfn.STDEV.S(B93:D93) -> 0.076177424 | G93: =5*(E93-0.0197)/0.0145 -> 145.06897
A94: M1801-87 | B94: 0 | C94: 0 | D94: 0 | E94: =AVERAGE(B94:D94) -> 0 | F94: =_xlfn.STDEV.S(B94:D94) -> 0 | G94: =5*(E94-0.0197)/0.0145 -> -6.7931034
A95: M1801-88 | B95: 0.1082 | C95: 0.1364 | D95: 0.1507 | E95: =AVERAGE(B95:D95) -> 0.13176667 | F95: =_xlfn.STDEV.S(B95:D95) -> 0.021625525 | G95: =5*(E95-0.0197)/0.0145 -> 38.643678
A96: M1801-89 | B96: 0.0408 | C96: 0.0407 | D96: 0.031 | E96: =AVERAGE(B96:D96) -> 0.0375 | F96: =_xlfn.STDEV.S(B96:D96) -> 0.0056293872 | G96: =5*(E96-0.0197)/0.0145 -> 6.137931
A97: M1801-90 | B97: 0.0819 | C97: 0.04 | D97: 0.017 | E97: =AVERAGE(B97:D97) -> 0.0463 | F97: =_xlfn.STDEV.S(B97:D97) -> 0.032905471 | G97: =5*(E97-0.0197)/0.0145 -> 9.1724138
A99: 标准品浓度（pg/mL） | B99: 0 | C99: 7.5 | D99: 15 | E99: 30 | F99: 60 | G99: 120
A100: OD值 | B100: 0 | C100: 0.0613 | D100: 0.1754 | E100: 0.396 | F100: 0.844 | G100: 1.402
A101: OD值 | B101: 0 | C101: 0.1279 | D101: 0.2649 | E101: 0.6062 | F101: 1.0737 | G101: 1.8662
...

Sheet MCP-1
A1: 实验时间 | B1: 43388
A2: 操作人 | B2: 马霄、刘佳、蔡辉霞
A3: 实验方法：ELISA | B3: ELISA法
A4: 实验结果
A5: 人单核细胞趋化蛋白1（MCP-1）
B6: OD值
B7: 平行1 | C7: 平行2 | D7: 平行3 | E7: 平均值 | F7: 标准差 | G7: 浓度
A8: M1801-01 | B8: 0.4981 | C8: 0.4447 | D8: 0.3652 | E8: =AVERAGE(B8:D8) -> 0.436 | F8: =STDEV(B8:D8) -> 0.06687578 | G8: =5*(E8-0.0984)/0.0068 -> 248.23529
A9: M1801-02 | B9: 0.5674 | C9: 0.4789 | D9: 0.5029 | E9: =AVERAGE(B9:D9) -> 0.5164 | F9: =STDEV(B9:D9) -> 0.045768439 | G9: =5*(E9-0.0984)/0.0068 -> 307.35294
A10: M1801-03 | B10: 0.2245 | C10: 0.1935 | D10: 0.2367 | E10: =AVERAGE(B10:D10) -> 0.21823333 | F10: =STDEV(B10:D10) -> 0.022271357 | G10: =5*(E10-0.0984)/0.0068 -> 88.112745
A11: M1801-04 | B11: 0.2447 | C11: 0.2238 | D11: 0.2194 | E11: =AVERAGE(B11:D11) -> 0.2293 | F11: =STDEV(B11:D11) -> 0.013517026 | G11: =5*(E11-0.0984)/0.0068 -> 96.25
A12: M1801-05 | B12: 0.3033 | C12: 0.234 | D12: 0.2115 | E12: =AVERAGE(B12:D12) -> 0.2496 | F12: =STDEV(B12:D12) -> 0.047846943 | G12: =5*(E12-0.0984)/0.0068 -> 111.17647
A13: M1801-06 | B13: 0.2125 | C13: 0.1988 | D13: 0.2055 | E13: =AVERAGE(B13:D13) -> 0.2056 | F13: =STDEV(B13:D13) -> 0.0068505474 | G13: =5*(E13-0.0984)/0.0068 -> 78.823529
A14: M1801-07 | B14: 0.3043 | C14: 0.3333 | D14: 0.3287 | E14: =AVERAGE(B14:D14) -> 0.3221 | F14: =STDEV(B14:D14) -> 0.015585891 | G14: =5*(E14-0.0984)/0.0068 -> 164.48529
A15: M1801-08 | B15: 1.0297 | C15: 0.8782 | D15: 1.0417 | E15: =AVERAGE(B15:D15) -> 0.9832 | F15: =STDEV(B15:D15) -> 0.091130401 | G15: =5*(E15-0.0984)/0.0068 -> 650.58824
A16: M1801-09 | B16: 0.254 | C16: 0.2324 | D16: 0.1892 | E16: =AVERAGE(B16:D16) -> 0.2252 | F16: =STDEV(B16:D16) -> 0.032994545 | G16: =5*(E16-0.0984)/0.0068 -> 93.235294
A17: M1801-10 | B17: 0.5067 | C17: 0.4601 | D17: 0.4845 | E17: =AVERAGE(B17:D17) -> 0.48376667 | F17: =STDEV(B17:D17) -> 0.023308654 | G17: =5*(E17-0.0984)/0.0068 -> 283.35784
A18: M1801-11 | B18: 3.075 | C18: 3.0787 | D18: 3.0427 | E18: =AVERAGE(B18:D18) -> 3.0654667 | F18: =STDEV(B18:D18) -> 0.019803114 | G18: =5*(E18-0.0984)/0.0068 -> 2181.6667
A19: M1801-12 | B19: 0.2581 | C19: 0.2475 | D19: 0.2413 | E19: =AVERAGE(B19:D19) -> 0.24896667 | F19: =STDEV(B19:D19) -> 0.008495489 | G19: =5*(E19-0.0984)/0.0068 -> 110.71078
... A37: M1801-30 | B37: 0.069 | C37: 0.0856 | D37: 0.0331 | E37: =AVERAGE(B37:D37) -> 0.062566667 | F37: =STDEV(B37:D37) -> 0.026834741 | G37: =5*(E37-0.0984)/0.0068 -> -26.348039
A38: M1801-31 | B38: 0.4138 | C38: 0.3675 | D38: 0.351 | E38: =AVERAGE(B38:D38) -> 0.37743333 | F38: =STDEV(B38:D38) -> 0.032557078 | G38: =5*(E38-0.0838)/0.005 -> 293.63333
A39: M1801-32 | B39: 0.0904 | C39: 0.0748 | D39: 0.0722 | E39: =AVERAGE(B39:D39) -> 0.079133333 | F39: =STDEV(B39:D39) -> 0.0098434411 | G39: =5*(E39-0.0838)/0.005 -> -4.6666667
A40: M1801-33 | B40: 0.186 | C40: 0.1785 | D40: 0.1727 | E40: =AVERAGE(B40:D40) -> 0.17906667 | F40: =STDEV(B40:D40) -> 0.0066680832 | G40: =5*(E40-0.0838)/0.005 -> 95.266667
A41: M1801-34 | B41: 0.1577 | C41: 0.1338 | D41: 0.1533 | E41: =AVERAGE(B41:D41) -> 0.14826667 | F41: =STDEV(B41:D41) -> 0.012720194 | G41: =5*(E41-0.0838)/0.005 -> 64.466667
A42: M1801-35 | B42: 0.0854 | C42: 0.0831 | D42: 0.0732 | E42: =AVERAGE(B42:D42) -> 0.080566667 | F42: =STDEV(B42:D42) -> 0.0064825407 | G42: =5*(E42-0.0838)/0.005 -> -3.2333333
A43: M1801-36 | B43: 0.1312 | C43: 0.1141 | D43: 0.1065 | E43: =AVERAGE(B43:D43) -> 0.11726667 | F43: =STDEV(B43:D43) -> 0.012650823 | G43: =5*(E43-0.0838)/0.005 -> 33.466667
A44: M1801-37 | B44: 0.2046 | C44: 0.2424 | D44: 0.2066 | E44: =AVERAGE(B44:D44) -> 0.21786667 | F44: =STDEV(B44:D44) -> 0.02127001 | G44: =5*(E44-0.0838)/0.005 -> 134.06667
A45: M1801-38 | B45: 0.1963 | C45: 0.1566 | D45: 0.2056 | E45: =AVERAGE(B45:D45) -> 0.18616667 | F45: =STDEV(B45:D45) -> 0.026024284 | G45: =5*(E45-0.0838)/0.005 -> 102.36667
A46: M1801-39 | B46: 0.2025 | C46: 0.2313 | D46: 0.2156 | E46: =AVERAGE(B46:D46) -> 0.21646667 | F46: =STDEV(B46:D46) -> 0.014419547 | G46: =5*(E46-0.0838)/0.005 -> 132.66667
A47: M1801-40 | B47: 0.1921 | C47: 0.1408 | D47: 0.1544 | E47: =AVERAGE(B47:D47) -> 0.16243333 | F47: =STDEV(B47:D47) -> 0.026576744 | G47: =5*(E47-0.0838)/0.005 -> 78.633333
A48: M1801-41 | B48: 1.6587 | C48: 1.6931 | D48: 1.7681 | E48: =AVERAGE(B48:D48) -> 1.7066333 | F48: =STDEV(B48:D48) -> 0.055941517 | G48: =5*(E48-0.0838)/0.005 -> 1622.8333
A49: M1801-42 | B49: 0.1158 | C49: 0.0923 | D49: 0.105 | E49: =AVERAGE(B49:D49) -> 0.10436667 | F49: =STDEV(B49:D49) -> 0.011762794 | G49: =5*(E49-0.0838)/0.005 -> 20.566667
... A67: M1801-60 | B67: 1.9967 | C67: 2.0035 | D67: 1.9865 | E67: =AVERAGE(B67:D67) -> 1.9955667 | F67: =STDEV(B67:D67) -> 0.008556479 | G67: =5*(E67-0.0838)/0.005 -> 1911.7667
A68: M1801-61 | B68: 0.0687 | C68: 0.03 | D68: 0.031 | E68: =AVERAGE(B68:D68) -> 0.043233333 | F68: =STDEV(B68:D68) -> 0.022060447 | G68: =5*(E68+0.0058)/0.0018 -> 136.2037
A69: M1801-62 | B69: 0 | C69: 0 | D69: 0 | E69: =AVERAGE(B69:D69) -> 0 | F69: =STDEV(B69:D69) -> 0 | G69: =5*(E69+0.0058)/0.0018 -> 16.111111
A70: M1801-63 | B70: 0 | C70: 0 | D70: 0 | E70: =AVERAGE(B70:D70) -> 0 | F70: =STDEV(B70:D70) -> 0 | G70: =5*(E70+0.0058)/0.0018 -> 16.111111
A71: M1801-64 | B71: 0 | C71: 0 | D71: 0 | E71: =AVERAGE(B71:D71) -> 0 | F71: =STDEV(B71:D71) -> 0 | G71: =5*(E71+0.0058)/0.0018 -> 16.111111
A72: M1801-65 | B72: 0 | C72: 0 | D72: 0 | E72: =AVERAGE(B72:D72) -> 0 | F72: =STDEV(B72:D72) -> 0 | G72: =5*(E72+0.0058)/0.0018 -> 16.111111
A73: M1801-66 | B73: 0 | C73: 0 | D73: 0 | E73: =AVERAGE(B73:D73) -> 0 | F73: =STDEV(B73:D73) -> 0 | G73: =5*(E73+0.0058)/0.0018 -> 16.111111
A74: M1801-67 | B74: 0 | C74: 0 | D74: 0 | E74: =AVERAGE(B74:D74) -> 0 | F74: =STDEV(B74:D74) -> 0 | G74: =5*(E74+0.0058)/0.0018 -> 16.111111
A75: M1801-68 | B75: 1.1576 | C75: 0.9918 | D75: 0.885 | E75: =AVERAGE(B75:D75) -> 1.0114667 | F75: =STDEV(B75:D75) -> 0.13736001 | G75: =5*(E75+0.0058)/0.0018 -> 2825.7407
A76: M1801-69 | B76: 1.3022 | C76: 1.4107 | D76: 1.5496 | E76: =AVERAGE(B76:D76) -> 1.4208333 | F76: =STDEV(B76:D76) -> 0.1240109 | G76: =5*(E76+0.0058)/0.0018 -> 3962.8704
A77: M1801-70 | B77: 1.4294 | C77: 1.1983 | D77: 1.219 | E77: =AVERAGE(B77:D77) -> 1.2822333 | F77: =STDEV(B77:D77) -> 0.12786963 | G77: =5*(E77+0.0058)/0.0018 -> 3577.8704
A78: M1801-71 | B78: 0 | C78: 0 | D78: 0 | E78: =AVERAGE(B78:D78) -> 0 | F78: =STDEV(B78:D78) -> 0 | G78: =5*(E78+0.0058)/0.0018 -> 16.111111
A79: M1801-72 | B79: 0 | C79: 0 | D79: 0 | E79: =AVERAGE(B79:D79) -> 0 | F79: =STDEV(B79:D79) -> 0 | G79: =5*(E79+0.0058)/0.0018 -> 16.111111
... A97: M1801-90 | B97: 0 | C97: 0 | D97: 0 | E97: =AVERAGE(B97:D97) -> 0 | F97: =STDEV(B97:D97) -> 0 | G97: =5*(E97+0.0058)/0.0018 -> 16.111111
A99: 标准品浓度（pg/mL） | B99: 0 | C99: 20 | D99: 40 | E99: 80 | F99: 160 | G99: 320
A100: OD值 | B100: 0 | C100: 0.1821 | D100: 0.3725 | E100: 0.7292 | F100: 1.3564 | G100: 2.1809
A101: OD值 | B101: 0 | C101: 0.1471 | D101: 0.275 | E101: 0.5374 | F101: 1.0525 | G101: 1.5862
A102: OD值 | B102: 0 | C102: 0.0231 | D102: 0.069 | E102: 0.1263 | F102: 0.3144 | G102: 0.5767
B105: 0 | C105: 0
B106: 20 | C106: 0.1821
B107: 40 | C107: 0.3725
B108: 80 | C108: 0.7292
B109: 160 | C109: 1.3564
B110: 320 | C110: 2.1809
B124: 0 | C124: 0
B125: 20 | C125: 0.1471
B126: 40 | C126: 0.275
B127: 80 | C127: 0.5374
B128: 160 | C128: 1.0525
B129: 320 | C129: 1.5862
... B140: 320 | C140: 0.5767

Sheet MIP-1α
A1: 实验时间 | B1: 43389
A2: 操作人 | B2: 马霄、刘佳、蔡辉霞
A3: 实验方法：ELISA | B3: ELISA法
A4: 实验结果
A5: 人巨噬细胞炎性蛋白1α（MIP-1α）
A6: 公司编号 | B6: OD值
B7: 平行1 | C7: 平行2 | D7: 平行3 | E7: 平均值 | F7: 标准差 | G7: 浓度
A8: M1801-01 | B8: 0.3147 | C8: 0.2379 | D8: 0.3205 | E8: =AVERAGE(B8:D8) -> 0.29103333 | F8: =STDEV(B8:D8) -> 0.04610611 | G8: =5*(E8-0.02)/0.011 -> 123.19697
A9: M1801-02 | B9: 0.3041 | C9: 0.3815 | D9: 0.3165 | E9: =AVERAGE(B9:D9) -> 0.33403333 | F9: =STDEV(B9:D9) -> 0.041572266 | G9: =5*(E9-0.02)/0.011 -> 142.74242
A10: M1801-03 | B10: 0.0762 | C10: 0.0977 | D10: 0.0718 | E10: =AVERAGE(B10:D10) -> 0.0819 | F10: =STDEV(B10:D10) -> 0.013858932 | G10: =5*(E10-0.02)/0.011 -> 28.136364
A11: M1801-04 | B11: 0.1128 | C11: 0.0373 | D11: 0.0707 | E11: =AVERAGE(B11:D11) -> 0.0736 | F11: =STDEV(B11:D11) -> 0.037833451 | G11: =5*(E11-0.02)/0.011 -> 24.363636
A12: M1801-05 | B12: 0.1753 | C12: 0.168 | D12: 0.1823 | E12: =AVERAGE(B12:D12) -> 0.1752 | F12: =STDEV(B12:D12) -> 0.0071505245 | G12: =5*(E12-0.02)/0.011 -> 70.545455
A13: M1801-06 | B13: 0.0596 | C13: 0.0724 | D13: 0.0455 | E13: =AVERAGE(B13:D13) -> 0.059166667 | F13: =STDEV(B13:D13) -> 0.013455234 | G13: =5*(E13-0.02)/0.011 -> 17.80303
A14: M1801-07 | B14: 0.2794 | C14: 0.1563 | D14: 0.0719 | E14: =AVERAGE(B14:D14) -> 0.1692 | F14: =STDEV(B14:D14) -> 0.10434975 | G14: =5*(E14-0.02)/0.011 -> 67.818182
A15: M1801-08 | B15: 0.7024 | C15: 0.7501 | D15: 0.8132 | E15: =AVERAGE(B15:D15) -> 0.75523333 | F15: =STDEV(B15:D15) -> 0.055578083 | G15: =5*(E15-0.02)/0.011 -> 334.19697
A16: M1801-09 | B16: 0.1504 | C16: 0.1479 | D16: 0.1233 | E16: =AVERAGE(B16:D16) -> 0.14053333 | F16: =STDEV(B16:D16) -> 0.01497676 | G16: =5*(E16-0.02)/0.011 -> 54.787879
A17: M1801-10 | B17: 0.3473 | C17: 0.2023 | D17: 0.3808 | E17: =AVERAGE(B17:D17) -> 0.31013333 | F17: =STDEV(B17:D17) -> 0.094876674 | G17: =5*(E17-0.02)/0.011 -> 131.87879
A18: M1801-11 | B18: 2.888 | C18: 3.12 | D18: 2.6195 | E18: =AVERAGE(B18:D18) -> 2.8758333 | F18: =STDEV(B18:D18) -> 0.25047172 | G18: =5*(E18-0.02)/0.011 -> 1298.1061
A19: M1801-12 | B19: 0.1234 | C19: 0.1096 | D19: 0.0328 | E19: =AVERAGE(B19:D19) -> 0.0886 | F19: =STDEV(B19:D19) -> 0.048814342 | G19: =5*(E19-0.02)/0.011 -> 31.181818
... A37: M1801-30 | B37: 0 | C37: 0 | D37: 0 | E37: =AVERAGE(B37:D37) -> 0 | F37: =STDEV(B37:D37) -> 0 | G37: =5*(E37-0.02)/0.011 -> -9.0909091
A38: M1801-31 | B38: 0.2729 | C38: 0.2421 | D38: 0.1428 | E38: =AVERAGE(B38:D38) -> 0.21926667 | F38: =STDEV(B38:D38) -> 0.067989141 | G38: =5*(E38-0.0067)/0.0073 -> 145.59361
A39: M1801-32 | B39: 0.0177 | C39: 0.0186 | D39: 0.0297 | E39: =AVERAGE(B39:D39) -> 0.022 | F39: =STDEV(B39:D39) -> 0.0066835619 | G39: =5*(E39-0.0067)/0.0073 -> 10.479452
A40: M1801-33 | B40: 0.0261 | C40: 0.1403 | D40: 0.1069 | E40: =AVERAGE(B40:D40) -> 0.0911 | F40: =STDEV(B40:D40) -> 0.058716608 | G40: =5*(E40-0.0067)/0.0073 -> 57.808219
A41: M1801-34 | B41: 0.0997 | C41: 0.0801 | D41: 0.1107 | E41: =AVERAGE(B41:D41) -> 0.096833333 | F41: =STDEV(B41:D41) -> 0.015500108 | G41: =5*(E41-0.0067)/0.0073 -> 61.73516
A42: M1801-35 | B42: 0.003 | C42: 0.0161 | D42: 0.0118 | E42: =AVERAGE(B42:D42) -> 0.0103 | F42: =STDEV(B42:D42) -> 0.0066775744 | G42: =5*(E42-0.0067)/0.0073 -> 2.4657534
A43: M1801-36 | B43: 0.0715 | C43: 0.0734 | D43: 0.0937 | E43: =AVERAGE(B43:D43) -> 0.079533333 | F43: =STDEV(B43:D43) -> 0.012305419 | G43: =5*(E43-0.0067)/0.0073 -> 49.885845
A44: M1801-37 | B44: 0.1351 | C44: 0.2014 | D44: 0.1591 | E44: =AVERAGE(B44:D44) -> 0.1652 | F44: =STDEV(B44:D44) -> 0.033568289 | G44: =5*(E44-0.0067)/0.0073 -> 108.56164
A45: M1801-38 | B45: 0.1835 | C45: 0.1558 | D45: 0.1823 | E45: =AVERAGE(B45:D45) -> 0.17386667 | F45: =STDEV(B45:D45) -> 0.015657692 | G45: =5*(E45-0.0067)/0.0073 -> 114.49772
A46: M1801-39 | B46: 0.1637 | C46: 0.1684 | D46: 0.1063 | E46: =AVERAGE(B46:D46) -> 0.14613333 | F46: =STDEV(B46:D46) -> 0.03457663 | G46: =5*(E46-0.0067)/0.0073 -> 95.502283
A47: M1801-40 | B47: 0.1013 | C47: 0.0844 | D47: 0.095 | E47: =AVERAGE(B47:D47) -> 0.093566667 | F47: =STDEV(B47:D47) -> 0.0085406869 | G47: =5*(E47-0.0067)/0.0073 -> 59.497717
A48: M1801-41 | B48: 1.2981 | C48: 1.0332 | D48: 1.2533 | E48: =AVERAGE(B48:D48) -> 1.1948667 | F48: =STDEV(B48:D48) -> 0.14178802 | G48: =5*(E48-0.0067)/0.0073 -> 813.81279
A49: M1801-42 | B49: 0.0708 | C49: 0.0625 | D49: 0.0607 | E49: =AVERAGE(B49:D49) -> 0.064666667 | F49: =STDEV(B49:D49) -> 0.0053873308 | G49: =5*(E49-0.0067)/0.0073 -> 39.703196
... A67: M1801-60 | B67: 1.6488 | C67: 1.8414 | D67: 1.7601 | E67: =AVERAGE(B67:D67) -> 1.7501 | F67: =STDEV(B67:D67) -> 0.096688624 | G67: =5*(E67-0.0067)/0.0073 -> 1194.1096
A68: M1801-61 | B68: 0.1483 | C68: 0.0605 | D68: 0.0735 | E68: =AVERAGE(B68:D68) -> 0.0941 | F68: =STDEV(B68:D68) -> 0.047386496 | G68: =5*(E68-0.0876)/0.0065 -> 5
A69: M1801-62 | B69: 0 | C69: 0 | D69: 0 | E69: =AVERAGE(B69:D69) -> 0 | F69: =STDEV(B69:D69) -> 0 | G69: =5*(E69-0.0876)/0.0065 -> -67.384615
A70: M1801-63 | B70: 0 | C70: 0 | D70: 0 | E70: =AVERAGE(B70:D70) -> 0 | F70: =STDEV(B70:D70) -> 0 | G70: =5*(E70-0.0876)/0.0065 -> -67.384615
A71: M1801-64 | B71: 0 | C71: 0 | D71: 0 | E71: =AVERAGE(B71:D71) -> 0 | F71: =STDEV(B71:D71) -> 0 | G71: =5*(E71-0.0876)/0.0065 -> -67.384615
A72: M1801-65 | B72: 0 | C72: 0 | D72: 0 | E72: =AVERAGE(B72:D72) -> 0 | F72: =STDEV(B72:D72) -> 0 | G72: =5*(E72-0.0876)/0.0065 -> -67.384615
A73: M1801-66 | B73: 0 | C73: 0 | D73: 0 | E73: =AVERAGE(B73:D73) -> 0 | F73: =STDEV(B73:D73) -> 0 | G73: =5*(E73-0.0876)/0.0065 -> -67.384615
A74: M1801-67 | B74: 0.01 | C74: 0.0461 | D74: 0.03 | E74: =AVERAGE(B74:D74) -> 0.0287 | F74: =STDEV(B74:D74) -> 0.018085077 | G74: =5*(E74-0.0876)/0.0065 -> -45.307692
A75: M1801-68 | B75: 1.5593 | C75: 1.6201 | D75: 1.7342 | E75: =AVERAGE(B75:D75) -> 1.6378667 | F75: =STDEV(B75:D75) -> 0.088793262 | G75: =5*(E75-0.0876)/0.0065 -> 1192.5128
A76: M1801-69 | B76: 2.2016 | C76: 2.2507 | D76: 2.1628 | E76: =AVERAGE(B76:D76) -> 2.2050333 | F76: =STDEV(B76:D76) -> 0.044050463 | G76: =5*(E76-0.0876)/0.0065 -> 1628.7949
A77: M1801-70 | B77: 2.2243 | C77: 2.2555 | D77: 2.2011 | E77: =AVERAGE(B77:D77) -> 2.2269667 | F77: =STDEV(B77:D77) -> 0.027297863 | G77: =5*(E77-0.0876)/0.0065 -> 1645.6667
A78: M1801-71 | B78: 0 | C78: 0 | D78: 0 | E78: =AVERAGE(B78:D78) -> 0 | F78: =STDEV(B78:D78) -> 0 | G78: =5*(E78-0.0876)/0.0065 -> -67.384615
A79: M1801-72 | B79: 0 | C79: 0 | D79: 0 | E79: =AVERAGE(B79:D79) -> 0 | F79: =STDEV(B79:D79) -> 0 | G79: =5*(E79-0.0876)/0.0065 -> -67.384615
... A97: M1801-90 | B97: 0 | C97: 0 | D97: 0 | E97: =AVERAGE(B97:D97) -> 0 | F97: =STDEV(B97:D97) -> 0 | G97: =5*(E97-0.0876)/0.0065 -> -67.384615
A99: 标准品浓度（pg/mL） | B99: 0 | C99: 10 | D99: 20 | E99: 40 | F99: 80 | G99: 160
A100: OD值 | B100: 0 | C100: 0.1019 | D100: 0.1817 | E100: 0.4736 | F100: 1.0782 | G100: 1.7008
A101: OD值 | B101: 0 | C101: 0.0639 | D101: 0.1483 | E101: 0.3162 | F101: 0.6108 | G101: 1.1568
A102: OD值 | B102: 0 | C102: 0.1431 | D102: 0.2786 | E102: 0.3262 | F102: 0.7179 | G102: 1.0622
A104: MIP-1α
A105: 0 | B105: 10 | C105: 20 | D105: 40 | E105: 80 | F105: 160 | H105: 160
A106: 0 | B106: 0.1019 | C106: 0.1817 | D106: 0.4736 | E106: 1.0782 | F106: 1.7008 | H106: 1.1568
A109: 0 | B109: 0
A110: 10 | B110: 0.1019
A111: 20 | B111: 0.1817
A112: 40 | B112: 0.4736
A113: 80 | B113: 1.0782
A114: 160 | B114: 1.7008
A123: 0 | B123: 0
A124: 10 | B124: 0.0639
A125: 20 | B125: 0.1483
A126: 40 | B126: 0.3162
A127: 80 | B127: 0.6108
A128: 160 | B128: 1.1568
... A144: 160 | B144: 1.0622

Sheet MIP-1β
A1: 实验时间 | B1: 43390
A2: 操作人 | B2: 马霄、刘佳、蔡辉霞
A3: 实验方法：ELISA | B3: ELISA法
A4: 实验结果
A5: 人巨噬细胞炎症蛋白1β（MIP-1β，CCL4）
A6: 公司编号 | B6: OD值
B7: 平行1 | C7: 平行2 | D7: 平行3 | E7: 平均值 | F7: 标准差 | G7: 浓度
A8: M1801-01 | B8: 0.1223 | C8: 0.0819 | D8: 0.0576 | E8: =AVERAGE(B8:D8) -> 0.087266667 | F8: =STDEV(B8:D8) -> 0.032682156 | G8: =5*(E8-0.0094)/0.0017 -> 229.01961 | K8: y = 0.0017x + 0.0094
A9: M1801-02 | B9: 0.1113 | C9: 0.0969 | D9: 0.0857 | E9: =AVERAGE(B9:D9) -> 0.097966667 | F9: =STDEV(B9:D9) -> 0.01283329 | G9: =5*(E9-0.0094)/0.0017 -> 260.4902 | K9: R² = 0.995
A10: M1801-03 | B10: 0 | C10: 0 | D10: 0 | E10: =AVERAGE(B10:D10) -> 0 | F10: =STDEV(B10:D10) -> 0 | G10: =5*(E10-0.0094)/0.0017 -> -27.647059
A11: M1801-04 | B11: 0 | C11: 0 | D11: 0 | E11: =AVERAGE(B11:D11) -> 0 | F11: =STDEV(B11:D11) -> 0 | G11: =5*(E11-0.0094)/0.0017 -> -27.647059
A12: M1801-05 | B12: 0.0582 | C12: 0.0483 | D12: 0.0241 | E12: =AVERAGE(B12:D12) -> 0.043533333 | F12: =STDEV(B12:D12) -> 0.017542615 | G12: =5*(E12-0.0094)/0.0017 -> 100.39216
A13: M1801-06 | B13: 0 | C13: 0 | D13: 0 | E13: =AVERAGE(B13:D13) -> 0 | F13: =STDEV(B13:D13) -> 0 | G13: =5*(E13-0.0094)/0.0017 -> -27.647059
A14: M1801-07 | B14: 0.0151 | C14: 0.0637 | D14: 0.0254 | E14: =AVERAGE(B14:D14) -> 0.034733333 | F14: =STDEV(B14:D14) -> 0.025609048 | G14: =5*(E14-0.0094)/0.0017 -> 74.509804
A15: M1801-08 | B15: 0.3115 | C15: 0.271 | D15: 0.3441 | E15: =AVERAGE(B15:D15) -> 0.30886667 | F15: =STDEV(B15:D15) -> 0.036621078 | G15: =5*(E15-0.0094)/0.0017 -> 880.78431
A16: M1801-09 | B16: 0 | C16: 0 | D16: 0 | E16: =AVERAGE(B16:D16) -> 0 | F16: =STDEV(B16:D16) -> 0 | G16: =5*(E16-0.0094)/0.0017 -> -27.647059
A17: M1801-10 | B17: 0.1212 | C17: 0.137 | D17: 0.1321 | E17: =AVERAGE(B17:D17) -> 0.1301 | F17: =STDEV(B17:D17) -> 0.0080876449 | G17: =5*(E17-0.0094)/0.0017 -> 355
A18: M1801-11 | B18: 1.0736 | C18: 1.0928 | D18: 1.0721 | E18: =AVERAGE(B18:D18) -> 1.0795 | F18: =STDEV(B18:D18) -> 0.01154253 | G18: =5*(E18-0.0094)/0.0017 -> 3147.3529
A19: M1801-12 | B19: 0.0192 | C19: 0.014 | D19: 0.02 | E19: =AVERAGE(B19:D19) -> 0.017733333 | F19: =STDEV(B19:D19) -> 0.0032578111 | G19: =5*(E19-0.0094)/0.0017 -> 24.509804
A20: M1801-13 | B20: 0 | C20: 0 | D20: 0 | E20: =AVERAGE(B20:D20) -> 0 | F20: =STDEV(B20:D20) -> 0 | G20: =5*(E20-0.0094)/0.0017 -> -27.647059
A21: M1801-14 | B21: 0 | C21: 0 | D21: 0 | E21: =AVERAGE(B21:D21) -> 0 | F21: =STDEV(B21:D21) -> 0 | G21: =5*(E21-0.0094)/0.0017 -> -27.647059
... A37: M1801-30 | B37: 0 | C37: 0 | D37: 0 | E37: =AVERAGE(B37:D37) -> 0 | F37: =STDEV(B37:D37) -> 0 | G37: =5*(E37-0.0094)/0.0017 -> -27.647059
A38: M1801-31 | B38: 0.1483 | C38: 0.1053 | D38: 0.0803 | E38: =AVERAGE(B38:D38) -> 0.1113 | F38: =STDEV(B38:D38) -> 0.034394767 | G38: =5*(E38+0.0208)/0.0033 -> 200.15152 | K38: y = 0.0033x - 0.0208
A39: M1801-32 | B39: 0 | C39: 0 | D39: 0 | E39: =AVERAGE(B39:D39) -> 0 | F39: =STDEV(B39:D39) -> 0 | G39: =5*(E39+0.0208)/0.0033 -> 31.515152 | K39: R² = 0.986
A40: M1801-33 | B40: 0 | C40: 0 | D40: 0 | E40: =AVERAGE(B40:D40) -> 0 | F40: =STDEV(B40:D40) -> 0 | G40: =5*(E40+0.0208)/0.0033 -> 31.515152
A41: M1801-34 | B41: 0 | C41: 0 | D41: 0 | E41: =AVERAGE(B41:D41) -> 0 | F41: =STDEV(B41:D41) -> 0 | G41: =5*(E41+0.0208)/0.0033 -> 31.515152
A42: M1801-35 | B42: 0 | C42: 0 | D42: 0 | E42: =AVERAGE(B42:D42) -> 0 | F42: =STDEV(B42:D42) -> 0 | G42: =5*(E42+0.0208)/0.0033 -> 31.515152
A43: M1801-36 | B43: 0 | C43: 0 | D43: 0 | E43: =AVERAGE(B43:D43) -> 0 | F43: =STDEV(B43:D43) -> 0 | G43: =5*(E43+0.0208)/0.0033 -> 31.515152
A44: M1801-37 | B44: 0 | C44: 0 | D44: 0 | E44: =AVERAGE(B44:D44) -> 0 | F44: =STDEV(B44:D44) -> 0 | G44: =5*(E44+0.0208)/0.0033 -> 31.515152
A45: M1801-38 | B45: 0 | C45: 0 | D45: 0 | E45: =AVERAGE(B45:D45) -> 0 | F45: =STDEV(B45:D45) -> 0 | G45: =5*(E45+0.0208)/0.0033 -> 31.515152
A46: M1801-39 | B46: 0 | C46: 0 | D46: 0 | E46: =AVERAGE(B46:D46) -> 0 | F46: =STDEV(B46:D46) -> 0 | G46: =5*(E46+0.0208)/0.0033 -> 31.515152
A47: M1801-40 | B47: 0 | C47: 0 | D47: 0 | E47: =AVERAGE(B47:D47) -> 0 | F47: =STDEV(B47:D47) -> 0 | G47: =5*(E47+0.0208)/0.0033 -> 31.515152
A48: M1801-41 | B48: 1.1282 | C48: 0.9439 | D48: 1.0527 | E48: =AVERAGE(B48:D48) -> 1.0416 | F48: =STDEV(B48:D48) -> 0.09265004 | G48: =5*(E48+0.0208)/0.0033 -> 1609.697
A49: M1801-42 | B49: 0 | C49: 0 | D49: 0 | E49: =AVERAGE(B49:D49) -> 0 | F49: =STDEV(B49:D49) -> 0 | G49: =5*(E49+0.0208)/0.0033 -> 31.515152
A50: M1801-43 | B50: 0 | C50: 0 | D50: 0 | E50: =AVERAGE(B50:D50) -> 0 | F50: =STDEV(B50:D50) -> 0 | G50: =5*(E50+0.0208)/0.0033 -> 31.515152
A51: M1801-44 | B51: 0 | C51: 0 | D51: 0 | E51: =AVERAGE(B51:D51) -> 0 | F51: =STDEV(B51:D51) -> 0 | G51: =5*(E51+0.0208)/0.0033 -> 31.515152
... A63: M1801-56 | B63: 0 | C63: 0 | D63: 0 | E63: =AVERAGE(B63:D63) -> 0 | F63: =STDEV(B63:D63) -> 0 | G63: =5*(E63+0.0208)/0.0033 -> 31.515152
A64: M1801-57 | B64: 0 | C64: 0 | D64: 0 | E64: =AVERAGE(B64:D64) -> 0 | F64: 0 | G64: 31.515152
A65: M1801-58 | B65: 0 | C65: 0 | D65: 0 | E65: =AVERAGE(B65:D65) -> 0 | F65: 0 | G65: 31.515152
A66: M1801-59 | B66: 0 | C66: 0 | D66: 0 | E66: =AVERAGE(B66:D66) -> 0 | F66: 0 | G66: 31.515152
A67: M1801-60 | B67: 1.299 | C67: 1.4462 | D67: 1.3492 | E67: =AVERAGE(B67:D67) -> 1.3648 | F67: 0.074829673 | G67: 2099.3939
A68: M1801-61 | B68: 0.4116 | C68: 0.3761 | D68: 0.3303 | E68: =AVERAGE(B68:D68) -> 0.37266667 | F68: 0.040758598 | G68: 271.82099
A69: M1801-62 | B69: 0.289 | C69: 0.2791 | D69: 0.2577 | E69: =AVERAGE(B69:D69) -> 0.27526667 | F69: 0.015998229 | G69: 181.6358
A70: M1801-63 | B70: 0.2721 | C70: 0.2238 | D70: 0.2095 | E70: =AVERAGE(B70:D70) -> 0.23513333 | F70: 0.032802795 | G70: 144.47531
A71: M1801-64 | B71: 0.1426 | C71: 0.1336 | D71: 0.1798 | E71: =AVERAGE(B71:D71) -> 0.152 | F71: 0.024492448 | G71: 67.5
A72: M1801-65 | B72: 0.1982 | C72: 0.22 | D72: 0.1995 | E72: =AVERAGE(B72:D72) -> 0.2059 | F72: 0.012228246 | G72: 117.40741
A73: M1801-66 | B73: 0.1495 | C73: 0.1891 | D73: 0.2253 | E73: =AVERAGE(B73:D73) -> 0.18796667 | F73: 0.037912707 | G73: 100.80247
A74: M1801-67 | B74: 0.2491 | C74: 0.2879 | D74: 0.23 | E74: =AVERAGE(B74:D74) -> 0.25566667 | F74: 0.029503277 | G74: 163.48765
A75: M1801-68 | B75: 3.0892 | C75: 2.9451 | D75: 2.9025 | E75: =AVERAGE(B75:D75) -> 2.9789333 | F75: 0.097840397 | G75: 2685.0309
... A97: M1801-90 | B97: 0.0883 | C97: 0.1233 | D97: 0.1051 | E97: =AVERAGE(B97:D97) -> 0.10556667 | F97: 0.017504666 | G97: 24.506173
A99: 标准品浓度（pg/mL） | B99: 0 | C99: 25 | D99: 50 | E99: 100 | F99: 200 | G99: 400
A100: OD值 | B100: 0 | C100: 0.0487 | D100: 0.0905 | E100: 0.1799 | F100: 0.3881 | G100: 0.6791
A101: OD值 | B101: 0 | C101: 0.0359 | D101: 0.085 | E101: 0.3144 | F101: 0.7452 | G101: 1.2577
A102: OD值 | B102: 0 | C102: 0.1512 | D102: 0.3486 | E102: 0.7279 | F102: 1.2611 | G102: 2.1521
A105: 0 | B105: 0
A106: 25 | B106: 0.0487
A107: 50 | B107: 0.0905
A108: 100 | B108: 0.1799
A109: 200 | B109: 0.3881
A110: 400 | B110: 0.6791
A122: 0 | B122: 0
A123: 25 | B123: 0.0359
A124: 50 | B124: 0.085
A125: 100 | B125: 0.3144
A126: 200 | B126: 0.7452
A127: 400 | B127: 1.2577
... A140: 400 | B140: 2.1521

Sheet RANTES
A1: 实验时间 | B1: 43391
A2: 操作人 | B2: 马霄、刘佳、蔡辉霞
A3: 实验方法：ELISA | B3: ELISA法
A4: 实验结果
A5: 人正常T细胞表达和分泌因子（RANTES，CCL5）
A6: 公司编号 | B6: OD值
B7: 平行1 | C7: 平行2 | D7: 平行3 | E7: 平均值 | F7: 标准差 | G7: 浓度
A8: M1801-01 | B8: 0.2955 | C8: 0.2597 | D8: 0.2555 | E8: =AVERAGE(B8:D8) -> 0.27023333 | F8: =STDEV(B8:D8) -> 0.021982114 | G8: =5*(E8-0.0759)/0.0034 -> 285.78431
A9: M1801-02 | B9: 0.3444 | C9: 0.3308 | D9: 0.3056 | E9: =AVERAGE(B9:D9) -> 0.32693333 | F9: =STDEV(B9:D9) -> 0.019686882 | G9: =5*(E9-0.0759)/0.0034 -> 369.16667
A10: M1801-03 | B10: 0.0177 | C10: 0.0249 | D10: 0.025 | E10: =AVERAGE(B10:D10) -> 0.022533333 | F10: =STDEV(B10:D10) -> 0.0041860881 | G10: =5*(E10-0.0759)/0.0034 -> -78.480392
A11: M1801-04 | B11: 0.0451 | C11: 0.0277 | D11: 0.0208 | E11: =AVERAGE(B11:D11) -> 0.0312 | F11: =STDEV(B11:D11) -> 0.01252238 | G11: =5*(E11-0.0759)/0.0034 -> -65.735294
A12: M1801-05 | B12: 0.1485 | C12: 0.1478 | D12: 0.1234 | E12: =AVERAGE(B12:D12) -> 0.1399 | F12: =STDEV(B12:D12) -> 0.014293705 | G12: =5*(E12-0.0759)/0.0034 -> 94.117647
A13: M1801-06 | B13: 0.0502 | C13: 0.0264 | D13: 0.0395 | E13: =AVERAGE(B13:D13) -> 0.0387 | F13: =STDEV(B13:D13) -> 0.011920151 | G13: =5*(E13-0.0759)/0.0034 -> -54.705882
A14: M1801-07 | B14: 0.0932 | C14: 0.143 | D14: 0.1341 | E14: =AVERAGE(B14:D14) -> 0.12343333 | F14: =STDEV(B14:D14) -> 0.026558301 | G14: =5*(E14-0.0759)/0.0034 -> 69.901961
A15: M1801-08 | B15: 0.5281 | C15: 0.453 | D15: 0.5338 | E15: =AVERAGE(B15:D15) -> 0.50496667 | F15: =STDEV(B15:D15) -> 0.045094604 | G15: =5*(E15-0.0759)/0.0034 -> 630.98039
A16: M1801-09 | B16: 0.0753 | C16: 0.0673 | D16: 0.0668 | E16: =AVERAGE(B16:D16) -> 0.0698 | F16: =STDEV(B16:D16) -> 0.004769696 | G16: =5*(E16-0.0759)/0.0034 -> -8.9705882
A17: M1801-10 | B17: 0.2873 | C17: 0.2303 | D17: 0.2741 | E17: =AVERAGE(B17:D17) -> 0.2639 | F17: =STDEV(B17:D17) -> 0.02983756 | G17: =5*(E17-0.0759)/0.0034 -> 276.47059
A18: M1801-11 | B18: 2.0477 | C18: 2.1497 | D18: 2.3031 | E18: =AVERAGE(B18:D18) -> 2.1668333 | F18: =STDEV(B18:D18) -> 0.12855914 | G18: =5*(E18-0.0759)/0.0034 -> 3074.902
A19: M1801-12 | B19: 0.0862 | C19: 0.0342 | D19: 0.0465 | E19: =AVERAGE(B19:D19) -> 0.055633333 | F19: =STDEV(B19:D19) -> 0.027176522 | G19: =5*(E19-0.0759)/0.0034 -> -29.803922
... A37: M1801-30 | B37: 0 | C37: 0 | D37: 0 | E37: =AVERAGE(B37:D37) -> 0 | F37: =STDEV(B37:D37) -> 0 | G37: =5*(E37-0.0759)/0.0034 -> -111.61765
A38: M1801-31 | B38: 0.455 | C38: 0.4159 | D38: 0.364 | E38: =AVERAGE(B38:D38) -> 0.41163333 | F38: =STDEV(B38:D38) -> 0.04564979 | G38: =5*(E38-0.0955)/0.0044 -> 359.24242
A39: M1801-32 | B39: 0.0709 | C39: 0.0321 | D39: 0.0511 | E39: =AVERAGE(B39:D39) -> 0.051366667 | F39: =STDEV(B39:D39) -> 0.019401375 | G39: =5*(E39-0.0955)/0.0044 -> -50.151515
A40: M1801-33 | B40: 0.2385 | C40: 0.2271 | D40: 0.253 | E40: =AVERAGE(B40:D40) -> 0.23953333 | F40: =STDEV(B40:D40) -> 0.012980883 | G40: =5*(E40-0.0955)/0.0044 -> 163.67424
A41: M1801-34 | B41: 0.1622 | C41: 0.1444 | D41: 0.1028 | E41: =AVERAGE(B41:D41) -> 0.13646667 | F41: =STDEV(B41:D41) -> 0.030484313 | G41: =5*(E41-0.0955)/0.0044 -> 46.55303
A42: M1801-35 | B42: 0.0467 | C42: 0.0542 | D42: 0.0364 | E42: =AVERAGE(B42:D42) -> 0.045766667 | F42: =STDEV(B42:D42) -> 0.0089366287 | G42: =5*(E42-0.0955)/0.0044 -> -56.515152
A43: M1801-36 | B43: 0.0898 | C43: 0.1042 | D43: 0.1001 | E43: =AVERAGE(B43:D43) -> 0.098033333 | F43: =STDEV(B43:D43) -> 0.0074191194 | G43: =5*(E43-0.0955)/0.0044 -> 2.8787879
A44: M1801-37 | B44: 0.2036 | C44: 0.2839 | D44: 0.1952 | E44: =AVERAGE(B44:D44) -> 0.22756667 | F44: =STDEV(B44:D44) -> 0.048966553 | G44: =5*(E44-0.0955)/0.0044 -> 150.07576
A45: M1801-38 | B45: 0.1881 | C45: 0.2303 | D45: 0.2164 | E45: =AVERAGE(B45:D45) -> 0.2116 | F45: =STDEV(B45:D45) -> 0.021505581 | G45: =5*(E45-0.0955)/0.0044 -> 131.93182
A46: M1801-39 | B46: 0.1892 | C46: 0.2551 | D46: 0.1643 | E46: =AVERAGE(B46:D46) -> 0.20286667 | F46: =STDEV(B46:D46) -> 0.04691741 | G46: =5*(E46-0.0955)/0.0044 -> 122.00758
A47: M1801-40 | B47: 0.1479 | C47: 0.0991 | D47: 0.1453 | E47: =AVERAGE(B47:D47) -> 0.13076667 | F47: =STDEV(B47:D47) -> 0.027454933 | G47: =5*(E47-0.0955)/0.0044 -> 40.075758
A48: M1801-41 | B48: 2.0645 | C48: 2.1305 | D48: 2.1963 | E48: =AVERAGE(B48:D48) -> 2.1304333 | F48: =STDEV(B48:D48) -> 0.065900025 | G48: =5*(E48-0.0955)/0.0044 -> 2312.4242
A49: M1801-42 | B49: 0.1459 | C49: 0.0793 | D49: 0.0904 | E49: =AVERAGE(B49:D49) -> 0.1052 | F49: =STDEV(B49:D49) -> 0.035681508 | G49: =5*(E49-0.0955)/0.0044 -> 11.022727
... A67: M1801-60 | B67: 2.469 | C67: 2.394 | D67: 2.2747 | E67: =AVERAGE(B67:D67) -> 2.3792333 | F67: =STDEV(B67:D67) -> 0.097988078 | G67: =5*(E67-0.0955)/0.0044 -> 2595.1515
A68: M1801-61 | B68: 0.1433 | C68: 0.1183 | D68: 0.1105 | E68: =AVERAGE(B68:D68) -> 0.12403333 | F68: =STDEV(B68:D68) -> 0.017135149 | G68: =5*(E68-0.0306)/0.002 -> 233.58333
A69: M1801-62 | B69: 0.0446 | C69: 0.042 | D69: 0.0344 | E69: =AVERAGE(B69:D69) -> 0.040333333 | F69: =STDEV(B69:D69) -> 0.0053003145 | G69: =5*(E69-0.0306)/0.002 -> 24.333333
A70: M1801-63 | B70: 0.0657 | C70: 0.0685 | D70: 0.0643 | E70: =AVERAGE(B70:D70) -> 0.066166667 | F70: =STDEV(B70:D70) -> 0.0021385353 | G70: =5*(E70-0.0306)/0.002 -> 88.916667
A71: M1801-64 | B71: 0.0453 | C71: 0.0353 | D71: 0.0412 | E71: =AVERAGE(B71:D71) -> 0.0406 | F71: =STDEV(B71:D71) -> 0.0050269275 | G71: =5*(E71-0.0306)/0.002 -> 25
A72: M1801-65 | B72: 0.0501 | C72: 0.0462 | D72: 0.0244 | E72: =AVERAGE(B72:D72) -> 0.040233333 | F72: =STDEV(B72:D72) -> 0.01385003 | G72: =5*(E72-0.0306)/0.002 -> 24.083333
A73: M1801-66 | B73: 0.051 | C73: 0.048 | D73: 0.0583 | E73: =AVERAGE(B73:D73) -> 0.052433333 | F73: =STDEV(B73:D73) -> 0.0052974837 | G73: =5*(E73-0.0306)/0.002 -> 54.583333
A74: M1801-67 | B74: 0.0809 | C74: 0.1155 | D74: 0.0802 | E74: =AVERAGE(B74:D74) -> 0.0922 | F74: =STDEV(B74:D74) -> 0.020181427 | G74: =5*(E74-0.0306)/0.002 -> 154
A75: M1801-68 | B75: 1.0829 | C75: 1.0652 | D75: 1.1214 | E75: =AVERAGE(B75:D75) -> 1.0898333 | F75: =STDEV(B75:D75) -> 0.028734358 | G75: =5*(E75-0.0306)/0.002 -> 2648.0833
A76: M1801-69 | B76: 1.2637 | C76: 1.3512 | D76: 1.2474 | E76: =AVERAGE(B76:D76) -> 1.2874333 | F76: =STDEV(B76:D76) -> 0.05582171 | G76: =5*(E76-0.0306)/0.002 -> 3142.0833
A77: M1801-70 | B77: 1.3296 | C77: 1.3165 | D77: 1.2407 | E77: =AVERAGE(B77:D77) -> 1.2956 | F77: =STDEV(B77:D77) -> 0.047993854 | G77: =5*(E77-0.0306)/0.002 -> 3162.5
A78: M1801-71 | B78: 0.0672 | C78: 0.1578 | D78: 0.0467 | E78: =AVERAGE(B78:D78) -> 0.090566667 | F78: =STDEV(B78:D78) -> 0.05912109 | G78: =5*(E78-0.0306)/0.002 -> 149.91667
A79: M1801-72 | B79: 0.0848 | C79: 0.0779 | D79: 0.074 | E79: =AVERAGE(B79:D79) -> 0.0789 | F79: =STDEV(B79:D79) -> 0.0054690036 | G79: =5*(E79-0.0306)/0.002 -> 120.75
... A97: M1801-90 | B97: 0.0606 | C97: 0.0537 | D97: 0.0514 | E97: =AVERAGE(B97:D97) -> 0.055233333 | F97: =STDEV(B97:D97) -> 0.0047878318 | G97: =5*(E97-0.0306)/0.002 -> 61.583333
A99: 标准品浓度（pg/mL） | B99: 0 | C99: 25 | D99: 50 | E99: 100 | F99: 200 | G99: 400
A100: OD值 | B100: 0 | C100: 0.1556 | D100: 0.2271 | E100: 0.4456 | F100: 0.9024 | G100: 1.3541
A101: OD值 | B101: 0 | C101: 0.1823 | D101: 0.3575 | E101: 0.6041 | F101: 1.0374 | G101: 1.8081
A102: OD值 | B102: 0 | C102: 0.0555 | D102: 0.1372 | E102: 0.2568 | F102: 0.484 | G102: 0.7937
A105: 0 | B105: 0
A106: 25 | B106: 0.1556
A107: 50 | B107: 0.2271
A108: 100 | B108: 0.4456
A109: 200 | B109: 0.9024
A110: 400 | B110: 1.3541
A119: 0 | B119: 0
A120: 25 | B120: 0.1823
A121: 50 | B121: 0.3575
A122: 100 | B122: 0.6041
A123: 200 | B123: 1.0374
A124: 400 | B124: 1.8081
... A139: 400 | B139: 0.7937

Sheet SDF-1α
A1: 实验时间 | B1: 43392
A2: 操作人 | B2: 马霄、刘佳、蔡辉霞
A3: 实验方法 | B3: ELISA法
A4: 实验结果
A5: 人基质细胞衍生因子1α（SDF-1α，CXCL12）
A6: 公司编号 | B6: OD值
B7: 平行1 | C7: 平行2 | D7: 平行3 | E7: 平均值 | F7: 标准差 | G7: 浓度(ng/mL) | H7: 浓度（pg/mL）
A8: M1801-01 | B8: 0.4158 | C8: 0.4031 | D8: 0.4166 | E8: =AVERAGE(B8:D8) -> 0.41183333 | F8: =STDEV(B8:D8) -> 0.0075738585 | G8: =5*(E8-0.1046)/0.2535 -> 6.0598291 | H8: =G8*1000 -> 6059.8291
A9: M1801-02 | B9: 0.441 | C9: 0.4596 | D9: 0.3722 | E9: =AVERAGE(B9:D9) -> 0.42426667 | F9: =STDEV(B9:D9) -> 0.046040127 | G9: =5*(E9-0.1046)/0.2535 -> 6.3050625 | H9: =G9*1000 -> 6305.0625
A10: M1801-03 | B10: 0.1426 | C10: 0.1622 | D10: 0.1357 | E10: =AVERAGE(B10:D10) -> 0.14683333 | F10: =STDEV(B10:D10) -> 0.013747848 | G10: =5*(E10-0.1046)/0.2535 -> 0.8330046 | H10: =G10*1000 -> 833.0046
A11: M1801-04 | B11: 0.1839 | C11: 0.1639 | D11: 0.1631 | E11: =AVERAGE(B11:D11) -> 0.1703 | F11: =STDEV(B11:D11) -> 0.011784736 | G11: =5*(E11-0.1046)/0.2535 -> 1.295858 | H11: =G11*1000 -> 1295.858
A12: M1801-05 | B12: 0.2502 | C12: 0.3083 | D12: 0.2607 | E12: =AVERAGE(B12:D12) -> 0.27306667 | F12: =STDEV(B12:D12) -> 0.03096132 | G12: =5*(E12-0.1046)/0.2535 -> 3.3228139 | H12: =G12*1000 -> 3322.8139
A13: M1801-06 | B13: 0.1191 | C13: 0.1359 | D13: 0.1676 | E13: =AVERAGE(B13:D13) -> 0.14086667 | F13: =STDEV(B13:D13) -> 0.024628507 | G13: =5*(E13-0.1046)/0.2535 -> 0.71531887 | H13: =G13*1000 -> 715.31887
A14: M1801-07 | B14: 0.2519 | C14: 0.3435 | D14: 0.2859 | E14: =AVERAGE(B14:D14) -> 0.29376667 | F14: =STDEV(B14:D14) -> 0.046303924 | G14: =5*(E14-0.1046)/0.2535 -> 3.731098 | H14: =G14*1000 -> 3731.098
A15: M1801-08 | B15: 0.9644 | C15: 0.9238 | D15: 0.779 | E15: =AVERAGE(B15:D15) -> 0.88906667 | F15: =STDEV(B15:D15) -> 0.097458162 | G15: =5*(E15-0.1046)/0.2535 -> 15.472715 | H15: =G15*1000 -> 15472.715
A16: M1801-09 | B16: 0.2439 | C16: 0.2711 | D16: 0.211 | E16: =AVERAGE(B16:D16) -> 0.242 | F16: =STDEV(B16:D16) -> 0.030095016 | G16: =5*(E16-0.1046)/0.2535 -> 2.7100592 | H16: =G16*1000 -> 2710.0592
A17: M1801-10 | B17: 0.4688 | C17: 0.3651 | D17: 0.4624 | E17: =AVERAGE(B17:D17) -> 0.4321 | F17: =STDEV(B17:D17) -> 0.058111875 | G17: =5*(E17-0.1046)/0.2535 -> 6.4595661 | H17: =G17*1000 -> 6459.5661
A18: M1801-11 | B18: 2.5785 | C18: 2.6449 | D18: 2.6847 | E18: =AVERAGE(B18:D18) -> 2.6360333 | F18: =STDEV(B18:D18) -> 0.053652338 | G18: =5*(E18-0.1046)/0.2535 -> 49.929652 | H18: =G18*1000 -> 49929.652
A19: M1801-12 | B19: 0.1976 | C19: 0.1681 | D19: 0.1826 | E19: =AVERAGE(B19:D19) -> 0.18276667 | F19: =STDEV(B19:D19) -> 0.014750706 | G19: =5*(E19-0.1046)/0.2535 -> 1.5417488 | H19: =G19*1000 -> 1541.7488
... A34: M1801-27 | B34: 0.1003 | C34: 0.0902 | D34: 0.1056 | E34: =AVERAGE(B34:D34) -> 0.0987 | F34: =STDEV(B34:D34) -> 0.007823682 | G34: =5*(E34-0.1046)/0.2535 -> -0.11637081 | H34: =G34*1000 -> -116.37081
A35: M1801-28 | C35: 0.0362 | D35: 0.0529 | E35: =AVERAGE(B35:D35) -> 0.04455 | F35: =STDEV(B35:D35) -> 0.011808683 | G35: =5*(E35-0.1046)/0.2535 -> -1.1844181 | H35: =G35*1000 -> -1184.4181
A36: M1801-29 | B36: 0.1616 | C36: 0.181 | D36: 0.1757 | E36: =AVERAGE(B36:D36) -> 0.17276667 | F36: =STDEV(B36:D36) -> 0.01002713 | G36: =5*(E36-0.1046)/0.2535 -> 1.3445102 | H36: =G36*1000 -> 1344.5102
A37: M1801-30 | B37: 0.0776 | C37: 0.0534 | D37: 0.0215 | E37: =AVERAGE(B37:D37) -> 0.050833333 | F37: =STDEV(B37:D37) -> 0.028137934 | G37: =5*(E37-0.1046)/0.2535 -> -1.0604865 | H37: =G37*1000 -> -1060.4865
A38: M1801-31 | B38: 0.2131 | C38: 0.2539 | D38: 0.2619 | E38: =AVERAGE(B38:D38) -> 0.24296667 | F38: =STDEV(B38:D38) -> 0.026172759 | G38: =5*(E38-0.0394)/0.185 -> 5.5018018 | H38: =G38*1000 -> 5501.8018
A39: M1801-32 | B39: 0.0076 | C39: 0.002 | D39: 0.0125 | E39: =AVERAGE(B39:D39) -> 0.0073666667 | F39: =STDEV(B39:D39) -> 0.0052538874 | G39: =5*(E39-0.0394)/0.185 -> -0.86576577 | H39: =G39*1000 -> -865.76577
A40: M1801-33 | B40: 0.1698 | C40: 0.2041 | D40: 0.1665 | E40: =AVERAGE(B40:D40) -> 0.18013333 | F40: =STDEV(B40:D40) -> 0.020821223 | G40: =5*(E40-0.0394)/0.185 -> 3.8036036 | H40: =G40*1000 -> 3803.6036
A41: M1801-34 | B41: 0.1278 | C41: 0.1195 | D41: 0.1058 | E41: =AVERAGE(B41:D41) -> 0.1177 | F41: =STDEV(B41:D41) -> 0.011109905 | G41: =5*(E41-0.0394)/0.185 -> 2.1162162 | H41: =G41*1000 -> 2116.2162
A42: M1801-35 | B42: 0.0388 | C42: 0.0343 | D42: 0.0497 | E42: =AVERAGE(B42:D42) -> 0.040933333 | F42: =STDEV(B42:D42) -> 0.0079185436 | G42: =5*(E42-0.0394)/0.185 -> 0.041441441 | H42: =G42*1000 -> 41.441441
A43: M1801-36 | B43: 0.0854 | C43: 0.0909 | D43: 0.0783 | E43: =AVERAGE(B43:D43) -> 0.084866667 | F43: =STDEV(B43:D43) -> 0.0063169085 | G43: =5*(E43-0.0394)/0.185 -> 1.2288288 | H43: =G43*1000 -> 1228.8288
A44: M1801-37 | B44: 0.155 | C44: 0.2382 | D44: 0.1667 | E44: =AVERAGE(B44:D44) -> 0.18663333 | F44: =STDEV(B44:D44) -> 0.045039575 | G44: =5*(E44-0.0394)/0.185 -> 3.9792793 | H44: =G44*1000 -> 3979.2793
A45: M1801-38 | B45: 0.1542 | C45: 0.1054 | D45: 0.1147 | E45: =AVERAGE(B45:D45) -> 0.12476667 | F45: =STDEV(B45:D45) -> 0.02591068 | G45: =5*(E45-0.0394)/0.185 -> 2.3072072 | H45: =G45*1000 -> 2307.2072
A46: M1801-39 | B46: 0.125 | C46: 0.1519 | D46: 0.1435 | E46: =AVERAGE(B46:D46) -> 0.14013333 | F46: =STDEV(B46:D46) -> 0.013762388 | G46: =5*(E46-0.0394)/0.185 -> 2.7225225 | H46: =G46*1000 -> 2722.5225
A47: M1801-40 | B47: 0.1208 | C47: 0.1218 | D47: 0.114 | E47: =AVERAGE(B47:D47) -> 0.11886667 | F47: =STDEV(B47:D47) -> 0.0042442117 | G47: =5*(E47-0.0394)/0.185 -> 2.1477477 | H47: =G47*1000 -> 2147.7477
A48: M1801-41 | B48: 1.2665 | C48: 1.2989 | D48: 1.2455 | E48: =AVERAGE(B48:D48) -> 1.2703 | F48: =STDEV(B48:D48) -> 0.026902045 | G48: =5*(E48-0.0394)/0.185 -> 33.267568 | H48: =G48*1000 -> 33267.568
A49: M1801-42 | B49: 0.0992 | C49: 0.0641 | D49: 0.0593 | E49: =AVERAGE(B49:D49) -> 0.0742 | F49: =STDEV(B49:D49) -> 0.02178325 | G49: =5*(E49-0.0394)/0.185 -> 0.94054054 | H49: =G49*1000 -> 940.54054
... A67: M1801-60 | B67: 1.9087 | C67: 1.83 | D67: 1.3823 | E67: =AVERAGE(B67:D67) -> 1.707 | F67: =STDEV(B67:D67) -> 0.28393836 | G67: =5*(E67-0.0394)/0.185 -> 45.07027 | H67: =G67*1000 -> 45070.27
A68: M1801-61 | B68: 0.0788 | C68: 0.0691 | D68: 0.0762 | E68: =AVERAGE(B68:D68) -> 0.0747 | F68: =STDEV(B68:D68) -> 0.0050209561 | G68: =5*(E68+0.0009)/0.1212 -> 3.1188119 | H68: =G68*1000 -> 3118.8119
A69: M1801-62 | B69: 0 | C69: 0 | D69: 0 | E69: =AVERAGE(B69:D69) -> 0 | F69: =STDEV(B69:D69) -> 0 | G69: =5*(E69+0.0009)/0.1212 -> 0.037128713 | H69: =G69*1000 -> 37.128713
A70: M1801-63 | B70: 0 | C70: 0 | D70: 0 | E70: =AVERAGE(B70:D70) -> 0 | F70: =STDEV(B70:D70) -> 0 | G70: =5*(E70+0.0009)/0.1212 -> 0.037128713 | H70: =G70*1000 -> 37.128713
A71: M1801-64 | B71: 0 | C71: 0 | D71: 0 | E71: =AVERAGE(B71:D71) -> 0 | F71: =STDEV(B71:D71) -> 0 | G71: =5*(E71+0.0009)/0.1212 -> 0.037128713 | H71: =G71*1000 -> 37.128713
A72: M1801-65 | B72: 0 | C72: 0 | D72: 0 | E72: =AVERAGE(B72:D72) -> 0 | F72: =STDEV(B72:D72) -> 0 | G72: =5*(E72+0.0009)/0.1212 -> 0.037128713 | H72: =G72*1000 -> 37.128713
A73: M1801-66 | B73: 0 | C73: 0 | D73: 0 | E73: =AVERAGE(B73:D73) -> 0 | F73: =STDEV(B73:D73) -> 0 | G73: =5*(E73+0.0009)/0.1212 -> 0.037128713 | H73: =G73*1000 -> 37.128713
A74: M1801-67 | B74: 0.0107 | C74: 0.041 | D74: 0.0167 | E74: =AVERAGE(B74:D74) -> 0.0228 | F74: =STDEV(B74:D74) -> 0.016044625 | G74: =5*(E74+0.0009)/0.1212 -> 0.97772277 | H74: =G74*1000 -> 977.72277
A75: M1801-68 | B75: 1.349 | C75: 1.2604 | D75: 1.1274 | E75: =AVERAGE(B75:D75) -> 1.2456 | F75: =STDEV(B75:D75) -> 0.11153887 | G75: =5*(E75+0.0009)/0.1212 -> 51.423267 | H75: =G75*1000 -> 51423.267
A76: M1801-69 | B76: 1.359 | C76: 1.3589 | D76: 1.3271 | E76: =AVERAGE(B76:D76) -> 1.3483333 | F76: =STDEV(B76:D76) -> 0.018388674 | G76: =5*(E76+0.0009)/0.1212 -> 55.661441 | H76: =G76*1000 -> 55661.441
A77: M1801-70 | B77: 1.4132 | C77: 1.3307 | D77: 1.3685 | E77: =AVERAGE(B77:D77) -> 1.3708 | F77: =STDEV(B77:D77) -> 0.041298063 | G77: =5*(E77+0.0009)/0.1212 -> 56.588284 | H77: =G77*1000 -> 56588.284
A78: M1801-71 | B78: 0 | C78: 0 | D78: 0 | E78: =AVERAGE(B78:D78) -> 0 | F78: =STDEV(B78:D78) -> 0 | G78: =5*(E78+0.0009)/0.1212 -> 0.037128713 | H78: =G78*1000 -> 37.128713
A79: M1801-72 | B79: 0 | C79: 0 | D79: 0 | E79: =AVERAGE(B79:D79) -> 0 | F79: =STDEV(B79:D79) -> 0 | G79: =5*(E79+0.0009)/0.1212 -> 0.037128713 | H79: =G79*1000 -> 37.128713
... A97: M1801-90 | B97: 0 | C97: 0 | D97: 0 | E97: =AVERAGE(B97:D97) -> 0 | F97: =STDEV(B97:D97) -> 0 | G97: =5*(E97+0.0009)/0.1212 -> 0.037128713 | H97: =G97*1000 -> 37.128713
A99: 标准品浓度（ng/mL） | B99: 0 | C99: 0.5 | D99: 1 | E99: 2 | F99: 4 | G99: 8
A100: OD值 | B100: 0 | C100: 0.1727 | D100: 0.359 | E100: 0.6654 | F100: 1.3555 | G100: 2.0042
A101: OD值 | B101: 0 | C101: 0.0991 | D101: 0.2277 | E101: 0.4504 | F101: 0.8527 | G101: 1.4743
A102: OD值 | B102: 0 | C102: 0.0188 | D102: 0.1022 | E102: 0.2579 | F102: 0.5654 | G102: 0.9284
A104: 0 | B104: 0
A105: 0.5 | B105: 0.1727
A106: 1 | B106: 0.359
A107: 2 | B107: 0.6654
A108: 4 | B108: 1.3555
A109: 8 | B109: 2.0042
A121: 0 | B121: 0
A122: 0.5 | B122: 0.0991
A123: 1 | B123: 0.2277
A124: 2 | B124: 0.4504
A125: 4 | B125: 0.8527
A126: 8 | B126: 1.4743
... A141: 8 | B141: 0.9284

Sheet TNF-α
A1: 实验时间 | B1: 43395
A2: 操作人 | B2: 马霄、刘佳、蔡辉霞
A3: 实验方法 | B3: ELISA法
A4: 实验结果
A5: 人肿瘤坏死因子α（TNF-α）
A6: 公司编号 | B6: OD值
B7: 平行1 | C7: 平行2 | D7: 平行3 | E7: 平均值 | F7: 标准差 | G7: 浓度
A8: M1801-01 | B8: 0.2687 | C8: 0.2082 | D8: 0.2068 | E8: =AVERAGE(B8:D8) -> 0.2279 | F8: =STDEV(B8:D8) -> 0.03534077 | G8: =5*(E8-0.0797)/0.0163 -> 45.460123
A9: M1801-02 | B9: 0.3088 | C9: 0.3006 | D9: 0.2712 | E9: =AVERAGE(B9:D9) -> 0.29353333 | F9: =STDEV(B9:D9) -> 0.019771023 | G9: =5*(E9-0.0797)/0.0163 -> 65.593047
A10: M1801-03 | B10: 0.0928 | C10: 0.089 | D10: 0.0855 | E10: =AVERAGE(B10:D10) -> 0.0891 | F10: =STDEV(B10:D10) -> 0.0036510273 | G10: =5*(E10-0.0797)/0.0163 -> 2.8834356
A11: M1801-04 | B11: 0.1089 | C11: 0.083 | D11: 0.0963 | E11: =AVERAGE(B11:D11) -> 0.096066667 | F11: =STDEV(B11:D11) -> 0.012951576 | G11: =5*(E11-0.0797)/0.0163 -> 5.0204499
A12: M1801-05 | B12: 0.1227 | C12: 0.1299 | D12: 0.0993 | E12: =AVERAGE(B12:D12) -> 0.1173 | F12: =STDEV(B12:D12) -> 0.01599875 | G12: =5*(E12-0.0797)/0.0163 -> 11.533742
A13: M1801-06 | B13: 0.0478 | C13: 0.047 | D13: 0.0666 | E13: =AVERAGE(B13:D13) -> 0.0538 | F13: =STDEV(B13:D13) -> 0.01109234 | G13: =5*(E13-0.0797)/0.0163 -> -7.9447853
A14: M1801-07 | B14: 0.1781 | C14: 0.2393 | D14: 0.1605 | E14: =AVERAGE(B14:D14) -> 0.19263333 | F14: =STDEV(B14:D14) -> 0.041361496 | G14: =5*(E14-0.0797)/0.0163 -> 34.642127
